﻿BEGIN:VCALENDAR
CALSCALE:GREGORIAN
METHOD:PUBLISH
PRODID:-//MAI-dep406//MAI Dep406 1.01//RU
VERSION:2.0
X-WR-TIMEZONE:Europe/Moscow
BEGIN:VTIMEZONE
TZID:Europe/Moscow
X-LIC-LOCATION:Europe/Moscow
BEGIN:STANDARD
DTSTART;VALUE=DATE:19700101
TZNAME:GMT+3
TZOFFSETTO:+0300
END:STANDARD
END:VTIMEZONE
BEGIN:VEVENT
ATTENDEE;CN=М2О-105СВ-25:https://public.mai.ru/schedule/data/99faab8791
 79b6d504df42015d1ac027.json
DESCRIPTION:Группы: М2О-105СВ-25
DTSTAMP:20260419T190247Z
DTSTART;TZID=Europe/Moscow:20260331T163000
DURATION:PT3H15M
LOCATION:2-200(2А)
RRULE:FREQ=DAILY;INTERVAL=14;COUNT=4
SEQUENCE:0
SUMMARY:[ПЗ 2п.]Управление ЖЦ ДЛА (105СВ)
UID:f27088dc-d3a8-4e67-9a9c-379b270854c0
END:VEVENT
BEGIN:VEVENT
ATTENDEE;CN=М2О-103СВ-25:https://public.mai.ru/schedule/data/8ce2cb2328
 b47297d75d45a6da13a910.json
DESCRIPTION:Группы: М2О-103СВ-25
DTSTAMP:20260419T190247Z
DTSTART;TZID=Europe/Moscow:20260402T163000
DURATION:PT1H30M
LOCATION:2-200(2А)
RRULE:FREQ=DAILY;INTERVAL=14;COUNT=3
SEQUENCE:0
SUMMARY:[ПЗ 1п.]Управление ЖЦ ДЛА (103СВ)
UID:e9b82b5a-eb42-4781-bcb4-132080f36952
END:VEVENT
BEGIN:VEVENT
ATTENDEE;CN=М2О-103СВ-25:https://public.mai.ru/schedule/data/8ce2cb2328
 b47297d75d45a6da13a910.json
DESCRIPTION:Группы: М2О-103СВ-25
DTSTAMP:20260419T190247Z
DTSTART;TZID=Europe/Moscow:20260410T163000
DURATION:PT1H30M
LOCATION:2-200(2А)
RRULE:FREQ=DAILY;INTERVAL=14;COUNT=3
SEQUENCE:0
SUMMARY:[ПЗ 1п.]Управление ЖЦ ДЛА (103СВ)
UID:7519dfed-11ee-4da2-a77a-ed65bda36f75
END:VEVENT
END:VCALENDAR
