﻿BEGIN:VCALENDAR
CALSCALE:GREGORIAN
METHOD:PUBLISH
PRODID:-//MAI-dep406//MAI Dep406 1.01//RU
VERSION:2.0
X-WR-TIMEZONE:Europe/Moscow
BEGIN:VTIMEZONE
TZID:Europe/Moscow
X-LIC-LOCATION:Europe/Moscow
BEGIN:STANDARD
DTSTART;VALUE=DATE:19700101
TZNAME:GMT+3
TZOFFSETTO:+0300
END:STANDARD
END:VTIMEZONE
BEGIN:VEVENT
ATTENDEE;CN=М1О-220Мки-24:https://public.mai.ru/schedule/data/e76c500f
 ba882c07db21e7ee8fc19719.json
DESCRIPTION:Группы: М1О-220Мки-24
DTSTAMP:20260421T201322Z
DTSTART;TZID=Europe/Moscow:20260210T130000
DURATION:PT3H15M
LOCATION:ГУК Б-320
RRULE:FREQ=DAILY;INTERVAL=7;COUNT=15
SEQUENCE:0
SUMMARY:[ЛК 2п.]Решения Open Source для моделирован
 ия и оптимизации сложных технических си
 стем (220Мки)
UID:03ebb936-1b62-4031-bd7d-8fa522ead5d6
END:VEVENT
END:VCALENDAR
