﻿BEGIN:VCALENDAR
CALSCALE:GREGORIAN
METHOD:PUBLISH
PRODID:-//MAI-dep406//MAI Dep406 1.01//RU
VERSION:2.0
X-WR-TIMEZONE:Europe/Moscow
BEGIN:VTIMEZONE
TZID:Europe/Moscow
X-LIC-LOCATION:Europe/Moscow
BEGIN:STANDARD
DTSTART;VALUE=DATE:19700101
TZNAME:GMT+3
TZOFFSETTO:+0300
END:STANDARD
END:VTIMEZONE
BEGIN:VEVENT
ATTENDEE;CN=М8О-402Б-22:https://public.mai.ru/schedule/data/8c4624d2b4fd
 4e5e24907acf90daa7a0.json
DESCRIPTION:Группы: М8О-402Б-22
DTSTAMP:20260420T071228Z
DTSTART;TZID=Europe/Moscow:20260209T090000
DURATION:PT3H15M
LOCATION:ГУК А-624
RRULE:FREQ=DAILY;INTERVAL=7;COUNT=3
SEQUENCE:0
SUMMARY:[ЛК 2п.]Интеллектуальные мехатронные 
 системы и машинное обучение (402Б)
UID:784b723e-1d30-4402-b5f5-54ab0194d11e
END:VEVENT
BEGIN:VEVENT
ATTENDEE;CN=М8О-402Б-22:https://public.mai.ru/schedule/data/8c4624d2b4fd
 4e5e24907acf90daa7a0.json
DESCRIPTION:Группы: М8О-402Б-22
DTSTAMP:20260420T071228Z
DTSTART;TZID=Europe/Moscow:20260316T090000
DURATION:PT3H15M
LOCATION:ГУК А-624
RRULE:FREQ=DAILY;INTERVAL=7;COUNT=9
SEQUENCE:0
SUMMARY:[ЛР 2п.]Интеллектуальные мехатронные 
 системы и машинное обучение (402Б)
UID:fe52d319-2f4e-42a6-bb88-3da398250c9a
END:VEVENT
BEGIN:VEVENT
ATTENDEE;CN=М8О-402Б-22:https://public.mai.ru/schedule/data/8c4624d2b4fd
 4e5e24907acf90daa7a0.json
DESCRIPTION:Группы: М8О-402Б-22
DTSTAMP:20260420T071228Z
DTSTART;TZID=Europe/Moscow:20260219T090000
DURATION:PT7H15M
LOCATION:ГУК А-624
RRULE:FREQ=DAILY;INTERVAL=14;COUNT=6
SEQUENCE:0
SUMMARY:[ЛК\,ЛР 4п.]Управление движением в дин
 амике ЛА (402Б)
UID:24bcbd8d-8cba-41ef-96b7-73b55c70089e
END:VEVENT
BEGIN:VEVENT
ATTENDEE;CN=М8О-202БВ-24:https://public.mai.ru/schedule/data/5f548a67a5
 8f8d7dd8d228300b4a2bca.json
DESCRIPTION:Группы: М8О-202БВ-24
DTSTAMP:20260420T071228Z
DTSTART;TZID=Europe/Moscow:20260302T130000
DURATION:PT3H15M
LOCATION:ГУК Б-637
RRULE:FREQ=DAILY;INTERVAL=14;COUNT=6
SEQUENCE:0
SUMMARY:[ЛР 2п.]Теоретическая механика (202БВ)
UID:cc29525f-8044-446e-931e-f24366f07131
END:VEVENT
BEGIN:VEVENT
ATTENDEE;CN=М8О-402Б-22:https://public.mai.ru/schedule/data/8c4624d2b4fd
 4e5e24907acf90daa7a0.json
DESCRIPTION:Группы: М8О-402Б-22
DTSTAMP:20260420T071228Z
DTSTART;TZID=Europe/Moscow:20260430T130000
DURATION:PT3H15M
LOCATION:ГУК А-624
RRULE:FREQ=DAILY;INTERVAL=0;COUNT=1
SEQUENCE:0
SUMMARY:[ЛР 2п.]Управление движением в динами
 ке ЛА (402Б)
UID:4885be31-8c1f-4bae-aa09-8db7adf08679
END:VEVENT
END:VCALENDAR
