﻿BEGIN:VCALENDAR
CALSCALE:GREGORIAN
METHOD:PUBLISH
PRODID:-//MAI-dep406//MAI Dep406 1.01//RU
VERSION:2.0
X-WR-TIMEZONE:Europe/Moscow
BEGIN:VTIMEZONE
TZID:Europe/Moscow
X-LIC-LOCATION:Europe/Moscow
BEGIN:STANDARD
DTSTART;VALUE=DATE:19700101
TZNAME:GMT+3
TZOFFSETTO:+0300
END:STANDARD
END:VTIMEZONE
BEGIN:VEVENT
ATTENDEE;CN=М5О-310Б-23:https://public.mai.ru/schedule/data/bde9b8be5078
 e359054e983979bc83b9.json
DESCRIPTION:Группы: М5О-310Б-23
DTSTAMP:20260420T004234Z
DTSTART;TZID=Europe/Moscow:20260216T130000
DURATION:PT3H15M
LOCATION:5-211
RRULE:FREQ=DAILY;INTERVAL=14;COUNT=4
SEQUENCE:0
SUMMARY:[ЛР 2п.]Экономическое прогнозировани
 е (310Б)
UID:d94ff43c-2b48-48ec-baa2-714b8ea548a6
END:VEVENT
BEGIN:VEVENT
ATTENDEE;CN=М5О-311Бк-23:https://public.mai.ru/schedule/data/d34afd1ca8
 c06d39db44691ec71c6a88.json
DESCRIPTION:Группы: М5О-311Бк-23
DTSTAMP:20260420T004234Z
DTSTART;TZID=Europe/Moscow:20260427T130000
DURATION:PT3H15M
LOCATION:5-211
RRULE:FREQ=DAILY;INTERVAL=14;COUNT=3
SEQUENCE:0
SUMMARY:[ЛР 2п.]Экономическое прогнозировани
 е (311Бк)
UID:0d37bacd-3d86-4cfa-899e-a56e30ef2384
END:VEVENT
BEGIN:VEVENT
ATTENDEE;CN=М5О-310Б-23:https://public.mai.ru/schedule/data/bde9b8be5078
 e359054e983979bc83b9.json
DESCRIPTION:Группы: М5О-310Б-23
DTSTAMP:20260420T004234Z
DTSTART;TZID=Europe/Moscow:20260216T181500
DURATION:PT1H30M
LOCATION:5-211
RRULE:FREQ=DAILY;INTERVAL=14;COUNT=3
SEQUENCE:0
SUMMARY:[ЛР 1п.]Экономическое прогнозировани
 е (310Б)
UID:0d557f39-bce5-428d-868d-55dac9b5b75e
END:VEVENT
BEGIN:VEVENT
ATTENDEE;CN=М5О-313Бк-23:https://public.mai.ru/schedule/data/b244f7e34f
 8a152360622e8db0ddaf66.json
DESCRIPTION:Группы: М5О-313Бк-23
DTSTAMP:20260420T004234Z
DTSTART;TZID=Europe/Moscow:20260219T130000
DURATION:PT3H15M
LOCATION:5-211
RRULE:FREQ=DAILY;INTERVAL=7;COUNT=10
SEQUENCE:0
SUMMARY:[ЛР 2п.]Экономическое прогнозировани
 е (313Бк)
UID:9f2aead3-af0f-49fd-98a4-2b9a704dcbfa
END:VEVENT
BEGIN:VEVENT
ATTENDEE;CN=М5О-313Бк-23:https://public.mai.ru/schedule/data/b244f7e34f
 8a152360622e8db0ddaf66.json
DESCRIPTION:Группы: М5О-313Бк-23
DTSTAMP:20260420T004234Z
DTSTART;TZID=Europe/Moscow:20260514T130000
DURATION:PT3H15M
LOCATION:5-211
RRULE:FREQ=DAILY;INTERVAL=7;COUNT=2
SEQUENCE:0
SUMMARY:[ЛР 2п.]Экономическое прогнозировани
 е (313Бк)
UID:b71d3204-8a9e-4245-8997-d454acf3207c
END:VEVENT
BEGIN:VEVENT
ATTENDEE;CN=М7О-304БВ-23:https://public.mai.ru/schedule/data/b77b282691
 ec30c8a1d43caf6ab5740c.json
ATTENDEE;CN=М7О-307БВ-23:https://public.mai.ru/schedule/data/10d03c82b5
 c1e8e81767b1367f22e377.json
DESCRIPTION:Группы: М7О-304БВ-23\,М7О-307БВ-23
DTSTAMP:20260420T004234Z
DTSTART;TZID=Europe/Moscow:20260220T104500
DURATION:PT1H30M
LOCATION:5-423
RRULE:FREQ=DAILY;INTERVAL=7;COUNT=11
SEQUENCE:0
SUMMARY:[ПЗ 1п.]Экономика и организация промы
 шленности (304БВ\,307БВ)
UID:21b739f2-738e-45f8-89b5-5b9a14d2f5c2
END:VEVENT
BEGIN:VEVENT
ATTENDEE;CN=М7О-304БВ-23:https://public.mai.ru/schedule/data/b77b282691
 ec30c8a1d43caf6ab5740c.json
ATTENDEE;CN=М7О-307БВ-23:https://public.mai.ru/schedule/data/10d03c82b5
 c1e8e81767b1367f22e377.json
DESCRIPTION:Группы: М7О-304БВ-23\,М7О-307БВ-23
DTSTAMP:20260420T004234Z
DTSTART;TZID=Europe/Moscow:20260515T104500
DURATION:PT1H30M
LOCATION:5-423
RRULE:FREQ=DAILY;INTERVAL=7;COUNT=1
SEQUENCE:0
SUMMARY:[ПЗ 1п.]Экономика и организация промы
 шленности (304БВ\,307БВ)
UID:a4db515c-ee42-47ba-82a9-3adfeb66bf57
END:VEVENT
BEGIN:VEVENT
ATTENDEE;CN=М7О-303БВ-23:https://public.mai.ru/schedule/data/6d9b3e5190
 f97076b50018db55b3d32a.json
DESCRIPTION:Группы: М7О-303БВ-23
DTSTAMP:20260420T004234Z
DTSTART;TZID=Europe/Moscow:20260220T130000
DURATION:PT1H30M
LOCATION:5-401б
RRULE:FREQ=DAILY;INTERVAL=7;COUNT=11
SEQUENCE:0
SUMMARY:[ПЗ 1п.]Экономика и организация промы
 шленности (303БВ)
UID:be8bab92-f4af-4a1f-a9a4-e444a459f204
END:VEVENT
BEGIN:VEVENT
ATTENDEE;CN=М7О-303БВ-23:https://public.mai.ru/schedule/data/6d9b3e5190
 f97076b50018db55b3d32a.json
DESCRIPTION:Группы: М7О-303БВ-23
DTSTAMP:20260420T004234Z
DTSTART;TZID=Europe/Moscow:20260515T130000
DURATION:PT1H30M
LOCATION:5-401б
RRULE:FREQ=DAILY;INTERVAL=7;COUNT=1
SEQUENCE:0
SUMMARY:[ПЗ 1п.]Экономика и организация промы
 шленности (303БВ)
UID:25cc7cc4-84c6-42ca-9d2e-89bbb82b11fd
END:VEVENT
BEGIN:VEVENT
ATTENDEE;CN=М2О-317Бки-23:https://public.mai.ru/schedule/data/c1c069cf
 8af614612ac5489f3bc8ddcb.json
DESCRIPTION:Группы: М2О-317Бки-23
DTSTAMP:20260420T004234Z
DTSTART;TZID=Europe/Moscow:20260323T130000
DURATION:PT3H15M
LOCATION:ГУК В-701-и
RRULE:FREQ=DAILY;INTERVAL=14;COUNT=5
SEQUENCE:0
SUMMARY:[ПЗ 2п.]Экономика и организация промы
 шленности (317Бки)
UID:48b6553e-6c35-4658-a680-2e3f8b48e8b7
END:VEVENT
BEGIN:VEVENT
ATTENDEE;CN=М2О-317Бки-23:https://public.mai.ru/schedule/data/c1c069cf
 8af614612ac5489f3bc8ddcb.json
DESCRIPTION:Группы: М2О-317Бки-23
DTSTAMP:20260420T004234Z
DTSTART;TZID=Europe/Moscow:20260413T090000
DURATION:PT3H15M
LOCATION:ГУК В-702-и
RRULE:FREQ=DAILY;INTERVAL=14;COUNT=2
SEQUENCE:0
SUMMARY:[ПЗ 2п.]Экономика и организация промы
 шленности (317Бки)
UID:a673082f-94ed-48b7-8d60-07c1f371836c
END:VEVENT
BEGIN:VEVENT
ATTENDEE;CN=М5О-305Бк-23:https://public.mai.ru/schedule/data/2542deed8d
 e878a7ba9b63eca7bacade.json
DESCRIPTION:Группы: М5О-305Бк-23
DTSTAMP:20260420T004234Z
DTSTART;TZID=Europe/Moscow:20260420T090000
DURATION:PT3H15M
LOCATION:5-211
RRULE:FREQ=DAILY;INTERVAL=14;COUNT=4
SEQUENCE:0
SUMMARY:[ЛР 2п.]Экономическое прогнозировани
 е (305Бк)
UID:e54dab1e-83a5-471a-9710-77ebdc284ebc
END:VEVENT
BEGIN:VEVENT
ATTENDEE;CN=М5О-302Бк-23:https://public.mai.ru/schedule/data/c66d18d67d
 4740c2f6bafc0bdc3503b0.json
DESCRIPTION:Группы: М5О-302Бк-23
DTSTAMP:20260420T004234Z
DTSTART;TZID=Europe/Moscow:20260422T090000
DURATION:PT3H15M
LOCATION:5-211
RRULE:FREQ=DAILY;INTERVAL=14;COUNT=4
SEQUENCE:0
SUMMARY:[ЛР 2п.]Экономическое прогнозировани
 е (302Бк)
UID:ccdbe236-5f52-4987-add9-da123156a618
END:VEVENT
BEGIN:VEVENT
ATTENDEE;CN=М5О-310Б-23:https://public.mai.ru/schedule/data/bde9b8be5078
 e359054e983979bc83b9.json
DESCRIPTION:Группы: М5О-310Б-23
DTSTAMP:20260420T004234Z
DTSTART;TZID=Europe/Moscow:20260525T163000
DURATION:PT1H30M
LOCATION:5-211
RRULE:FREQ=DAILY;INTERVAL=0;COUNT=1
SEQUENCE:0
SUMMARY:[ЛР 1п.]Экономическое прогнозировани
 е (310Б)
UID:b6141022-c52c-45b9-8cb6-db7c25290449
END:VEVENT
END:VCALENDAR
