﻿BEGIN:VCALENDAR
CALSCALE:GREGORIAN
METHOD:PUBLISH
PRODID:-//MAI-dep406//MAI Dep406 1.01//RU
VERSION:2.0
X-WR-TIMEZONE:Europe/Moscow
BEGIN:VTIMEZONE
TZID:Europe/Moscow
X-LIC-LOCATION:Europe/Moscow
BEGIN:STANDARD
DTSTART;VALUE=DATE:19700101
TZNAME:GMT+3
TZOFFSETTO:+0300
END:STANDARD
END:VTIMEZONE
BEGIN:VEVENT
ATTENDEE;CN=М1О-217Мки-24:https://public.mai.ru/schedule/data/c061d282
 fc58518c04064605e685c375.json
DESCRIPTION:Группы: М1О-217Мки-24
DTSTAMP:20260422T100906Z
DTSTART;TZID=Europe/Moscow:20260209T104500
DURATION:PT1H30M
LOCATION:ГУК В-706-и
RRULE:FREQ=DAILY;INTERVAL=0;COUNT=1
SEQUENCE:0
SUMMARY:[ЛК 1п.]Бизнес-аналитика и основы рабо
 ты с базами данных (217Мки)
UID:79d3e0da-b81b-45d6-b5ce-caf02b67eeed
END:VEVENT
BEGIN:VEVENT
ATTENDEE;CN=М1О-217Мки-24:https://public.mai.ru/schedule/data/c061d282
 fc58518c04064605e685c375.json
DESCRIPTION:Группы: М1О-217Мки-24
DTSTAMP:20260422T100906Z
DTSTART;TZID=Europe/Moscow:20260214T130000
DURATION:PT1H30M
LOCATION:ГУК В-706-и
RRULE:FREQ=DAILY;INTERVAL=7;COUNT=6
SEQUENCE:0
SUMMARY:[ЛК 1п.]Бизнес-аналитика и основы рабо
 ты с базами данных (217Мки)
UID:8aed20cf-76b4-44ba-abdc-91cf1f24e7dc
END:VEVENT
BEGIN:VEVENT
ATTENDEE;CN=М1О-217Мки-24:https://public.mai.ru/schedule/data/c061d282
 fc58518c04064605e685c375.json
DESCRIPTION:Группы: М1О-217Мки-24
DTSTAMP:20260422T100906Z
DTSTART;TZID=Europe/Moscow:20260328T104500
DURATION:PT3H45M
LOCATION:ГУК В-706-и
RRULE:FREQ=DAILY;INTERVAL=7;COUNT=7
SEQUENCE:0
SUMMARY:[ПЗ\,ЛК 2п.]Бизнес-аналитика и основы р
 аботы с базами данных (217Мки)
UID:7cc611c6-f542-4c14-b15b-7096c33628bc
END:VEVENT
BEGIN:VEVENT
ATTENDEE;CN=М1О-217Мки-24:https://public.mai.ru/schedule/data/c061d282
 fc58518c04064605e685c375.json
DESCRIPTION:Группы: М1О-217Мки-24
DTSTAMP:20260422T100906Z
DTSTART;TZID=Europe/Moscow:20260523T104500
DURATION:PT3H45M
LOCATION:ГУК В-706-и
RRULE:FREQ=DAILY;INTERVAL=7;COUNT=2
SEQUENCE:0
SUMMARY:[ПЗ\,ЛК 2п.]Бизнес-аналитика и основы р
 аботы с базами данных (217Мки)
UID:67d101c5-55ab-4b36-92d5-37b653264932
END:VEVENT
END:VCALENDAR
