﻿BEGIN:VCALENDAR
CALSCALE:GREGORIAN
METHOD:PUBLISH
PRODID:-//MAI-dep406//MAI Dep406 1.01//RU
VERSION:2.0
X-WR-TIMEZONE:Europe/Moscow
BEGIN:VTIMEZONE
TZID:Europe/Moscow
X-LIC-LOCATION:Europe/Moscow
BEGIN:STANDARD
DTSTART;VALUE=DATE:19700101
TZNAME:GMT+3
TZOFFSETTO:+0300
END:STANDARD
END:VTIMEZONE
BEGIN:VEVENT
ATTENDEE;CN=М3О-435Б-22:https://public.mai.ru/schedule/data/aea13a781b6b
 e0dde86840a983820a4e.json
DESCRIPTION:Группы: М3О-435Б-22
DTSTAMP:20260422T121105Z
DTSTART;TZID=Europe/Moscow:20260209T144500
DURATION:PT3H15M
LOCATION:Берн. 14-624
RRULE:FREQ=DAILY;INTERVAL=7;COUNT=3
SEQUENCE:0
SUMMARY:[ЛК\,ПЗ 2п.]Информационная безопаснос
 ть (435Б)
UID:b51567d1-cd7c-48a8-bbd3-d183ddbacf12
END:VEVENT
BEGIN:VEVENT
ATTENDEE;CN=М3О-435Б-22:https://public.mai.ru/schedule/data/aea13a781b6b
 e0dde86840a983820a4e.json
DESCRIPTION:Группы: М3О-435Б-22
DTSTAMP:20260422T121105Z
DTSTART;TZID=Europe/Moscow:20260316T144500
DURATION:PT5H
LOCATION:Берн. 14-624
RRULE:FREQ=DAILY;INTERVAL=7;COUNT=8
SEQUENCE:0
SUMMARY:[ЛК\,ПЗ 3п.]Информационная безопаснос
 ть (435Б)
UID:ddb44f29-95bc-47ff-8904-03a783268581
END:VEVENT
BEGIN:VEVENT
ATTENDEE;CN=М3О-135БВ-25:https://public.mai.ru/schedule/data/6adf5e10ad
 5144c2576253862a9114da.json
ATTENDEE;CN=М3О-132БВ-25:https://public.mai.ru/schedule/data/b190edcfc5
 f24034c98239ce685beaa3.json
DESCRIPTION:Группы: М3О-135БВ-25\,М3О-132БВ-25
DTSTAMP:20260422T121105Z
DTSTART;TZID=Europe/Moscow:20260213T104500
DURATION:PT1H30M
LOCATION:Орш. В-411
RRULE:FREQ=DAILY;INTERVAL=7;COUNT=12
SEQUENCE:0
SUMMARY:[ЛК 1п.]Программирование (135БВ\,132БВ)
UID:ecbccf5a-c5aa-4512-b94a-33aea0bd4867
END:VEVENT
BEGIN:VEVENT
ATTENDEE;CN=М3О-135БВ-25:https://public.mai.ru/schedule/data/6adf5e10ad
 5144c2576253862a9114da.json
ATTENDEE;CN=М3О-132БВ-25:https://public.mai.ru/schedule/data/b190edcfc5
 f24034c98239ce685beaa3.json
DESCRIPTION:Группы: М3О-135БВ-25\,М3О-132БВ-25
DTSTAMP:20260422T121105Z
DTSTART;TZID=Europe/Moscow:20260515T104500
DURATION:PT1H30M
LOCATION:Орш. В-411
RRULE:FREQ=DAILY;INTERVAL=7;COUNT=2
SEQUENCE:0
SUMMARY:[ЛК 1п.]Программирование (135БВ\,132БВ)
UID:a3f35381-a3e9-4904-a5b8-abfe1535c9bf
END:VEVENT
BEGIN:VEVENT
ATTENDEE;CN=М3О-132БВ-25:https://public.mai.ru/schedule/data/b190edcfc5
 f24034c98239ce685beaa3.json
DESCRIPTION:Группы: М3О-132БВ-25
DTSTAMP:20260422T121105Z
DTSTART;TZID=Europe/Moscow:20260213T130000
DURATION:PT3H15M
LOCATION:Орш. В-410
RRULE:FREQ=DAILY;INTERVAL=7;COUNT=12
SEQUENCE:0
SUMMARY:[ПЗ 2п.]Программирование (132БВ)
UID:741c0eaf-8381-41d8-b412-e405a7efa082
END:VEVENT
BEGIN:VEVENT
ATTENDEE;CN=М3О-135БВ-25:https://public.mai.ru/schedule/data/6adf5e10ad
 5144c2576253862a9114da.json
DESCRIPTION:Группы: М3О-135БВ-25
DTSTAMP:20260422T121105Z
DTSTART;TZID=Europe/Moscow:20260515T130000
DURATION:PT3H15M
LOCATION:Орш. В-410
RRULE:FREQ=DAILY;INTERVAL=7;COUNT=1
SEQUENCE:0
SUMMARY:[ЛР 2п.]Программирование (135БВ)
UID:e7edb0d5-f96d-444a-95d4-dc7b9a9db652
END:VEVENT
BEGIN:VEVENT
ATTENDEE;CN=М3О-332Б-23:https://public.mai.ru/schedule/data/cc81593d604d
 6b4f08165ea66f2d38ad.json
DESCRIPTION:Группы: М3О-332Б-23
DTSTAMP:20260422T121105Z
DTSTART;TZID=Europe/Moscow:20260213T163000
DURATION:PT3H15M
LOCATION:Орш. В-404
RRULE:FREQ=DAILY;INTERVAL=7;COUNT=12
SEQUENCE:0
SUMMARY:[ЛК 2п.]Разработка САПР (332Б)
UID:d7b8b9f1-e1d9-4603-a95a-60252e10a47a
END:VEVENT
BEGIN:VEVENT
ATTENDEE;CN=М3О-332Б-23:https://public.mai.ru/schedule/data/cc81593d604d
 6b4f08165ea66f2d38ad.json
DESCRIPTION:Группы: М3О-332Б-23
DTSTAMP:20260422T121105Z
DTSTART;TZID=Europe/Moscow:20260522T163000
DURATION:PT3H15M
LOCATION:Орш. В-404
RRULE:FREQ=DAILY;INTERVAL=7;COUNT=1
SEQUENCE:0
SUMMARY:[ПЗ 2п.]Разработка САПР (332Б)
UID:8cb98e5b-8c1d-40ea-b632-081917c984c9
END:VEVENT
BEGIN:VEVENT
ATTENDEE;CN=М3О-232БВ-24:https://public.mai.ru/schedule/data/10dcdb5855
 635f8bae83293f1b6c3410.json
DESCRIPTION:Группы: М3О-232БВ-24
DTSTAMP:20260422T121105Z
DTSTART;TZID=Europe/Moscow:20260221T104500
DURATION:PT5H30M
LOCATION:Берн. 14-624
RRULE:FREQ=DAILY;INTERVAL=14;COUNT=8
SEQUENCE:0
SUMMARY:[ЛК\,ЛР 3п.]Высокоуровневые методы инф
 орматики и программирования (232БВ)
UID:c11fcf8f-5040-4320-af79-83a519d90b0a
END:VEVENT
BEGIN:VEVENT
ATTENDEE;CN=М3О-132БВ-25:https://public.mai.ru/schedule/data/b190edcfc5
 f24034c98239ce685beaa3.json
ATTENDEE;CN=М3О-435Б-22:https://public.mai.ru/schedule/data/aea13a781b6b
 e0dde86840a983820a4e.json
DESCRIPTION:Группы: М3О-132БВ-25\,М3О-435Б-22
DTSTAMP:20260422T121105Z
DTSTART;TZID=Europe/Moscow:20260522T130000
DURATION:PT3H15M
LOCATION:Орш. В-410
RRULE:FREQ=DAILY;INTERVAL=0;COUNT=1
SEQUENCE:0
SUMMARY:[ЛР\,Экзамен 2п.]Информационная безоп
 асность (132БВ\,435Б)
UID:45e872af-040a-4358-946b-988a177d56c0
END:VEVENT
END:VCALENDAR
