﻿BEGIN:VCALENDAR
CALSCALE:GREGORIAN
METHOD:PUBLISH
PRODID:-//MAI-dep406//MAI Dep406 1.01//RU
VERSION:2.0
X-WR-TIMEZONE:Europe/Moscow
BEGIN:VTIMEZONE
TZID:Europe/Moscow
X-LIC-LOCATION:Europe/Moscow
BEGIN:STANDARD
DTSTART;VALUE=DATE:19700101
TZNAME:GMT+3
TZOFFSETTO:+0300
END:STANDARD
END:VTIMEZONE
BEGIN:VEVENT
ATTENDEE;CN=МУО-101БВ-25:https://public.mai.ru/schedule/data/c82d2bedc
 eb40e79d66f8edd667d2505.json
DESCRIPTION:Группы: МУО-101БВ-25
DTSTAMP:20260419T182136Z
DTSTART;TZID=Europe/Moscow:20260210T130000
DURATION:PT1H30M
LOCATION:Орш. В-205
RRULE:FREQ=DAILY;INTERVAL=7;COUNT=16
SEQUENCE:0
SUMMARY:[ПЗ 1п.]Математический анализ (101БВ)
UID:cf88596f-f4f4-4bb1-8082-4f246965ca84
END:VEVENT
BEGIN:VEVENT
ATTENDEE;CN=М1О-136БВ-25:https://public.mai.ru/schedule/data/e474dc4cae
 046652a938d859f66eb937.json
DESCRIPTION:Группы: М1О-136БВ-25
DTSTAMP:20260419T182136Z
DTSTART;TZID=Europe/Moscow:20260210T163000
DURATION:PT1H30M
LOCATION:Орш. В-204
RRULE:FREQ=DAILY;INTERVAL=7;COUNT=16
SEQUENCE:0
SUMMARY:[ПЗ 1п.]Математический анализ (136БВ)
UID:b8e98106-9e78-45d7-bc65-4386abb60e48
END:VEVENT
BEGIN:VEVENT
ATTENDEE;CN=М3О-141БВ-25:https://public.mai.ru/schedule/data/8939572c92
 46e1511f1c5c7f91072fbe.json
ATTENDEE;CN=М3О-145БВ-25:https://public.mai.ru/schedule/data/95a64510d6
 dfcd2cdbeb69deddd5c92e.json
ATTENDEE;CN=М3О-143БВ-25:https://public.mai.ru/schedule/data/ead81457d2
 8a17d9709fe2641fd56792.json
ATTENDEE;CN=М3О-146БВ-25:https://public.mai.ru/schedule/data/1864e2bbea
 9c7ca26b7dbbc9a29bc440.json
DESCRIPTION:Группы: М3О-141БВ-25\,М3О-145БВ-25\,М3О-143БВ
 -25\,М3О-146БВ-25
DTSTAMP:20260419T182136Z
DTSTART;TZID=Europe/Moscow:20260212T130000
DURATION:PT1H30M
LOCATION:Орш. В-501
RRULE:FREQ=DAILY;INTERVAL=7;COUNT=17
SEQUENCE:0
SUMMARY:[ЛК 1п.]Математический анализ (141БВ\,145
 БВ\,143БВ\,146БВ)
UID:a918d996-bce4-4eb5-9a97-c3e39f7f4a6c
END:VEVENT
BEGIN:VEVENT
ATTENDEE;CN=Т11О-102БВ-25:https://public.mai.ru/schedule/data/599a890d6
 db77b5a1e466356c1863716.json
DESCRIPTION:Группы: Т11О-102БВ-25
DTSTAMP:20260419T182136Z
DTSTART;TZID=Europe/Moscow:20260212T163000
DURATION:PT1H30M
LOCATION:Орш. В-207
RRULE:FREQ=DAILY;INTERVAL=7;COUNT=12
SEQUENCE:0
SUMMARY:[ПЗ 1п.]Математический анализ (102БВ)
UID:0270efb6-c142-4b5f-a552-a4af6f1b354e
END:VEVENT
BEGIN:VEVENT
ATTENDEE;CN=Т11О-102БВ-25:https://public.mai.ru/schedule/data/599a890d6
 db77b5a1e466356c1863716.json
DESCRIPTION:Группы: Т11О-102БВ-25
DTSTAMP:20260419T182136Z
DTSTART;TZID=Europe/Moscow:20260514T163000
DURATION:PT1H30M
LOCATION:Орш. В-207
RRULE:FREQ=DAILY;INTERVAL=7;COUNT=3
SEQUENCE:0
SUMMARY:[ПЗ 1п.]Математический анализ (102БВ)
UID:09781897-5085-47d2-965a-d95828428a96
END:VEVENT
BEGIN:VEVENT
ATTENDEE;CN=М4О-109БВ-25:https://public.mai.ru/schedule/data/965cfe25b6
 122d9d303c3751a63e511a.json
DESCRIPTION:Группы: М4О-109БВ-25
DTSTAMP:20260419T182136Z
DTSTART;TZID=Europe/Moscow:20260214T090000
DURATION:PT1H30M
LOCATION:Орш. В-204
RRULE:FREQ=DAILY;INTERVAL=7;COUNT=13
SEQUENCE:0
SUMMARY:[ПЗ 1п.]Математический анализ (109БВ)
UID:d105e059-0f92-49ef-9101-a8776d74bcc3
END:VEVENT
BEGIN:VEVENT
ATTENDEE;CN=М4О-109БВ-25:https://public.mai.ru/schedule/data/965cfe25b6
 122d9d303c3751a63e511a.json
DESCRIPTION:Группы: М4О-109БВ-25
DTSTAMP:20260419T182136Z
DTSTART;TZID=Europe/Moscow:20260523T090000
DURATION:PT1H30M
LOCATION:Орш. В-204
RRULE:FREQ=DAILY;INTERVAL=7;COUNT=2
SEQUENCE:0
SUMMARY:[ПЗ 1п.]Математический анализ (109БВ)
UID:24017126-ca73-4182-824c-4014cd6fa131
END:VEVENT
BEGIN:VEVENT
ATTENDEE;CN=М1О-131БВ-25:https://public.mai.ru/schedule/data/878937f526
 afdf9bc983857cba854a1e.json
DESCRIPTION:Группы: М1О-131БВ-25
DTSTAMP:20260419T182136Z
DTSTART;TZID=Europe/Moscow:20260214T104500
DURATION:PT1H30M
LOCATION:Орш. В-204
RRULE:FREQ=DAILY;INTERVAL=7;COUNT=13
SEQUENCE:0
SUMMARY:[ПЗ 1п.]Математический анализ (131БВ)
UID:193416fb-612f-4de3-a428-e887575aaef7
END:VEVENT
BEGIN:VEVENT
ATTENDEE;CN=М1О-131БВ-25:https://public.mai.ru/schedule/data/878937f526
 afdf9bc983857cba854a1e.json
DESCRIPTION:Группы: М1О-131БВ-25
DTSTAMP:20260419T182136Z
DTSTART;TZID=Europe/Moscow:20260523T104500
DURATION:PT1H30M
LOCATION:Орш. В-204
RRULE:FREQ=DAILY;INTERVAL=7;COUNT=3
SEQUENCE:0
SUMMARY:[ПЗ 1п.]Математический анализ (131БВ)
UID:aba9a0ce-19dd-49bf-a5ac-87fcf5a72579
END:VEVENT
BEGIN:VEVENT
ATTENDEE;CN=М5О-102БВк-25:https://public.mai.ru/schedule/data/c27563bd
 b2fc761d41cb41870d265764.json
DESCRIPTION:Группы: М5О-102БВк-25
DTSTAMP:20260419T182136Z
DTSTART;TZID=Europe/Moscow:20260214T130000
DURATION:PT1H30M
LOCATION:Орш. В-204
RRULE:FREQ=DAILY;INTERVAL=7;COUNT=13
SEQUENCE:0
SUMMARY:[ПЗ 1п.]Математический анализ (102БВк)
UID:17a6f566-508f-4fa8-aa9d-21f398cfc56e
END:VEVENT
BEGIN:VEVENT
ATTENDEE;CN=М5О-102БВк-25:https://public.mai.ru/schedule/data/c27563bd
 b2fc761d41cb41870d265764.json
DESCRIPTION:Группы: М5О-102БВк-25
DTSTAMP:20260419T182136Z
DTSTART;TZID=Europe/Moscow:20260523T130000
DURATION:PT1H30M
LOCATION:Орш. В-204
RRULE:FREQ=DAILY;INTERVAL=7;COUNT=3
SEQUENCE:0
SUMMARY:[ПЗ 1п.]Математический анализ (102БВк)
UID:e30e64d2-2ec7-4e9b-9f86-74fdbb4fd508
END:VEVENT
BEGIN:VEVENT
ATTENDEE;CN=М6О-125БВ-25:https://public.mai.ru/schedule/data/652ce53693
 e5900f6e137f91df3f04e6.json
DESCRIPTION:Группы: М6О-125БВ-25
DTSTAMP:20260419T182136Z
DTSTART;TZID=Europe/Moscow:20260217T144500
DURATION:PT1H30M
LOCATION:Орш. В-209
RRULE:FREQ=DAILY;INTERVAL=7;COUNT=16
SEQUENCE:0
SUMMARY:[ПЗ 1п.]Математический анализ (125БВ)
UID:858415d7-176c-439f-b59e-dbcd947c65ab
END:VEVENT
BEGIN:VEVENT
ATTENDEE;CN=М3О-143БВ-25:https://public.mai.ru/schedule/data/ead81457d2
 8a17d9709fe2641fd56792.json
DESCRIPTION:Группы: М3О-143БВ-25
DTSTAMP:20260419T182136Z
DTSTART;TZID=Europe/Moscow:20260615T090000
DURATION:PT3H15M
LOCATION:Орш. В-201
RRULE:FREQ=DAILY;INTERVAL=7;COUNT=2
SEQUENCE:0
SUMMARY:[Экзамен 2п.]Математический анализ (143
 БВ)
UID:0e030c98-f0ca-4eac-9cd2-c64269e8391f
END:VEVENT
BEGIN:VEVENT
ATTENDEE;CN=М3О-124БВк-25:https://public.mai.ru/schedule/data/eea3ea25
 445c3de3d4c471f466264fc9.json
DESCRIPTION:Группы: М3О-124БВк-25
DTSTAMP:20260419T182136Z
DTSTART;TZID=Europe/Moscow:20260617T090000
DURATION:PT3H15M
LOCATION:ГУК Б-443
RRULE:FREQ=DAILY;INTERVAL=0;COUNT=1
SEQUENCE:0
SUMMARY:[Экзамен 2п.]Математический анализ (124
 БВк)
UID:2609c925-7ae8-4782-8e58-fa4e78e92115
END:VEVENT
BEGIN:VEVENT
ATTENDEE;CN=М3О-125БВк-25:https://public.mai.ru/schedule/data/dd573f27
 e45616213a378d40eec3cac5.json
DESCRIPTION:Группы: М3О-125БВк-25
DTSTAMP:20260419T182136Z
DTSTART;TZID=Europe/Moscow:20260618T090000
DURATION:PT3H15M
LOCATION:Орш. В-201
RRULE:FREQ=DAILY;INTERVAL=0;COUNT=1
SEQUENCE:0
SUMMARY:[Экзамен 2п.]Математический анализ (125
 БВк)
UID:57f51030-7370-41b4-b20d-d915f1627830
END:VEVENT
BEGIN:VEVENT
ATTENDEE;CN=М3О-141БВ-25:https://public.mai.ru/schedule/data/8939572c92
 46e1511f1c5c7f91072fbe.json
DESCRIPTION:Группы: М3О-141БВ-25
DTSTAMP:20260419T182136Z
DTSTART;TZID=Europe/Moscow:20260619T090000
DURATION:PT3H15M
LOCATION:Орш. В-209
RRULE:FREQ=DAILY;INTERVAL=7;COUNT=2
SEQUENCE:0
SUMMARY:[Экзамен 2п.]Математический анализ (141
 БВ)
UID:fca68cce-1b4c-482b-9708-4cbb947c7660
END:VEVENT
END:VCALENDAR
