﻿BEGIN:VCALENDAR
CALSCALE:GREGORIAN
METHOD:PUBLISH
PRODID:-//MAI-dep406//MAI Dep406 1.01//RU
VERSION:2.0
X-WR-TIMEZONE:Europe/Moscow
BEGIN:VTIMEZONE
TZID:Europe/Moscow
X-LIC-LOCATION:Europe/Moscow
BEGIN:STANDARD
DTSTART;VALUE=DATE:19700101
TZNAME:GMT+3
TZOFFSETTO:+0300
END:STANDARD
END:VTIMEZONE
BEGIN:VEVENT
ATTENDEE;CN=М2В-401С-22:https://public.mai.ru/schedule/data/a393e0163827
 318b09edcc28002d1b76.json
DESCRIPTION:Группы: М2В-401С-22
DTSTAMP:20260421T172018Z
DTSTART;TZID=Europe/Moscow:20260209T181500
DURATION:PT3H15M
LOCATION:2-25(2Б)
RRULE:FREQ=DAILY;INTERVAL=7;COUNT=3
SEQUENCE:0
SUMMARY:[ЛК 2п.]Схемы и компоновки двигателей 
 летательных аппаратов (401С)
UID:1dc2cbe4-0479-4a3c-b448-69b6b6ffbd8c
END:VEVENT
BEGIN:VEVENT
ATTENDEE;CN=М2В-401С-22:https://public.mai.ru/schedule/data/a393e0163827
 318b09edcc28002d1b76.json
DESCRIPTION:Группы: М2В-401С-22
DTSTAMP:20260421T172018Z
DTSTART;TZID=Europe/Moscow:20260316T181500
DURATION:PT3H15M
LOCATION:2-25(2Б)
RRULE:FREQ=DAILY;INTERVAL=7;COUNT=5
SEQUENCE:0
SUMMARY:[ЛР 2п.]Схемы и компоновки двигателей 
 летательных аппаратов (401С)
UID:e8469ef8-664f-4c61-a69a-fb19e52ac4d9
END:VEVENT
BEGIN:VEVENT
ATTENDEE;CN=М2О-410С-22:https://public.mai.ru/schedule/data/098d3e8a6730
 20b17338967a0325f6f6.json
DESCRIPTION:Группы: М2О-410С-22
DTSTAMP:20260421T172018Z
DTSTART;TZID=Europe/Moscow:20260210T163000
DURATION:PT1H30M
LOCATION:2-25(2Б)
RRULE:FREQ=DAILY;INTERVAL=14;COUNT=9
SEQUENCE:0
SUMMARY:[ЛК 1п.]Схемы и компоновки двигателей 
 летательных аппаратов (410С)
UID:ffa0d87b-5728-4042-b8f7-6c2550edf147
END:VEVENT
BEGIN:VEVENT
ATTENDEE;CN=М2О-410С-22:https://public.mai.ru/schedule/data/098d3e8a6730
 20b17338967a0325f6f6.json
DESCRIPTION:Группы: М2О-410С-22
DTSTAMP:20260421T172018Z
DTSTART;TZID=Europe/Moscow:20260213T104500
DURATION:PT1H30M
LOCATION:2-25(2Б)
RRULE:FREQ=DAILY;INTERVAL=14;COUNT=8
SEQUENCE:0
SUMMARY:[ЛК 1п.]Схемы и компоновки двигателей 
 летательных аппаратов (410С)
UID:86163e4a-a824-423c-abba-da1d20655611
END:VEVENT
BEGIN:VEVENT
ATTENDEE;CN=М2О-401С-22:https://public.mai.ru/schedule/data/cefc532c4e68
 5863c27fe9af62e9496f.json
DESCRIPTION:Группы: М2О-401С-22
DTSTAMP:20260421T172018Z
DTSTART;TZID=Europe/Moscow:20260214T090000
DURATION:PT3H15M
LOCATION:2-25(2Б)
RRULE:FREQ=DAILY;INTERVAL=14;COUNT=3
SEQUENCE:0
SUMMARY:[ЛК 2п.]Схемы и компановки ВРД (401С)
UID:9ee4b516-e29d-4000-823e-2799f11c83c8
END:VEVENT
BEGIN:VEVENT
ATTENDEE;CN=М2О-401С-22:https://public.mai.ru/schedule/data/cefc532c4e68
 5863c27fe9af62e9496f.json
DESCRIPTION:Группы: М2О-401С-22
DTSTAMP:20260421T172018Z
DTSTART;TZID=Europe/Moscow:20260314T090000
DURATION:PT3H15M
LOCATION:2-25(2Б)
RRULE:FREQ=DAILY;INTERVAL=14;COUNT=2
SEQUENCE:0
SUMMARY:[ЛК 2п.]Схемы и компановки ВРД (401С)
UID:9710029c-0aca-4d41-b2b8-5e5ca8855a7c
END:VEVENT
BEGIN:VEVENT
ATTENDEE;CN=М2О-410С-22:https://public.mai.ru/schedule/data/098d3e8a6730
 20b17338967a0325f6f6.json
DESCRIPTION:Группы: М2О-410С-22
DTSTAMP:20260421T172018Z
DTSTART;TZID=Europe/Moscow:20260214T130000
DURATION:PT3H15M
LOCATION:2-25(2Б)
RRULE:FREQ=DAILY;INTERVAL=14;COUNT=4
SEQUENCE:0
SUMMARY:[ЛР 2п.]Схемы и компоновки двигателей 
 летательных аппаратов (410С)
UID:805c05e1-992e-44d9-bf61-72e89967c311
END:VEVENT
BEGIN:VEVENT
ATTENDEE;CN=М2О-410С-22:https://public.mai.ru/schedule/data/098d3e8a6730
 20b17338967a0325f6f6.json
DESCRIPTION:Группы: М2О-410С-22
DTSTAMP:20260421T172018Z
DTSTART;TZID=Europe/Moscow:20260221T090000
DURATION:PT3H15M
LOCATION:2-25(2Б)
RRULE:FREQ=DAILY;INTERVAL=0;COUNT=1
SEQUENCE:0
SUMMARY:[ЛР 2п.]Схемы и компоновки двигателей 
 летательных аппаратов (410С)
UID:a3ee3aee-f920-4b6d-bd08-935f46a07a71
END:VEVENT
BEGIN:VEVENT
ATTENDEE;CN=М2О-401С-22:https://public.mai.ru/schedule/data/cefc532c4e68
 5863c27fe9af62e9496f.json
DESCRIPTION:Группы: М2О-401С-22
DTSTAMP:20260421T172018Z
DTSTART;TZID=Europe/Moscow:20260224T130000
DURATION:PT3H15M
LOCATION:2-25(2Б)
RRULE:FREQ=DAILY;INTERVAL=14;COUNT=7
SEQUENCE:0
SUMMARY:[ЛР 2п.]Схемы и компановки ВРД (401С)
UID:043ea162-ad14-4ff8-9218-bfacfbb1fc40
END:VEVENT
BEGIN:VEVENT
ATTENDEE;CN=М2О-401С-22:https://public.mai.ru/schedule/data/cefc532c4e68
 5863c27fe9af62e9496f.json
DESCRIPTION:Группы: М2О-401С-22
DTSTAMP:20260421T172018Z
DTSTART;TZID=Europe/Moscow:20260328T104500
DURATION:PT1H30M
LOCATION:2-25(2Б)
RRULE:FREQ=DAILY;INTERVAL=0;COUNT=1
SEQUENCE:0
SUMMARY:[ЛК 1п.]Схемы и компановки ВРД (401С)
UID:fc2d81a4-0cec-42bb-9dbf-2f44b9beeaf0
END:VEVENT
BEGIN:VEVENT
ATTENDEE;CN=М2В-401С-22:https://public.mai.ru/schedule/data/a393e0163827
 318b09edcc28002d1b76.json
DESCRIPTION:Группы: М2В-401С-22
DTSTAMP:20260421T172018Z
DTSTART;TZID=Europe/Moscow:20260414T181500
DURATION:PT3H15M
LOCATION:2-25(2Б)
RRULE:FREQ=DAILY;INTERVAL=14;COUNT=4
SEQUENCE:0
SUMMARY:[ЛР 2п.]Схемы и компоновки двигателей 
 летательных аппаратов (401С)
UID:9ade6203-4756-4761-ae24-4b1239c0e801
END:VEVENT
BEGIN:VEVENT
ATTENDEE;CN=М2О-410С-22:https://public.mai.ru/schedule/data/098d3e8a6730
 20b17338967a0325f6f6.json
DESCRIPTION:Группы: М2О-410С-22
DTSTAMP:20260421T172018Z
DTSTART;TZID=Europe/Moscow:20260615T163000
DURATION:PT1H30M
LOCATION:2-25(2Б)
RRULE:FREQ=DAILY;INTERVAL=0;COUNT=1
SEQUENCE:0
SUMMARY:[Экзамен 1п.]Схемы и компоновки двига
 телей летательных аппаратов (410С)
UID:2e1dfad5-3942-4b50-bffd-c9030b42d8ff
END:VEVENT
BEGIN:VEVENT
ATTENDEE;CN=М2О-401С-22:https://public.mai.ru/schedule/data/cefc532c4e68
 5863c27fe9af62e9496f.json
DESCRIPTION:Группы: М2О-401С-22
DTSTAMP:20260421T172018Z
DTSTART;TZID=Europe/Moscow:20260617T130000
DURATION:PT3H15M
LOCATION:2-25(2Б)
RRULE:FREQ=DAILY;INTERVAL=0;COUNT=1
SEQUENCE:0
SUMMARY:[Экзамен 2п.]Схемы и компановки ВРД (401
 С)
UID:25f5cb00-d35b-47f6-ab96-3192caed169c
END:VEVENT
END:VCALENDAR
