﻿BEGIN:VCALENDAR
CALSCALE:GREGORIAN
METHOD:PUBLISH
PRODID:-//MAI-dep406//MAI Dep406 1.01//RU
VERSION:2.0
X-WR-TIMEZONE:Europe/Moscow
BEGIN:VTIMEZONE
TZID:Europe/Moscow
X-LIC-LOCATION:Europe/Moscow
BEGIN:STANDARD
DTSTART;VALUE=DATE:19700101
TZNAME:GMT+3
TZOFFSETTO:+0300
END:STANDARD
END:VTIMEZONE
BEGIN:VEVENT
ATTENDEE;CN=Т11О-406Б-22:https://public.mai.ru/schedule/data/7995ee0d0a1
 3538e0524d82e4deb69fa.json
DESCRIPTION:Группы: Т11О-406Б-22
DTSTAMP:20260421T025056Z
DTSTART;TZID=Europe/Moscow:20260209T090000
DURATION:PT1H30M
LOCATION:Орш. А-525
RRULE:FREQ=DAILY;INTERVAL=7;COUNT=3
SEQUENCE:0
SUMMARY:[ЛК 1п.]Организация и планирование ав
 томатизированных производств (406Б)
UID:62d0c436-1b2f-4340-83c6-b02a0c8e019e
END:VEVENT
BEGIN:VEVENT
ATTENDEE;CN=Т11О-406Б-22:https://public.mai.ru/schedule/data/7995ee0d0a1
 3538e0524d82e4deb69fa.json
DESCRIPTION:Группы: Т11О-406Б-22
DTSTAMP:20260421T025056Z
DTSTART;TZID=Europe/Moscow:20260316T090000
DURATION:PT1H30M
LOCATION:Орш. А-525
RRULE:FREQ=DAILY;INTERVAL=7;COUNT=5
SEQUENCE:0
SUMMARY:[ЛК 1п.]Организация и планирование ав
 томатизированных производств (406Б)
UID:46865300-3f5e-4bb1-8ce0-376914038e11
END:VEVENT
BEGIN:VEVENT
ATTENDEE;CN=Т11О-406Б-22:https://public.mai.ru/schedule/data/7995ee0d0a1
 3538e0524d82e4deb69fa.json
DESCRIPTION:Группы: Т11О-406Б-22
DTSTAMP:20260421T025056Z
DTSTART;TZID=Europe/Moscow:20260209T104500
DURATION:PT1H30M
LOCATION:Орш. А-525
RRULE:FREQ=DAILY;INTERVAL=7;COUNT=3
SEQUENCE:0
SUMMARY:[ЛК 1п.]CALS-технологии в производстве п
 родукции (406Б)
UID:652c89f2-d54f-4f2a-aeae-37d327ed65b9
END:VEVENT
BEGIN:VEVENT
ATTENDEE;CN=Т11О-406Б-22:https://public.mai.ru/schedule/data/7995ee0d0a1
 3538e0524d82e4deb69fa.json
DESCRIPTION:Группы: Т11О-406Б-22
DTSTAMP:20260421T025056Z
DTSTART;TZID=Europe/Moscow:20260316T104500
DURATION:PT1H30M
LOCATION:Орш. А-525
RRULE:FREQ=DAILY;INTERVAL=7;COUNT=6
SEQUENCE:0
SUMMARY:[ЛК 1п.]CALS-технологии в производстве п
 родукции (406Б)
UID:317eb9e8-4135-4af3-92b6-7fa86f72def7
END:VEVENT
BEGIN:VEVENT
ATTENDEE;CN=Т11О-406Б-22:https://public.mai.ru/schedule/data/7995ee0d0a1
 3538e0524d82e4deb69fa.json
DESCRIPTION:Группы: Т11О-406Б-22
DTSTAMP:20260421T025056Z
DTSTART;TZID=Europe/Moscow:20260504T104500
DURATION:PT1H30M
LOCATION:Орш. А-525
RRULE:FREQ=DAILY;INTERVAL=7;COUNT=1
SEQUENCE:0
SUMMARY:[ЛК 1п.]CALS-технологии в производстве п
 родукции (406Б)
UID:9b5b08e4-0d65-40de-8420-ed12a899a0c3
END:VEVENT
BEGIN:VEVENT
ATTENDEE;CN=Т11О-304Б-23:https://public.mai.ru/schedule/data/aa68743d02f
 5a604ed3adbaacf3893d6.json
DESCRIPTION:Группы: Т11О-304Б-23
DTSTAMP:20260421T025056Z
DTSTART;TZID=Europe/Moscow:20260210T130000
DURATION:PT3H15M
LOCATION:Орш. А-525
RRULE:FREQ=DAILY;INTERVAL=7;COUNT=14
SEQUENCE:0
SUMMARY:[ЛК\,ПЗ 2п.]Методы прогнозирования в у
 правлении жизненным циклом продукции (304
 Б)
UID:74e9c4ac-3441-4eea-947c-7ce997335e29
END:VEVENT
BEGIN:VEVENT
ATTENDEE;CN=Т11О-406Б-22:https://public.mai.ru/schedule/data/7995ee0d0a1
 3538e0524d82e4deb69fa.json
DESCRIPTION:Группы: Т11О-406Б-22
DTSTAMP:20260421T025056Z
DTSTART;TZID=Europe/Moscow:20260212T090000
DURATION:PT3H15M
LOCATION:Орш. А-525
RRULE:FREQ=DAILY;INTERVAL=14;COUNT=7
SEQUENCE:0
SUMMARY:[ПЗ 2п.]CALS-технологии в производстве п
 родукции (406Б)
UID:f31bc61f-4c35-4a65-99dd-a226b4079aed
END:VEVENT
BEGIN:VEVENT
ATTENDEE;CN=Т11О-406Б-22:https://public.mai.ru/schedule/data/7995ee0d0a1
 3538e0524d82e4deb69fa.json
DESCRIPTION:Группы: Т11О-406Б-22
DTSTAMP:20260421T025056Z
DTSTART;TZID=Europe/Moscow:20260212T130000
DURATION:PT1H30M
LOCATION:Орш. А-525
RRULE:FREQ=DAILY;INTERVAL=14;COUNT=7
SEQUENCE:0
SUMMARY:[ПЗ 1п.]Методы и средства подготовки н
 аучно-технической и конструкторской док
 ументации (406Б)
UID:65027c89-7b69-4f9c-8bd0-0beaf1ca3839
END:VEVENT
BEGIN:VEVENT
ATTENDEE;CN=Т11О-406Б-22:https://public.mai.ru/schedule/data/7995ee0d0a1
 3538e0524d82e4deb69fa.json
DESCRIPTION:Группы: Т11О-406Б-22
DTSTAMP:20260421T025056Z
DTSTART;TZID=Europe/Moscow:20260216T130000
DURATION:PT3H15M
LOCATION:Орш. А-525
RRULE:FREQ=DAILY;INTERVAL=14;COUNT=3
SEQUENCE:0
SUMMARY:[ЛР 2п.]Методы и средства подготовки н
 аучно-технической и конструкторской док
 ументации (406Б)
UID:570903f1-54cb-4bf4-8bf8-9cd0216b8fec
END:VEVENT
BEGIN:VEVENT
ATTENDEE;CN=М6О-320Б-23:https://public.mai.ru/schedule/data/74975c2c043a
 1be6c13cdbc4b5532c03.json
DESCRIPTION:Группы: М6О-320Б-23
DTSTAMP:20260421T025056Z
DTSTART;TZID=Europe/Moscow:20260218T130000
DURATION:PT3H15M
LOCATION:ГУК Б-336а
RRULE:FREQ=DAILY;INTERVAL=14;COUNT=8
SEQUENCE:0
SUMMARY:[ЛК 2п.]Физико-химические основы техн
 ологии конструкционных материалов (320Б)
UID:096daa41-06b6-4fba-a681-e0b5a1fa21da
END:VEVENT
BEGIN:VEVENT
ATTENDEE;CN=М1В-202БВк-24:https://public.mai.ru/schedule/data/2972ae06
 c12ca62fcf4b6a542d33c8cf.json
DESCRIPTION:Группы: М1В-202БВк-24
DTSTAMP:20260421T025056Z
DTSTART;TZID=Europe/Moscow:20260218T181500
DURATION:PT3H15M
LOCATION:ГУК Б-334
RRULE:FREQ=DAILY;INTERVAL=14;COUNT=8
SEQUENCE:0
SUMMARY:[ЛК 2п.]Технология конструкционных ма
 териалов (202БВк)
UID:f12dab81-6f47-4690-ba67-95ffd9725c91
END:VEVENT
BEGIN:VEVENT
ATTENDEE;CN=Т11О-406Б-22:https://public.mai.ru/schedule/data/7995ee0d0a1
 3538e0524d82e4deb69fa.json
DESCRIPTION:Группы: Т11О-406Б-22
DTSTAMP:20260421T025056Z
DTSTART;TZID=Europe/Moscow:20260219T090000
DURATION:PT3H15M
LOCATION:Орш. А-525
RRULE:FREQ=DAILY;INTERVAL=14;COUNT=6
SEQUENCE:0
SUMMARY:[ЛК 2п.]Методы и средства подготовки н
 аучно-технической и конструкторской док
 ументации (406Б)
UID:f26135af-39b5-4ee8-8248-e620301df3a5
END:VEVENT
BEGIN:VEVENT
ATTENDEE;CN=Т11О-304Б-23:https://public.mai.ru/schedule/data/aa68743d02f
 5a604ed3adbaacf3893d6.json
DESCRIPTION:Группы: Т11О-304Б-23
DTSTAMP:20260421T025056Z
DTSTART;TZID=Europe/Moscow:20260219T130000
DURATION:PT3H15M
LOCATION:Орш. А-525
RRULE:FREQ=DAILY;INTERVAL=14;COUNT=8
SEQUENCE:0
SUMMARY:[ЛК\,ПЗ 2п.]Численные методы в инженер
 ных задачах (304Б)
UID:1316fd1e-135c-4690-8e63-5cfa219e369a
END:VEVENT
BEGIN:VEVENT
ATTENDEE;CN=Т11О-406Б-22:https://public.mai.ru/schedule/data/7995ee0d0a1
 3538e0524d82e4deb69fa.json
DESCRIPTION:Группы: Т11О-406Б-22
DTSTAMP:20260421T025056Z
DTSTART;TZID=Europe/Moscow:20260330T130000
DURATION:PT3H15M
LOCATION:Орш. А-525
RRULE:FREQ=DAILY;INTERVAL=14;COUNT=2
SEQUENCE:0
SUMMARY:[ПЗ 2п.]Организация и планирование ав
 томатизированных производств (406Б)
UID:d953e8bf-af79-43ed-afe3-7709bb11b4e0
END:VEVENT
BEGIN:VEVENT
ATTENDEE;CN=Т11О-406Б-22:https://public.mai.ru/schedule/data/7995ee0d0a1
 3538e0524d82e4deb69fa.json
DESCRIPTION:Группы: Т11О-406Б-22
DTSTAMP:20260421T025056Z
DTSTART;TZID=Europe/Moscow:20260420T090000
DURATION:PT3H15M
LOCATION:Орш. А-525
RRULE:FREQ=DAILY;INTERVAL=0;COUNT=1
SEQUENCE:0
SUMMARY:[ЛК 2п.]CALS-технологии в производстве п
 родукции (406Б)
UID:e33ba987-758a-4948-bf54-a69179566d1b
END:VEVENT
BEGIN:VEVENT
ATTENDEE;CN=Т11О-406Б-22:https://public.mai.ru/schedule/data/7995ee0d0a1
 3538e0524d82e4deb69fa.json
DESCRIPTION:Группы: Т11О-406Б-22
DTSTAMP:20260421T025056Z
DTSTART;TZID=Europe/Moscow:20260427T090000
DURATION:PT1H30M
LOCATION:Орш. А-525
RRULE:FREQ=DAILY;INTERVAL=0;COUNT=1
SEQUENCE:0
SUMMARY:[ПЗ 1п.]Методы и средства подготовки н
 аучно-технической и конструкторской док
 ументации (406Б)
UID:ac53becf-a107-4eb3-ab5e-3633a46dd6b0
END:VEVENT
BEGIN:VEVENT
ATTENDEE;CN=М1В-202БВк-24:https://public.mai.ru/schedule/data/2972ae06
 c12ca62fcf4b6a542d33c8cf.json
DESCRIPTION:Группы: М1В-202БВк-24
DTSTAMP:20260421T025056Z
DTSTART;TZID=Europe/Moscow:20260511T181500
DURATION:PT3H15M
LOCATION:ГУК Б-338
RRULE:FREQ=DAILY;INTERVAL=14;COUNT=2
SEQUENCE:0
SUMMARY:[ЛР 2п.]Технология конструкционных ма
 териалов (202БВк)
UID:b687f588-5d2e-4915-afe5-02796125d0af
END:VEVENT
BEGIN:VEVENT
ATTENDEE;CN=Т11О-304Б-23:https://public.mai.ru/schedule/data/aa68743d02f
 5a604ed3adbaacf3893d6.json
DESCRIPTION:Группы: Т11О-304Б-23
DTSTAMP:20260421T025056Z
DTSTART;TZID=Europe/Moscow:20260519T144500
DURATION:PT1H30M
LOCATION:Орш. А-525
RRULE:FREQ=DAILY;INTERVAL=7;COUNT=2
SEQUENCE:0
SUMMARY:[ПЗ 1п.]Методы прогнозирования в упра
 влении жизненным циклом продукции (304Б)
UID:a9c2c351-3cb1-4d67-87dd-fd9b0130e8ef
END:VEVENT
BEGIN:VEVENT
ATTENDEE;CN=М1В-202БВк-24:https://public.mai.ru/schedule/data/2972ae06
 c12ca62fcf4b6a542d33c8cf.json
DESCRIPTION:Группы: М1В-202БВк-24
DTSTAMP:20260421T025056Z
DTSTART;TZID=Europe/Moscow:20260615T163000
DURATION:PT3H15M
LOCATION:ГУК Б-338
RRULE:FREQ=DAILY;INTERVAL=0;COUNT=1
SEQUENCE:0
SUMMARY:[Экзамен 2п.]Технология конструкцион
 ных материалов (202БВк)
UID:f3ec1a4b-72f8-45ed-8f8b-57badd17ad51
END:VEVENT
END:VCALENDAR
