﻿BEGIN:VCALENDAR
CALSCALE:GREGORIAN
METHOD:PUBLISH
PRODID:-//MAI-dep406//MAI Dep406 1.01//RU
VERSION:2.0
X-WR-TIMEZONE:Europe/Moscow
BEGIN:VTIMEZONE
TZID:Europe/Moscow
X-LIC-LOCATION:Europe/Moscow
BEGIN:STANDARD
DTSTART;VALUE=DATE:19700101
TZNAME:GMT+3
TZOFFSETTO:+0300
END:STANDARD
END:VTIMEZONE
BEGIN:VEVENT
ATTENDEE;CN=М6О-306БВ-23:https://public.mai.ru/schedule/data/a5773573d1
 2185772020c44a210fe86d.json
ATTENDEE;CN=М6О-302БВ-23:https://public.mai.ru/schedule/data/ebe3a52575
 904f4ca040ec1e9e09f28a.json
ATTENDEE;CN=М6О-303БВ-23:https://public.mai.ru/schedule/data/057897320b
 bf8a4b145334d5aef76189.json
ATTENDEE;CN=М6О-315БВ-23:https://public.mai.ru/schedule/data/dbdf040e6b
 555e886692cfeba1397ae2.json
ATTENDEE;CN=М6О-308БВ-23:https://public.mai.ru/schedule/data/102ef7ce6c
 597b77b6dd33413f1e54a3.json
ATTENDEE;CN=М6О-321БВ-23:https://public.mai.ru/schedule/data/88fc0663ce
 75447c8b973374a27c5a9b.json
ATTENDEE;CN=М6О-312БВ-23:https://public.mai.ru/schedule/data/96866079c2
 e2526abf26119ac4069156.json
ATTENDEE;CN=М6О-309БВ-23:https://public.mai.ru/schedule/data/2fba228174
 98f69d36331102c401d5ef.json
ATTENDEE;CN=М6О-320БВ-23:https://public.mai.ru/schedule/data/f2b407222f
 9f329d6f556cb4443515d1.json
ATTENDEE;CN=М6О-305БВ-23:https://public.mai.ru/schedule/data/ef7173de61
 6ed56005926ede473521eb.json
DESCRIPTION:Группы: М6О-306БВ-23\,М6О-302БВ-23\,М6О-303БВ
 -23\,М6О-315БВ-23\,М6О-308БВ-23\,М6О-321БВ-23\,М6О-312БВ-2
 3\,М6О-309БВ-23\,М6О-320БВ-23\,М6О-305БВ-23
DTSTAMP:20260422T032511Z
DTSTART;TZID=Europe/Moscow:20260209T163000
DURATION:PT1H30M
LOCATION:Орш. Б-304
RRULE:FREQ=DAILY;INTERVAL=7;COUNT=3
SEQUENCE:0
SUMMARY:[ЛК 1п.]Коммуникативные технологии (306
 БВ\,302БВ\,303БВ\,315БВ\,308БВ\,321БВ\,312БВ\,309БВ\,320Б
 В\,305БВ)
UID:b38044fb-e49b-4390-bbaa-d4154c5b1fc0
END:VEVENT
BEGIN:VEVENT
ATTENDEE;CN=М6О-306БВ-23:https://public.mai.ru/schedule/data/a5773573d1
 2185772020c44a210fe86d.json
ATTENDEE;CN=М6О-303БВ-23:https://public.mai.ru/schedule/data/057897320b
 bf8a4b145334d5aef76189.json
ATTENDEE;CN=М6О-309БВ-23:https://public.mai.ru/schedule/data/2fba228174
 98f69d36331102c401d5ef.json
ATTENDEE;CN=М6О-305БВ-23:https://public.mai.ru/schedule/data/ef7173de61
 6ed56005926ede473521eb.json
DESCRIPTION:Группы: М6О-306БВ-23\,М6О-303БВ-23\,М6О-309БВ
 -23\,М6О-305БВ-23
DTSTAMP:20260422T032511Z
DTSTART;TZID=Europe/Moscow:20260316T163000
DURATION:PT1H30M
LOCATION:Орш. В-514
RRULE:FREQ=DAILY;INTERVAL=7;COUNT=12
SEQUENCE:0
SUMMARY:[ПЗ 1п.]Коммуникативные технологии (306
 БВ\,303БВ\,309БВ\,305БВ)
UID:9cb53fc9-6e31-4bb0-a0bb-8a5d49d34d5a
END:VEVENT
BEGIN:VEVENT
ATTENDEE;CN=М6О-306БВ-23:https://public.mai.ru/schedule/data/a5773573d1
 2185772020c44a210fe86d.json
ATTENDEE;CN=М6О-302БВ-23:https://public.mai.ru/schedule/data/ebe3a52575
 904f4ca040ec1e9e09f28a.json
ATTENDEE;CN=М6О-315БВ-23:https://public.mai.ru/schedule/data/dbdf040e6b
 555e886692cfeba1397ae2.json
ATTENDEE;CN=М6О-308БВ-23:https://public.mai.ru/schedule/data/102ef7ce6c
 597b77b6dd33413f1e54a3.json
ATTENDEE;CN=М6О-312БВ-23:https://public.mai.ru/schedule/data/96866079c2
 e2526abf26119ac4069156.json
ATTENDEE;CN=М6О-305БВ-23:https://public.mai.ru/schedule/data/ef7173de61
 6ed56005926ede473521eb.json
DESCRIPTION:Группы: М6О-306БВ-23\,М6О-302БВ-23\,М6О-315БВ
 -23\,М6О-308БВ-23\,М6О-312БВ-23\,М6О-305БВ-23
DTSTAMP:20260422T032511Z
DTSTART;TZID=Europe/Moscow:20260209T181500
DURATION:PT1H30M
LOCATION:Орш. В-514
RRULE:FREQ=DAILY;INTERVAL=7;COUNT=3
SEQUENCE:0
SUMMARY:[ПЗ 1п.]Коммуникативные технологии (306
 БВ\,302БВ\,315БВ\,308БВ\,312БВ\,305БВ)
UID:164f8f95-4e19-4ce8-a961-d7fe2f58126d
END:VEVENT
BEGIN:VEVENT
ATTENDEE;CN=М6О-303БВ-23:https://public.mai.ru/schedule/data/057897320b
 bf8a4b145334d5aef76189.json
ATTENDEE;CN=М6О-315БВ-23:https://public.mai.ru/schedule/data/dbdf040e6b
 555e886692cfeba1397ae2.json
ATTENDEE;CN=М6О-308БВ-23:https://public.mai.ru/schedule/data/102ef7ce6c
 597b77b6dd33413f1e54a3.json
ATTENDEE;CN=М6О-321БВ-23:https://public.mai.ru/schedule/data/88fc0663ce
 75447c8b973374a27c5a9b.json
ATTENDEE;CN=М6О-312БВ-23:https://public.mai.ru/schedule/data/96866079c2
 e2526abf26119ac4069156.json
ATTENDEE;CN=М6О-309БВ-23:https://public.mai.ru/schedule/data/2fba228174
 98f69d36331102c401d5ef.json
ATTENDEE;CN=М6О-320БВ-23:https://public.mai.ru/schedule/data/f2b407222f
 9f329d6f556cb4443515d1.json
ATTENDEE;CN=М6О-305БВ-23:https://public.mai.ru/schedule/data/ef7173de61
 6ed56005926ede473521eb.json
DESCRIPTION:Группы: М6О-303БВ-23\,М6О-315БВ-23\,М6О-308БВ
 -23\,М6О-321БВ-23\,М6О-312БВ-23\,М6О-309БВ-23\,М6О-320БВ-2
 3\,М6О-305БВ-23
DTSTAMP:20260422T032511Z
DTSTART;TZID=Europe/Moscow:20260316T181500
DURATION:PT1H30M
LOCATION:Орш. В-408
RRULE:FREQ=DAILY;INTERVAL=7;COUNT=12
SEQUENCE:0
SUMMARY:[ПЗ 1п.]Коммуникативные технологии (303
 БВ\,315БВ\,308БВ\,321БВ\,312БВ\,309БВ\,320БВ\,305БВ)
UID:782658f4-db25-49a5-8b77-242fc6b13beb
END:VEVENT
BEGIN:VEVENT
ATTENDEE;CN=М1О-507С-21:https://public.mai.ru/schedule/data/b0857ed55ba1
 cfb93c0fc5a1a63f761f.json
DESCRIPTION:Группы: М1О-507С-21
DTSTAMP:20260422T032511Z
DTSTART;TZID=Europe/Moscow:20260211T104500
DURATION:PT1H30M
LOCATION:1-14
RRULE:FREQ=DAILY;INTERVAL=14;COUNT=8
SEQUENCE:0
SUMMARY:[ПЗ 1п.]Коммуникативные технологии (507
 С)
UID:c28efe04-e2f3-4e14-b6cc-d8553df84668
END:VEVENT
BEGIN:VEVENT
ATTENDEE;CN=М1О-507С-21:https://public.mai.ru/schedule/data/b0857ed55ba1
 cfb93c0fc5a1a63f761f.json
ATTENDEE;CN=М1О-508С-21:https://public.mai.ru/schedule/data/7d61b3325ba7
 9e49b07b1cd1c78fc72f.json
DESCRIPTION:Группы: М1О-507С-21\,М1О-508С-21
DTSTAMP:20260422T032511Z
DTSTART;TZID=Europe/Moscow:20260211T130000
DURATION:PT1H30M
LOCATION:1-14
RRULE:FREQ=DAILY;INTERVAL=14;COUNT=8
SEQUENCE:0
SUMMARY:[ЛК 1п.]Коммуникативные технологии (507
 С\,508С)
UID:0eb05f24-72a8-4206-aba1-3183aeef1256
END:VEVENT
BEGIN:VEVENT
ATTENDEE;CN=М1О-508С-21:https://public.mai.ru/schedule/data/7d61b3325ba7
 9e49b07b1cd1c78fc72f.json
DESCRIPTION:Группы: М1О-508С-21
DTSTAMP:20260422T032511Z
DTSTART;TZID=Europe/Moscow:20260211T144500
DURATION:PT1H30M
LOCATION:7-401
RRULE:FREQ=DAILY;INTERVAL=14;COUNT=8
SEQUENCE:0
SUMMARY:[ПЗ 1п.]Коммуникативные технологии (508
 С)
UID:75090ecf-068b-4862-9535-541f53b927a2
END:VEVENT
BEGIN:VEVENT
ATTENDEE;CN=М6О-209А-24:https://public.mai.ru/schedule/data/20d2da6aaa3a
 710e63708e808b2c0a40.json
ATTENDEE;CN=М6О-205А-24:https://public.mai.ru/schedule/data/c38031c30d58
 e8b9de2cd1592e2f1b88.json
ATTENDEE;CN=М6О-212А-24:https://public.mai.ru/schedule/data/a8a1baa2c480
 ea3059217897ba1162c9.json
ATTENDEE;CN=М6О-211А-24:https://public.mai.ru/schedule/data/2ba9107d627d
 ff7528e6bc0fd2c7dfcd.json
ATTENDEE;CN=М6О-203А-24:https://public.mai.ru/schedule/data/b475c6ce6559
 48b974989b6c5e2d7ac0.json
ATTENDEE;CN=М6О-201А-24:https://public.mai.ru/schedule/data/5b40ba6c25ec
 773915341feb6eeaf657.json
ATTENDEE;CN=М6О-208А-24:https://public.mai.ru/schedule/data/af017afe00fd
 304ad40e01366573bf86.json
ATTENDEE;CN=М6О-222А-24:https://public.mai.ru/schedule/data/2d6c394f3bbb
 27d8f6718917cc34eed5.json
ATTENDEE;CN=М6О-202А-24:https://public.mai.ru/schedule/data/25018361a422
 ea1ee454682a2510a4dd.json
ATTENDEE;CN=М6О-206А-24:https://public.mai.ru/schedule/data/dcf15726cc54
 43bdce4b7de0c415c694.json
ATTENDEE;CN=М6О-204А-24:https://public.mai.ru/schedule/data/172b85190d0f
 88cc9859de4e00c24095.json
ATTENDEE;CN=М6О-210А-24:https://public.mai.ru/schedule/data/9b98ce61af3c
 c499e54748ed6a63de50.json
ATTENDEE;CN=М7О-203А-24:https://public.mai.ru/schedule/data/c3b1368d9707
 d11f3e4f7b369013f681.json
ATTENDEE;CN=М7О-201А-24:https://public.mai.ru/schedule/data/6817371f26cd
 c178d2f98f88e4904dd7.json
ATTENDEE;CN=М7О-202А-24:https://public.mai.ru/schedule/data/6098155b784e
 834c64eed3bf36527de0.json
DESCRIPTION:Группы: М6О-209А-24\,М6О-205А-24\,М6О-212А-24\,
 М6О-211А-24\,М6О-203А-24\,М6О-201А-24\,М6О-208А-24\,М6О-222
 А-24\,М6О-202А-24\,М6О-206А-24\,М6О-204А-24\,М6О-210А-24\,М7
 О-203А-24\,М7О-201А-24\,М7О-202А-24
DTSTAMP:20260422T032511Z
DTSTART;TZID=Europe/Moscow:20260408T163000
DURATION:PT3H15M
LOCATION:3-115
RRULE:FREQ=DAILY;INTERVAL=7;COUNT=5
SEQUENCE:0
SUMMARY:[ПЗ 2п.]Педагогика и психология высше
 й школы (209А\,205А\,212А\,211А\,203А\,201А\,208А\,222А\,202
 А\,206А\,204А\,210А\,203А\,201А\,202А)
UID:34d615fc-0c3a-469c-a9bd-402fbd4cd3b9
END:VEVENT
BEGIN:VEVENT
ATTENDEE;CN=Т11О-205А-24:https://public.mai.ru/schedule/data/dcf8b099745
 ecaddcc3f4403b653ad90.json
ATTENDEE;CN=Т11О-206А-24:https://public.mai.ru/schedule/data/4b093baf839
 72f913c60cd7d991c1577.json
ATTENDEE;CN=Т11О-202А-24:https://public.mai.ru/schedule/data/6afd09d8ece
 b87e7f98b5d19b26c126a.json
ATTENDEE;CN=Т11О-207А-24:https://public.mai.ru/schedule/data/459b9f07d06
 40adc20d8bb2f4216b405.json
ATTENDEE;CN=Т11О-201А-24:https://public.mai.ru/schedule/data/66d32c1d212
 4a84f00969d7c5e9f1285.json
ATTENDEE;CN=Т11О-203А-24:https://public.mai.ru/schedule/data/6b48e82d59d
 92d2b7ad3deb547e00b04.json
ATTENDEE;CN=Т11О-204А-24:https://public.mai.ru/schedule/data/2f4ff858ffa
 d4f486500b2a5cb341763.json
ATTENDEE;CN=Т12О-202А-24:https://public.mai.ru/schedule/data/42aa22b1794
 561d51c757cc55d5a8dc5.json
ATTENDEE;CN=Т12О-206А-24:https://public.mai.ru/schedule/data/65a018e5784
 780ed3d5252f1c068e435.json
ATTENDEE;CN=Т12О-201А-24:https://public.mai.ru/schedule/data/b77168e0848
 b005ce4da353f3b9e302c.json
ATTENDEE;CN=Т12О-203А-24:https://public.mai.ru/schedule/data/137c557a21a
 258319de6a9d49d8ece66.json
ATTENDEE;CN=Т12О-205А-24:https://public.mai.ru/schedule/data/918443add80
 3a474362f3f4049e08e0a.json
ATTENDEE;CN=Т12О-204А-24:https://public.mai.ru/schedule/data/07687ca8988
 f3575a99ca97f098e9a7f.json
DESCRIPTION:Группы: Т11О-205А-24\,Т11О-206А-24\,Т11О-202А-24
 \,Т11О-207А-24\,Т11О-201А-24\,Т11О-203А-24\,Т11О-204А-24\,Т12
 О-202А-24\,Т12О-206А-24\,Т12О-201А-24\,Т12О-203А-24\,Т12О-205
 А-24\,Т12О-204А-24
DTSTAMP:20260422T032511Z
DTSTART;TZID=Europe/Moscow:20260527T163000
DURATION:PT3H15M
LOCATION:Орш. В-511
RRULE:FREQ=DAILY;INTERVAL=7;COUNT=1
SEQUENCE:0
SUMMARY:[ПЗ 2п.]Педагогика и психология высше
 й школы (205А\,206А\,202А\,207А\,201А\,203А\,204А\,202А\,206
 А\,201А\,203А\,205А\,204А)
UID:cb698777-1187-4154-87ec-d90bf884ad24
END:VEVENT
END:VCALENDAR
