﻿BEGIN:VCALENDAR
CALSCALE:GREGORIAN
METHOD:PUBLISH
PRODID:-//MAI-dep406//MAI Dep406 1.01//RU
VERSION:2.0
X-WR-TIMEZONE:Europe/Moscow
BEGIN:VTIMEZONE
TZID:Europe/Moscow
X-LIC-LOCATION:Europe/Moscow
BEGIN:STANDARD
DTSTART;VALUE=DATE:19700101
TZNAME:GMT+3
TZOFFSETTO:+0300
END:STANDARD
END:VTIMEZONE
BEGIN:VEVENT
ATTENDEE;CN=М2О-104СВ-25:https://public.mai.ru/schedule/data/323955cd50
 ea4fa76e57ca9fcda26258.json
DESCRIPTION:Группы: М2О-104СВ-25
DTSTAMP:20260422T021313Z
DTSTART;TZID=Europe/Moscow:20260220T163000
DURATION:PT5H
LOCATION:2-101(2В)
RRULE:FREQ=DAILY;INTERVAL=14;COUNT=6
SEQUENCE:0
SUMMARY:[ЛК\,ПЗ 3п.]Современные программные ср
 едства теплового проектирования (104СВ)
UID:a207a6ea-d56b-4e54-861c-8180c2fefd04
END:VEVENT
BEGIN:VEVENT
ATTENDEE;CN=М2О-104СВ-25:https://public.mai.ru/schedule/data/323955cd50
 ea4fa76e57ca9fcda26258.json
DESCRIPTION:Группы: М2О-104СВ-25
DTSTAMP:20260422T021313Z
DTSTART;TZID=Europe/Moscow:20260529T163000
DURATION:PT5H
LOCATION:2-101(2В)
RRULE:FREQ=DAILY;INTERVAL=14;COUNT=1
SEQUENCE:0
SUMMARY:[ЛК\,ПЗ 3п.]Современные программные ср
 едства теплового проектирования (104СВ)
UID:712eb5c3-20e1-438e-8608-3e0c8d1c158d
END:VEVENT
END:VCALENDAR
