﻿BEGIN:VCALENDAR
CALSCALE:GREGORIAN
METHOD:PUBLISH
PRODID:-//MAI-dep406//MAI Dep406 1.01//RU
VERSION:2.0
X-WR-TIMEZONE:Europe/Moscow
BEGIN:VTIMEZONE
TZID:Europe/Moscow
X-LIC-LOCATION:Europe/Moscow
BEGIN:STANDARD
DTSTART;VALUE=DATE:19700101
TZNAME:GMT+3
TZOFFSETTO:+0300
END:STANDARD
END:VTIMEZONE
BEGIN:VEVENT
ATTENDEE;CN=МИВ-301Бк-23:https://public.mai.ru/schedule/data/534e1c45f
 a73e17a554574b7ce3e5b5d.json
DESCRIPTION:Группы: МИВ-301Бк-23
DTSTAMP:20260420T142125Z
DTSTART;TZID=Europe/Moscow:20260409T181500
DURATION:PT3H15M
LOCATION:24-407-3
RRULE:FREQ=DAILY;INTERVAL=14;COUNT=4
SEQUENCE:0
SUMMARY:[ПЗ 2п.]Практический курс второго ино
 странного языка (испанский) (301Бк)
UID:6920c6ab-be65-4408-8863-6eae7d05b1bf
END:VEVENT
END:VCALENDAR
