﻿BEGIN:VCALENDAR
CALSCALE:GREGORIAN
METHOD:PUBLISH
PRODID:-//MAI-dep406//MAI Dep406 1.01//RU
VERSION:2.0
X-WR-TIMEZONE:Europe/Moscow
BEGIN:VTIMEZONE
TZID:Europe/Moscow
X-LIC-LOCATION:Europe/Moscow
BEGIN:STANDARD
DTSTART;VALUE=DATE:19700101
TZNAME:GMT+3
TZOFFSETTO:+0300
END:STANDARD
END:VTIMEZONE
BEGIN:VEVENT
ATTENDEE;CN=МИО-102БВк-25:https://public.mai.ru/schedule/data/1bfcfc4
 486635594dfc6b1f71fc419fd.json
DESCRIPTION:Группы: МИО-102БВк-25
DTSTAMP:20260422T214307Z
DTSTART;TZID=Europe/Moscow:20260209T090000
DURATION:PT1H30M
LOCATION:2-315(2А)
RRULE:FREQ=DAILY;INTERVAL=7;COUNT=3
SEQUENCE:0
SUMMARY:[ПЗ 1п.]Цифровые коммуникации в перев
 одческой деятельности (102БВк)
UID:0fd67cf4-c41c-447c-9b29-241091d32aca
END:VEVENT
BEGIN:VEVENT
ATTENDEE;CN=МИО-102БВк-25:https://public.mai.ru/schedule/data/1bfcfc4
 486635594dfc6b1f71fc419fd.json
DESCRIPTION:Группы: МИО-102БВк-25
DTSTAMP:20260422T214307Z
DTSTART;TZID=Europe/Moscow:20260316T090000
DURATION:PT1H30M
LOCATION:2-315(2А)
RRULE:FREQ=DAILY;INTERVAL=7;COUNT=12
SEQUENCE:0
SUMMARY:[ПЗ 1п.]Цифровые коммуникации в перев
 одческой деятельности (102БВк)
UID:760aab51-5c9f-49ad-b873-d76aabdc3f5a
END:VEVENT
BEGIN:VEVENT
ATTENDEE;CN=МИО-302Бк-23:https://public.mai.ru/schedule/data/b3c9f02c1
 64fe1e4aef83c680015a0a8.json
DESCRIPTION:Группы: МИО-302Бк-23
DTSTAMP:20260422T214307Z
DTSTART;TZID=Europe/Moscow:20260209T104500
DURATION:PT1H30M
LOCATION:2-315(2А)
RRULE:FREQ=DAILY;INTERVAL=7;COUNT=3
SEQUENCE:0
SUMMARY:[ПЗ 1п.]Цифровые коммуникации в перев
 одческой деятельности (302Бк)
UID:129d328f-6cd4-44a8-b881-ef02b608fb80
END:VEVENT
BEGIN:VEVENT
ATTENDEE;CN=МИО-302Бк-23:https://public.mai.ru/schedule/data/b3c9f02c1
 64fe1e4aef83c680015a0a8.json
DESCRIPTION:Группы: МИО-302Бк-23
DTSTAMP:20260422T214307Z
DTSTART;TZID=Europe/Moscow:20260316T104500
DURATION:PT1H30M
LOCATION:2-315(2А)
RRULE:FREQ=DAILY;INTERVAL=7;COUNT=13
SEQUENCE:0
SUMMARY:[ПЗ 1п.]Цифровые коммуникации в перев
 одческой деятельности (302Бк)
UID:92771daf-85d7-4015-a5b8-792e80c32f7c
END:VEVENT
BEGIN:VEVENT
ATTENDEE;CN=МИО-101БВк-25:https://public.mai.ru/schedule/data/0afa73f
 45e02431c01b35e064258cf0d.json
DESCRIPTION:Группы: МИО-101БВк-25
DTSTAMP:20260422T214307Z
DTSTART;TZID=Europe/Moscow:20260209T130000
DURATION:PT1H30M
LOCATION:2-315(2А)
RRULE:FREQ=DAILY;INTERVAL=7;COUNT=3
SEQUENCE:0
SUMMARY:[ПЗ 1п.]Цифровые коммуникации в перев
 одческой деятельности (101БВк)
UID:fae88c41-a71d-40d0-9981-67042ea0882d
END:VEVENT
BEGIN:VEVENT
ATTENDEE;CN=МИО-101БВк-25:https://public.mai.ru/schedule/data/0afa73f
 45e02431c01b35e064258cf0d.json
DESCRIPTION:Группы: МИО-101БВк-25
DTSTAMP:20260422T214307Z
DTSTART;TZID=Europe/Moscow:20260316T130000
DURATION:PT1H30M
LOCATION:2-315(2А)
RRULE:FREQ=DAILY;INTERVAL=7;COUNT=12
SEQUENCE:0
SUMMARY:[ПЗ 1п.]Цифровые коммуникации в перев
 одческой деятельности (101БВк)
UID:e0b3d332-d16f-40db-b633-464e3c35dacf
END:VEVENT
BEGIN:VEVENT
ATTENDEE;CN=МИО-301Бк-23:https://public.mai.ru/schedule/data/ae559866f
 06424ea94ebfc63d94c2e0d.json
DESCRIPTION:Группы: МИО-301Бк-23
DTSTAMP:20260422T214307Z
DTSTART;TZID=Europe/Moscow:20260209T144500
DURATION:PT1H30M
LOCATION:2-315(2А)
RRULE:FREQ=DAILY;INTERVAL=7;COUNT=3
SEQUENCE:0
SUMMARY:[ПЗ 1п.]Цифровые коммуникации в перев
 одческой деятельности (301Бк)
UID:51d1e840-1648-4a77-bd60-14ddd70af589
END:VEVENT
BEGIN:VEVENT
ATTENDEE;CN=МИО-301Бк-23:https://public.mai.ru/schedule/data/ae559866f
 06424ea94ebfc63d94c2e0d.json
DESCRIPTION:Группы: МИО-301Бк-23
DTSTAMP:20260422T214307Z
DTSTART;TZID=Europe/Moscow:20260316T144500
DURATION:PT1H30M
LOCATION:2-315(2А)
RRULE:FREQ=DAILY;INTERVAL=7;COUNT=13
SEQUENCE:0
SUMMARY:[ПЗ 1п.]Цифровые коммуникации в перев
 одческой деятельности (301Бк)
UID:dc319eeb-c9ea-4c3d-a2db-14fbdbcc04c4
END:VEVENT
BEGIN:VEVENT
ATTENDEE;CN=МИО-406Бк-22:https://public.mai.ru/schedule/data/d09167a7c
 d7c9723c3ff6bfbfaf041ca.json
DESCRIPTION:Группы: МИО-406Бк-22
DTSTAMP:20260422T214307Z
DTSTART;TZID=Europe/Moscow:20260214T104500
DURATION:PT1H30M
LOCATION:2-310(2А)
RRULE:FREQ=DAILY;INTERVAL=14;COUNT=6
SEQUENCE:0
SUMMARY:[ПЗ 1п.]Внутренние и внешние коммуник
 ации в организациях аэрокосмической отр
 асли (406Бк)
UID:cb7e372a-24bc-47d9-a949-f96cec5d742b
END:VEVENT
BEGIN:VEVENT
ATTENDEE;CN=МИВ-402Бк-22:https://public.mai.ru/schedule/data/c5327f71d
 fef3b9073bf65305f48a869.json
DESCRIPTION:Группы: МИВ-402Бк-22
DTSTAMP:20260422T214307Z
DTSTART;TZID=Europe/Moscow:20260221T090000
DURATION:PT1H30M
LOCATION:2-313(2А)
RRULE:FREQ=DAILY;INTERVAL=14;COUNT=3
SEQUENCE:0
SUMMARY:[ЛК 1п.]Современные технологии реклам
 ы и связей с общественностью (402Бк)
UID:45b6fa33-09a0-4403-8cce-1a4fe4c7bdb4
END:VEVENT
BEGIN:VEVENT
ATTENDEE;CN=МИВ-402Бк-22:https://public.mai.ru/schedule/data/c5327f71d
 fef3b9073bf65305f48a869.json
DESCRIPTION:Группы: МИВ-402Бк-22
DTSTAMP:20260422T214307Z
DTSTART;TZID=Europe/Moscow:20260221T104500
DURATION:PT1H30M
LOCATION:2-313(2А)
RRULE:FREQ=DAILY;INTERVAL=14;COUNT=8
SEQUENCE:0
SUMMARY:[ЛК 1п.]Взаимодействие с органами гос
 ударственной власти в связях с обществе
 нностью (402Бк)
UID:683ab749-ab6a-4c5a-80ec-1d2d15ad9aac
END:VEVENT
BEGIN:VEVENT
ATTENDEE;CN=МИО-104БВк-25:https://public.mai.ru/schedule/data/1f75306
 98ab7694552fdd7dc8ecd6cc0.json
DESCRIPTION:Группы: МИО-104БВк-25
DTSTAMP:20260422T214307Z
DTSTART;TZID=Europe/Moscow:20260328T130000
DURATION:PT1H30M
LOCATION:2-401(2А)
RRULE:FREQ=DAILY;INTERVAL=14;COUNT=4
SEQUENCE:0
SUMMARY:[ПЗ 1п.]Введение в проектную деятельн
 ость (104БВк)
UID:62a3686d-28c1-4aa7-a58b-5d764c306a9d
END:VEVENT
BEGIN:VEVENT
ATTENDEE;CN=МИО-101СВк-25:https://public.mai.ru/schedule/data/6e0573c
 970e059e20f9f7c033d822eb1.json
DESCRIPTION:Группы: МИО-101СВк-25
DTSTAMP:20260422T214307Z
DTSTART;TZID=Europe/Moscow:20260328T144500
DURATION:PT3H15M
LOCATION:2-410(2А)
RRULE:FREQ=DAILY;INTERVAL=14;COUNT=4
SEQUENCE:0
SUMMARY:[ПЗ 2п.]Цифровые практики в коммуника
 ционной сфере (101СВк)
UID:dfa1a2e0-faa0-4a01-8233-6ff496ea9870
END:VEVENT
BEGIN:VEVENT
ATTENDEE;CN=МИО-105БВк-25:https://public.mai.ru/schedule/data/4619e9d
 e27fac7b94e90031f348c22b2.json
DESCRIPTION:Группы: МИО-105БВк-25
DTSTAMP:20260422T214307Z
DTSTART;TZID=Europe/Moscow:20260404T144500
DURATION:PT1H30M
LOCATION:2-401(2А)
RRULE:FREQ=DAILY;INTERVAL=14;COUNT=5
SEQUENCE:0
SUMMARY:[ПЗ 1п.]Введение в проектную деятельн
 ость (105БВк)
UID:62421b5a-b504-4053-aee7-22f3cd005eb4
END:VEVENT
BEGIN:VEVENT
ATTENDEE;CN=МИО-106БВк-25:https://public.mai.ru/schedule/data/e1634b2
 a612c4e7cb10b317d340c18ee.json
DESCRIPTION:Группы: МИО-106БВк-25
DTSTAMP:20260422T214307Z
DTSTART;TZID=Europe/Moscow:20260418T163000
DURATION:PT1H30M
LOCATION:2-401(2А)
RRULE:FREQ=DAILY;INTERVAL=14;COUNT=4
SEQUENCE:0
SUMMARY:[ПЗ 1п.]Введение в проектную деятельн
 ость (106БВк)
UID:295846a9-1f20-4680-96ea-3a30ad5d4b9c
END:VEVENT
END:VCALENDAR
