﻿BEGIN:VCALENDAR
CALSCALE:GREGORIAN
METHOD:PUBLISH
PRODID:-//MAI-dep406//MAI Dep406 1.01//RU
VERSION:2.0
X-WR-TIMEZONE:Europe/Moscow
BEGIN:VTIMEZONE
TZID:Europe/Moscow
X-LIC-LOCATION:Europe/Moscow
BEGIN:STANDARD
DTSTART;VALUE=DATE:19700101
TZNAME:GMT+3
TZOFFSETTO:+0300
END:STANDARD
END:VTIMEZONE
BEGIN:VEVENT
ATTENDEE;CN=М6О-420С-22:https://public.mai.ru/schedule/data/9386bd38fb0b
 055232ab7f99429fac57.json
DESCRIPTION:Группы: М6О-420С-22
DTSTAMP:20260421T193301Z
DTSTART;TZID=Europe/Moscow:20260209T090000
DURATION:PT3H15M
LOCATION:--каф.914
RRULE:FREQ=DAILY;INTERVAL=7;COUNT=3
SEQUENCE:0
SUMMARY:[ЛК 2п.]Конструкции механических устр
 ойств (420С)
UID:ec11fede-c258-4990-862f-2f9e6942c12d
END:VEVENT
BEGIN:VEVENT
ATTENDEE;CN=М6О-420С-22:https://public.mai.ru/schedule/data/9386bd38fb0b
 055232ab7f99429fac57.json
DESCRIPTION:Группы: М6О-420С-22
DTSTAMP:20260421T193301Z
DTSTART;TZID=Europe/Moscow:20260316T090000
DURATION:PT3H15M
LOCATION:--каф.914
RRULE:FREQ=DAILY;INTERVAL=7;COUNT=12
SEQUENCE:0
SUMMARY:[ПЗ 2п.]Конструкции механических устр
 ойств (420С)
UID:9a363796-75a9-4648-bd56-6a24a675e594
END:VEVENT
BEGIN:VEVENT
ATTENDEE;CN=М6О-420С-22:https://public.mai.ru/schedule/data/9386bd38fb0b
 055232ab7f99429fac57.json
DESCRIPTION:Группы: М6О-420С-22
DTSTAMP:20260421T193301Z
DTSTART;TZID=Europe/Moscow:20260209T130000
DURATION:PT1H30M
LOCATION:--каф.914
RRULE:FREQ=DAILY;INTERVAL=7;COUNT=3
SEQUENCE:0
SUMMARY:[ПЗ 1п.]УИРС (420С)
UID:15b64da3-4611-4d10-9030-8e6d42774760
END:VEVENT
BEGIN:VEVENT
ATTENDEE;CN=М6О-420С-22:https://public.mai.ru/schedule/data/9386bd38fb0b
 055232ab7f99429fac57.json
DESCRIPTION:Группы: М6О-420С-22
DTSTAMP:20260421T193301Z
DTSTART;TZID=Europe/Moscow:20260316T130000
DURATION:PT1H30M
LOCATION:--каф.914
RRULE:FREQ=DAILY;INTERVAL=7;COUNT=12
SEQUENCE:0
SUMMARY:[ПЗ 1п.]УИРС (420С)
UID:99555dcf-238f-4c55-bf9a-9f5c4e97bb84
END:VEVENT
BEGIN:VEVENT
ATTENDEE;CN=М6О-420С-22:https://public.mai.ru/schedule/data/9386bd38fb0b
 055232ab7f99429fac57.json
DESCRIPTION:Группы: М6О-420С-22
DTSTAMP:20260421T193301Z
DTSTART;TZID=Europe/Moscow:20260212T090000
DURATION:PT3H15M
LOCATION:--каф.914
RRULE:FREQ=DAILY;INTERVAL=7;COUNT=18
SEQUENCE:0
SUMMARY:[ЛК 2п.]Конструкции механических устр
 ойств (420С)
UID:8a041134-acac-458e-8fb1-20d1e4b694da
END:VEVENT
BEGIN:VEVENT
ATTENDEE;CN=М9О-501С-21:https://public.mai.ru/schedule/data/6c2b9add4514
 c37a5d29a78e3a50eb67.json
DESCRIPTION:Группы: М9О-501С-21
DTSTAMP:20260421T193301Z
DTSTART;TZID=Europe/Moscow:20260213T090000
DURATION:PT3H15M
LOCATION:--каф.914
RRULE:FREQ=DAILY;INTERVAL=14;COUNT=8
SEQUENCE:0
SUMMARY:[ПЗ 2п.]УИРС (501С)
UID:0d5f34f0-edd3-4cbe-b7c8-15ddb524de73
END:VEVENT
BEGIN:VEVENT
ATTENDEE;CN=М6О-420С-22:https://public.mai.ru/schedule/data/9386bd38fb0b
 055232ab7f99429fac57.json
DESCRIPTION:Группы: М6О-420С-22
DTSTAMP:20260421T193301Z
DTSTART;TZID=Europe/Moscow:20260213T130000
DURATION:PT1H30M
LOCATION:--каф.914
RRULE:FREQ=DAILY;INTERVAL=7;COUNT=12
SEQUENCE:0
SUMMARY:[ЛК 1п.]Проектирование конструкций ан
 тенн (420С)
UID:c53970d6-f944-44d4-b1a6-84fc68388aa2
END:VEVENT
BEGIN:VEVENT
ATTENDEE;CN=М6О-420С-22:https://public.mai.ru/schedule/data/9386bd38fb0b
 055232ab7f99429fac57.json
DESCRIPTION:Группы: М6О-420С-22
DTSTAMP:20260421T193301Z
DTSTART;TZID=Europe/Moscow:20260515T130000
DURATION:PT1H30M
LOCATION:--каф.914
RRULE:FREQ=DAILY;INTERVAL=7;COUNT=4
SEQUENCE:0
SUMMARY:[ЛК 1п.]Проектирование конструкций ан
 тенн (420С)
UID:036a2eb1-7dcc-41eb-afad-740056c9ddc6
END:VEVENT
END:VCALENDAR
