﻿BEGIN:VCALENDAR
CALSCALE:GREGORIAN
METHOD:PUBLISH
PRODID:-//MAI-dep406//MAI Dep406 1.01//RU
VERSION:2.0
X-WR-TIMEZONE:Europe/Moscow
BEGIN:VTIMEZONE
TZID:Europe/Moscow
X-LIC-LOCATION:Europe/Moscow
BEGIN:STANDARD
DTSTART;VALUE=DATE:19700101
TZNAME:GMT+3
TZOFFSETTO:+0300
END:STANDARD
END:VTIMEZONE
BEGIN:VEVENT
ATTENDEE;CN=М14О-301БВ-23:https://public.mai.ru/schedule/data/21a6537eb
 0c70b17f2ddf23fa9bff263.json
ATTENDEE;CN=М14О-302БВ-23:https://public.mai.ru/schedule/data/7da75fc44
 dd81ac5f62335def26751d3.json
DESCRIPTION:Группы: М14О-301БВ-23\,М14О-302БВ-23
DTSTAMP:20260422T085511Z
DTSTART;TZID=Europe/Moscow:20260209T144500
DURATION:PT1H30M
LOCATION:Орш. А-301
RRULE:FREQ=DAILY;INTERVAL=7;COUNT=3
SEQUENCE:0
SUMMARY:[ЛК 1п.]Детали машин и основы конструи
 рования (301БВ\,302БВ)
UID:252d57df-0ead-4d42-8983-fe52538e637e
END:VEVENT
BEGIN:VEVENT
ATTENDEE;CN=М14О-301БВ-23:https://public.mai.ru/schedule/data/21a6537eb
 0c70b17f2ddf23fa9bff263.json
ATTENDEE;CN=М14О-302БВ-23:https://public.mai.ru/schedule/data/7da75fc44
 dd81ac5f62335def26751d3.json
DESCRIPTION:Группы: М14О-301БВ-23\,М14О-302БВ-23
DTSTAMP:20260422T085511Z
DTSTART;TZID=Europe/Moscow:20260316T144500
DURATION:PT1H30M
LOCATION:Орш. А-301
RRULE:FREQ=DAILY;INTERVAL=7;COUNT=12
SEQUENCE:0
SUMMARY:[ЛК 1п.]Детали машин и основы конструи
 рования (301БВ\,302БВ)
UID:244d36fd-1008-4b00-9a87-73df51071351
END:VEVENT
BEGIN:VEVENT
ATTENDEE;CN=М2О-313БВ-23:https://public.mai.ru/schedule/data/f7c947f3c9
 c89f57a729688b230fef63.json
DESCRIPTION:Группы: М2О-313БВ-23
DTSTAMP:20260422T085511Z
DTSTART;TZID=Europe/Moscow:20260220T163000
DURATION:PT1H30M
LOCATION:ГУК Б-647
RRULE:FREQ=DAILY;INTERVAL=14;COUNT=6
SEQUENCE:0
SUMMARY:[ПЗ 1п.]Детали механизмов и машин (313БВ
 )
UID:15f3d26e-8338-4b2b-896c-2d9c4d887432
END:VEVENT
BEGIN:VEVENT
ATTENDEE;CN=М2О-313БВ-23:https://public.mai.ru/schedule/data/f7c947f3c9
 c89f57a729688b230fef63.json
DESCRIPTION:Группы: М2О-313БВ-23
DTSTAMP:20260422T085511Z
DTSTART;TZID=Europe/Moscow:20260529T163000
DURATION:PT1H30M
LOCATION:ГУК Б-647
RRULE:FREQ=DAILY;INTERVAL=14;COUNT=1
SEQUENCE:0
SUMMARY:[ПЗ 1п.]Детали механизмов и машин (313БВ
 )
UID:74ea22a2-9bd3-49a4-b751-a4ae69bcf9c7
END:VEVENT
BEGIN:VEVENT
ATTENDEE;CN=М1О-214БВ-24:https://public.mai.ru/schedule/data/d47c717530
 34197dd43acfc36f91c348.json
DESCRIPTION:Группы: М1О-214БВ-24
DTSTAMP:20260422T085511Z
DTSTART;TZID=Europe/Moscow:20260415T090000
DURATION:PT3H15M
LOCATION:ГУК Б-644
RRULE:FREQ=DAILY;INTERVAL=7;COUNT=2
SEQUENCE:0
SUMMARY:[ПЗ 2п.]Детали машин и основы конструи
 рования (214БВ)
UID:fa1a26ef-23a1-4d88-ab42-79d8f26312b2
END:VEVENT
BEGIN:VEVENT
ATTENDEE;CN=М14О-301БВ-23:https://public.mai.ru/schedule/data/21a6537eb
 0c70b17f2ddf23fa9bff263.json
DESCRIPTION:Группы: М14О-301БВ-23
DTSTAMP:20260422T085511Z
DTSTART;TZID=Europe/Moscow:20260611T090000
DURATION:PT3H15M
LOCATION:Орш. А-305
RRULE:FREQ=DAILY;INTERVAL=0;COUNT=1
SEQUENCE:0
SUMMARY:[Экзамен 2п.]Детали машин и основы кон
 струирования (301БВ)
UID:cd66c7c2-ac93-460e-82e1-2323f91dcc18
END:VEVENT
BEGIN:VEVENT
ATTENDEE;CN=М2О-304БВ-23:https://public.mai.ru/schedule/data/9392519dcb
 ee1d14a6da1e716248aa5c.json
DESCRIPTION:Группы: М2О-304БВ-23
DTSTAMP:20260422T085511Z
DTSTART;TZID=Europe/Moscow:20260613T104500
DURATION:PT1H30M
LOCATION:ГУК Б-644
RRULE:FREQ=DAILY;INTERVAL=0;COUNT=1
SEQUENCE:0
SUMMARY:[Экзамен 1п.]Детали механизмов и маши
 н (304БВ)
UID:debc2cbc-fb97-4c17-8208-19cc1d7f1534
END:VEVENT
BEGIN:VEVENT
ATTENDEE;CN=М2О-303БВ-23:https://public.mai.ru/schedule/data/ce2aebd86a
 2a90ef778431425c300a74.json
DESCRIPTION:Группы: М2О-303БВ-23
DTSTAMP:20260422T085511Z
DTSTART;TZID=Europe/Moscow:20260615T090000
DURATION:PT3H15M
LOCATION:ГУК Б-644
RRULE:FREQ=DAILY;INTERVAL=7;COUNT=2
SEQUENCE:0
SUMMARY:[Экзамен 2п.]Детали механизмов и маши
 н (303БВ)
UID:8faf2526-ea09-453a-83a2-b16d1d670fb7
END:VEVENT
BEGIN:VEVENT
ATTENDEE;CN=М14О-302БВ-23:https://public.mai.ru/schedule/data/7da75fc44
 dd81ac5f62335def26751d3.json
DESCRIPTION:Группы: М14О-302БВ-23
DTSTAMP:20260422T085511Z
DTSTART;TZID=Europe/Moscow:20260616T090000
DURATION:PT3H15M
LOCATION:Орш. А-306
RRULE:FREQ=DAILY;INTERVAL=0;COUNT=1
SEQUENCE:0
SUMMARY:[Экзамен 2п.]Детали машин и основы кон
 струирования (302БВ)
UID:224dd8b8-a263-4f47-8d04-b2cfb37a3878
END:VEVENT
BEGIN:VEVENT
ATTENDEE;CN=М2О-301БВ-23:https://public.mai.ru/schedule/data/f016335cab
 a1bddb55bcbf77c7279d04.json
DESCRIPTION:Группы: М2О-301БВ-23
DTSTAMP:20260422T085511Z
DTSTART;TZID=Europe/Moscow:20260617T090000
DURATION:PT3H15M
LOCATION:ГУК Б-644
RRULE:FREQ=DAILY;INTERVAL=0;COUNT=1
SEQUENCE:0
SUMMARY:[Экзамен 2п.]Детали механизмов и маши
 н (301БВ)
UID:6522affe-faa2-4271-859d-7a9b92ef6227
END:VEVENT
BEGIN:VEVENT
ATTENDEE;CN=М2О-307БВ-23:https://public.mai.ru/schedule/data/4cb38f8bc3
 780ab83ce509674b5fe7c8.json
DESCRIPTION:Группы: М2О-307БВ-23
DTSTAMP:20260422T085511Z
DTSTART;TZID=Europe/Moscow:20260618T090000
DURATION:PT3H15M
LOCATION:ГУК Б-644
RRULE:FREQ=DAILY;INTERVAL=0;COUNT=1
SEQUENCE:0
SUMMARY:[Экзамен 2п.]Детали механизмов и маши
 н (307БВ)
UID:a3ba5ff6-1f5e-4b6e-b6f2-f7ff138d894a
END:VEVENT
BEGIN:VEVENT
ATTENDEE;CN=М2О-313БВ-23:https://public.mai.ru/schedule/data/f7c947f3c9
 c89f57a729688b230fef63.json
DESCRIPTION:Группы: М2О-313БВ-23
DTSTAMP:20260422T085511Z
DTSTART;TZID=Europe/Moscow:20260619T090000
DURATION:PT3H15M
LOCATION:ГУК Б-644
RRULE:FREQ=DAILY;INTERVAL=7;COUNT=2
SEQUENCE:0
SUMMARY:[Экзамен 2п.]Детали механизмов и маши
 н (313БВ)
UID:9e7e9bef-b589-4033-bb7c-dd00729c7d92
END:VEVENT
BEGIN:VEVENT
ATTENDEE;CN=М2О-311БВ-23:https://public.mai.ru/schedule/data/96de36b850
 3978d3224833bd06666667.json
DESCRIPTION:Группы: М2О-311БВ-23
DTSTAMP:20260422T085511Z
DTSTART;TZID=Europe/Moscow:20260623T090000
DURATION:PT3H15M
LOCATION:ГУК Б-644
RRULE:FREQ=DAILY;INTERVAL=0;COUNT=1
SEQUENCE:0
SUMMARY:[Экзамен 2п.]Детали механизмов и маши
 н (311БВ)
UID:446f7c9c-7375-40d7-b47d-94174dc749bb
END:VEVENT
END:VCALENDAR
