﻿BEGIN:VCALENDAR
CALSCALE:GREGORIAN
METHOD:PUBLISH
PRODID:-//MAI-dep406//MAI Dep406 1.01//RU
VERSION:2.0
X-WR-TIMEZONE:Europe/Moscow
BEGIN:VTIMEZONE
TZID:Europe/Moscow
X-LIC-LOCATION:Europe/Moscow
BEGIN:STANDARD
DTSTART;VALUE=DATE:19700101
TZNAME:GMT+3
TZOFFSETTO:+0300
END:STANDARD
END:VTIMEZONE
BEGIN:VEVENT
ATTENDEE;CN=М3О-104БВ-25:https://public.mai.ru/schedule/data/e554510f98
 096cf59b44c98d860a9e56.json
ATTENDEE;CN=М3О-108БВ-25:https://public.mai.ru/schedule/data/ab37f42bf8
 5e69a11e9ab52c9a4c5d29.json
ATTENDEE;CN=М3О-119БВ-25:https://public.mai.ru/schedule/data/e382f43c32
 4b420bf54e561984eed7a9.json
ATTENDEE;CN=М3О-107БВ-25:https://public.mai.ru/schedule/data/b486fb2b68
 4138683bfbbb678d7e5aa9.json
ATTENDEE;CN=М3О-109БВ-25:https://public.mai.ru/schedule/data/30428516b0
 bab9791bf78fe482576cec.json
ATTENDEE;CN=М3О-111БВ-25:https://public.mai.ru/schedule/data/5d8a6ce122
 14df8213583eeb6b98aa4d.json
ATTENDEE;CN=М3О-103БВ-25:https://public.mai.ru/schedule/data/8f6770c013
 a62259c82d12183ede165f.json
ATTENDEE;CN=М3О-110БВ-25:https://public.mai.ru/schedule/data/16db9e1120
 d10a025b997dd59527bddc.json
DESCRIPTION:Группы: М3О-104БВ-25\,М3О-108БВ-25\,М3О-119БВ
 -25\,М3О-107БВ-25\,М3О-109БВ-25\,М3О-111БВ-25\,М3О-103БВ-2
 5\,М3О-110БВ-25
DTSTAMP:20260419T172712Z
DTSTART;TZID=Europe/Moscow:20260209T104500
DURATION:PT1H30M
LOCATION:ГУК В-221
RRULE:FREQ=DAILY;INTERVAL=7;COUNT=3
SEQUENCE:0
SUMMARY:[ЛК 1п.]Дискретная математика и матем
 атическая логика (104БВ\,108БВ\,119БВ\,107БВ\,109Б
 В\,111БВ\,103БВ\,110БВ)
UID:6537691a-bb58-4814-a5ad-0fe36d12458b
END:VEVENT
BEGIN:VEVENT
ATTENDEE;CN=М3О-104БВ-25:https://public.mai.ru/schedule/data/e554510f98
 096cf59b44c98d860a9e56.json
ATTENDEE;CN=М3О-108БВ-25:https://public.mai.ru/schedule/data/ab37f42bf8
 5e69a11e9ab52c9a4c5d29.json
ATTENDEE;CN=М3О-119БВ-25:https://public.mai.ru/schedule/data/e382f43c32
 4b420bf54e561984eed7a9.json
ATTENDEE;CN=М3О-107БВ-25:https://public.mai.ru/schedule/data/b486fb2b68
 4138683bfbbb678d7e5aa9.json
ATTENDEE;CN=М3О-109БВ-25:https://public.mai.ru/schedule/data/30428516b0
 bab9791bf78fe482576cec.json
ATTENDEE;CN=М3О-111БВ-25:https://public.mai.ru/schedule/data/5d8a6ce122
 14df8213583eeb6b98aa4d.json
ATTENDEE;CN=М3О-103БВ-25:https://public.mai.ru/schedule/data/8f6770c013
 a62259c82d12183ede165f.json
ATTENDEE;CN=М3О-110БВ-25:https://public.mai.ru/schedule/data/16db9e1120
 d10a025b997dd59527bddc.json
DESCRIPTION:Группы: М3О-104БВ-25\,М3О-108БВ-25\,М3О-119БВ
 -25\,М3О-107БВ-25\,М3О-109БВ-25\,М3О-111БВ-25\,М3О-103БВ-2
 5\,М3О-110БВ-25
DTSTAMP:20260419T172712Z
DTSTART;TZID=Europe/Moscow:20260316T104500
DURATION:PT1H30M
LOCATION:ГУК В-221
RRULE:FREQ=DAILY;INTERVAL=7;COUNT=11
SEQUENCE:0
SUMMARY:[ЛК 1п.]Дискретная математика и матем
 атическая логика (104БВ\,108БВ\,119БВ\,107БВ\,109Б
 В\,111БВ\,103БВ\,110БВ)
UID:613afbe3-5310-422e-97df-d9fbfe7650a4
END:VEVENT
BEGIN:VEVENT
ATTENDEE;CN=М3О-135БВ-25:https://public.mai.ru/schedule/data/6adf5e10ad
 5144c2576253862a9114da.json
ATTENDEE;CN=М3О-132БВ-25:https://public.mai.ru/schedule/data/b190edcfc5
 f24034c98239ce685beaa3.json
DESCRIPTION:Группы: М3О-135БВ-25\,М3О-132БВ-25
DTSTAMP:20260419T172712Z
DTSTART;TZID=Europe/Moscow:20260214T090000
DURATION:PT3H15M
LOCATION:Орш. Б-306
RRULE:FREQ=DAILY;INTERVAL=7;COUNT=8
SEQUENCE:0
SUMMARY:[ЛК 2п.]Математические и логические о
 сновы информационных процессов (135БВ\,132Б
 В)
UID:dd56f83c-4d28-4f38-8717-2570263eb304
END:VEVENT
BEGIN:VEVENT
ATTENDEE;CN=М3О-135БВ-25:https://public.mai.ru/schedule/data/6adf5e10ad
 5144c2576253862a9114da.json
ATTENDEE;CN=М3О-132БВ-25:https://public.mai.ru/schedule/data/b190edcfc5
 f24034c98239ce685beaa3.json
DESCRIPTION:Группы: М3О-135БВ-25\,М3О-132БВ-25
DTSTAMP:20260419T172712Z
DTSTART;TZID=Europe/Moscow:20260425T090000
DURATION:PT3H15M
LOCATION:Орш. Б-306
RRULE:FREQ=DAILY;INTERVAL=7;COUNT=2
SEQUENCE:0
SUMMARY:[ЛК 2п.]Математические и логические о
 сновы информационных процессов (135БВ\,132Б
 В)
UID:43ae3a04-397a-4507-9260-42a9004d1114
END:VEVENT
BEGIN:VEVENT
ATTENDEE;CN=М3О-132БВ-25:https://public.mai.ru/schedule/data/b190edcfc5
 f24034c98239ce685beaa3.json
DESCRIPTION:Группы: М3О-132БВ-25
DTSTAMP:20260419T172712Z
DTSTART;TZID=Europe/Moscow:20260613T090000
DURATION:PT3H15M
LOCATION:Орш. В-404
RRULE:FREQ=DAILY;INTERVAL=7;COUNT=1
SEQUENCE:0
SUMMARY:[Экзамен 2п.]Математические и логичес
 кие основы информационных процессов (132Б
 В)
UID:c1b951f4-07a5-4a09-a406-f5148e2bbca4
END:VEVENT
BEGIN:VEVENT
ATTENDEE;CN=М3О-135БВ-25:https://public.mai.ru/schedule/data/6adf5e10ad
 5144c2576253862a9114da.json
DESCRIPTION:Группы: М3О-135БВ-25
DTSTAMP:20260419T172712Z
DTSTART;TZID=Europe/Moscow:20260221T130000
DURATION:PT3H15M
LOCATION:Орш. В-425
RRULE:FREQ=DAILY;INTERVAL=14;COUNT=4
SEQUENCE:0
SUMMARY:[ПЗ 2п.]Математические и логические о
 сновы информационных процессов (135БВ)
UID:eec6513f-a7dc-4d78-88a7-d435ba8c988f
END:VEVENT
BEGIN:VEVENT
ATTENDEE;CN=М3О-107БВ-25:https://public.mai.ru/schedule/data/b486fb2b68
 4138683bfbbb678d7e5aa9.json
DESCRIPTION:Группы: М3О-107БВ-25
DTSTAMP:20260419T172712Z
DTSTART;TZID=Europe/Moscow:20260306T090000
DURATION:PT3H15M
LOCATION:3-330
RRULE:FREQ=DAILY;INTERVAL=7;COUNT=9
SEQUENCE:0
SUMMARY:[ПЗ 2п.]Дискретная математика и матем
 атическая логика (107БВ)
UID:53f880b5-0867-40db-91ce-1382b06ddc85
END:VEVENT
BEGIN:VEVENT
ATTENDEE;CN=М3О-107БВ-25:https://public.mai.ru/schedule/data/b486fb2b68
 4138683bfbbb678d7e5aa9.json
DESCRIPTION:Группы: М3О-107БВ-25
DTSTAMP:20260419T172712Z
DTSTART;TZID=Europe/Moscow:20260515T090000
DURATION:PT3H15M
LOCATION:3-330
RRULE:FREQ=DAILY;INTERVAL=7;COUNT=5
SEQUENCE:0
SUMMARY:[ЛР 2п.]Дискретная математика и матем
 атическая логика (107БВ)
UID:0c3bbf09-44de-4b07-81b3-2a32b02cc407
END:VEVENT
BEGIN:VEVENT
ATTENDEE;CN=М3О-109БВ-25:https://public.mai.ru/schedule/data/30428516b0
 bab9791bf78fe482576cec.json
DESCRIPTION:Группы: М3О-109БВ-25
DTSTAMP:20260419T172712Z
DTSTART;TZID=Europe/Moscow:20260626T090000
DURATION:PT3H15M
LOCATION:3-213
RRULE:FREQ=DAILY;INTERVAL=7;COUNT=1
SEQUENCE:0
SUMMARY:[Экзамен 2п.]Дискретная математика и 
 математическая логика (109БВ)
UID:3117d81f-490f-4232-9d19-3ce6fce800b1
END:VEVENT
BEGIN:VEVENT
ATTENDEE;CN=М3О-109БВ-25:https://public.mai.ru/schedule/data/30428516b0
 bab9791bf78fe482576cec.json
DESCRIPTION:Группы: М3О-109БВ-25
DTSTAMP:20260419T172712Z
DTSTART;TZID=Europe/Moscow:20260306T130000
DURATION:PT3H15M
LOCATION:3-330
RRULE:FREQ=DAILY;INTERVAL=7;COUNT=9
SEQUENCE:0
SUMMARY:[ПЗ 2п.]Дискретная математика и матем
 атическая логика (109БВ)
UID:54381650-cc1f-488c-af88-01ac6b0e3dec
END:VEVENT
BEGIN:VEVENT
ATTENDEE;CN=М3О-109БВ-25:https://public.mai.ru/schedule/data/30428516b0
 bab9791bf78fe482576cec.json
DESCRIPTION:Группы: М3О-109БВ-25
DTSTAMP:20260419T172712Z
DTSTART;TZID=Europe/Moscow:20260515T130000
DURATION:PT3H15M
LOCATION:3-330
RRULE:FREQ=DAILY;INTERVAL=7;COUNT=5
SEQUENCE:0
SUMMARY:[ЛР 2п.]Дискретная математика и матем
 атическая логика (109БВ)
UID:968476e4-f1aa-4abf-82e1-4b285acd45ce
END:VEVENT
BEGIN:VEVENT
ATTENDEE;CN=М3О-111БВ-25:https://public.mai.ru/schedule/data/5d8a6ce122
 14df8213583eeb6b98aa4d.json
DESCRIPTION:Группы: М3О-111БВ-25
DTSTAMP:20260419T172712Z
DTSTART;TZID=Europe/Moscow:20260626T130000
DURATION:PT3H15M
LOCATION:3-213
RRULE:FREQ=DAILY;INTERVAL=7;COUNT=1
SEQUENCE:0
SUMMARY:[Экзамен 2п.]Дискретная математика и 
 математическая логика (111БВ)
UID:3b6b9391-9e73-4593-a002-6f9b5c348898
END:VEVENT
BEGIN:VEVENT
ATTENDEE;CN=М3О-108БВ-25:https://public.mai.ru/schedule/data/ab37f42bf8
 5e69a11e9ab52c9a4c5d29.json
DESCRIPTION:Группы: М3О-108БВ-25
DTSTAMP:20260419T172712Z
DTSTART;TZID=Europe/Moscow:20260620T090000
DURATION:PT3H15M
LOCATION:3-213
RRULE:FREQ=DAILY;INTERVAL=7;COUNT=2
SEQUENCE:0
SUMMARY:[Экзамен 2п.]Дискретная математика и 
 математическая логика (108БВ)
UID:1467d8f4-d6ec-4528-acb6-b8ad38ac42f0
END:VEVENT
BEGIN:VEVENT
ATTENDEE;CN=М3О-104БВ-25:https://public.mai.ru/schedule/data/e554510f98
 096cf59b44c98d860a9e56.json
DESCRIPTION:Группы: М3О-104БВ-25
DTSTAMP:20260419T172712Z
DTSTART;TZID=Europe/Moscow:20260620T130000
DURATION:PT3H15M
LOCATION:3-213
RRULE:FREQ=DAILY;INTERVAL=7;COUNT=2
SEQUENCE:0
SUMMARY:[Экзамен 2п.]Дискретная математика и 
 математическая логика (104БВ)
UID:3b9ce92d-84d0-4676-abd6-31e02c4cd9cf
END:VEVENT
END:VCALENDAR
