﻿BEGIN:VCALENDAR
CALSCALE:GREGORIAN
METHOD:PUBLISH
PRODID:-//MAI-dep406//MAI Dep406 1.01//RU
VERSION:2.0
X-WR-TIMEZONE:Europe/Moscow
BEGIN:VTIMEZONE
TZID:Europe/Moscow
X-LIC-LOCATION:Europe/Moscow
BEGIN:STANDARD
DTSTART;VALUE=DATE:19700101
TZNAME:GMT+3
TZOFFSETTO:+0300
END:STANDARD
END:VTIMEZONE
BEGIN:VEVENT
ATTENDEE;CN=М1О-413Бки-22:https://public.mai.ru/schedule/data/419adb7b
 bbaca06d5b90ae9213e74909.json
DESCRIPTION:Группы: М1О-413Бки-22
DTSTAMP:20260422T152746Z
DTSTART;TZID=Europe/Moscow:20260212T130000
DURATION:PT3H15M
LOCATION:7-404
RRULE:FREQ=DAILY;INTERVAL=7;COUNT=15
SEQUENCE:0
SUMMARY:[ЛК 2п.]Проектирование самолетов (413Бк
 и)
UID:87c356f2-eef7-417b-876d-50d00fd57703
END:VEVENT
END:VCALENDAR
