﻿BEGIN:VCALENDAR
CALSCALE:GREGORIAN
METHOD:PUBLISH
PRODID:-//MAI-dep406//MAI Dep406 1.01//RU
VERSION:2.0
X-WR-TIMEZONE:Europe/Moscow
BEGIN:VTIMEZONE
TZID:Europe/Moscow
X-LIC-LOCATION:Europe/Moscow
BEGIN:STANDARD
DTSTART;VALUE=DATE:19700101
TZNAME:GMT+3
TZOFFSETTO:+0300
END:STANDARD
END:VTIMEZONE
BEGIN:VEVENT
ATTENDEE;CN=М7О-502С-21:https://public.mai.ru/schedule/data/350840d3fb88
 2f78537056ff9c437fda.json
ATTENDEE;CN=М7О-501С-21:https://public.mai.ru/schedule/data/b961eeb3b14d
 a3b753f798f45a423222.json
DESCRIPTION:Группы: М7О-502С-21\,М7О-501С-21
DTSTAMP:20260421T035428Z
DTSTART;TZID=Europe/Moscow:20260212T090000
DURATION:PT3H15M
LOCATION:--каф.701
RRULE:FREQ=DAILY;INTERVAL=7;COUNT=17
SEQUENCE:0
SUMMARY:[ЛК 2п.]Наземная и лётная отработка ро
 бототехнических систем (502С\,501С)
UID:8248bebb-ff57-41aa-9704-396abdab3a4a
END:VEVENT
BEGIN:VEVENT
ATTENDEE;CN=М7О-502С-21:https://public.mai.ru/schedule/data/350840d3fb88
 2f78537056ff9c437fda.json
DESCRIPTION:Группы: М7О-502С-21
DTSTAMP:20260421T035428Z
DTSTART;TZID=Europe/Moscow:20260226T130000
DURATION:PT3H15M
LOCATION:--каф.701
RRULE:FREQ=DAILY;INTERVAL=7;COUNT=13
SEQUENCE:0
SUMMARY:[ЛР 2п.]Наземная и лётная отработка ро
 бототехнических систем (502С)
UID:fc26f27f-661f-416c-bb54-bb8bf84dff8b
END:VEVENT
END:VCALENDAR
