﻿BEGIN:VCALENDAR
CALSCALE:GREGORIAN
METHOD:PUBLISH
PRODID:-//MAI-dep406//MAI Dep406 1.01//RU
VERSION:2.0
X-WR-TIMEZONE:Europe/Moscow
BEGIN:VTIMEZONE
TZID:Europe/Moscow
X-LIC-LOCATION:Europe/Moscow
BEGIN:STANDARD
DTSTART;VALUE=DATE:19700101
TZNAME:GMT+3
TZOFFSETTO:+0300
END:STANDARD
END:VTIMEZONE
BEGIN:VEVENT
ATTENDEE;CN=М7О-402Б-22:https://public.mai.ru/schedule/data/7f0153fa4352
 379f75de3f469c04620d.json
DESCRIPTION:Группы: М7О-402Б-22
DTSTAMP:20260422T085508Z
DTSTART;TZID=Europe/Moscow:20260210T090000
DURATION:PT3H15M
LOCATION:--каф.707Б
RRULE:FREQ=DAILY;INTERVAL=7;COUNT=10
SEQUENCE:0
SUMMARY:[ЛК 2п.]Основы методологии внешнего п
 роектирования АК (402Б)
UID:479fa701-1acd-4b24-959b-d957d255319e
END:VEVENT
BEGIN:VEVENT
ATTENDEE;CN=М7О-511С-21:https://public.mai.ru/schedule/data/0142d7e1cf6e
 381b3171a4c3503399b7.json
DESCRIPTION:Группы: М7О-511С-21
DTSTAMP:20260422T085508Z
DTSTART;TZID=Europe/Moscow:20260218T090000
DURATION:PT3H15M
LOCATION:--каф.707Б
RRULE:FREQ=DAILY;INTERVAL=14;COUNT=3
SEQUENCE:0
SUMMARY:[ПЗ 2п.]Внешнее проектирование авиаци
 онных организационно-технических систе
 м (511С)
UID:5839f938-c23b-45e5-81c9-873862cced5a
END:VEVENT
END:VCALENDAR
