﻿BEGIN:VCALENDAR
CALSCALE:GREGORIAN
METHOD:PUBLISH
PRODID:-//MAI-dep406//MAI Dep406 1.01//RU
VERSION:2.0
X-WR-TIMEZONE:Europe/Moscow
BEGIN:VTIMEZONE
TZID:Europe/Moscow
X-LIC-LOCATION:Europe/Moscow
BEGIN:STANDARD
DTSTART;VALUE=DATE:19700101
TZNAME:GMT+3
TZOFFSETTO:+0300
END:STANDARD
END:VTIMEZONE
BEGIN:VEVENT
ATTENDEE;CN=М6О-512С-21:https://public.mai.ru/schedule/data/2f6c04031c1a
 979d2e2ee2cb34077ab9.json
DESCRIPTION:Группы: М6О-512С-21
DTSTAMP:20260420T072709Z
DTSTART;TZID=Europe/Moscow:20260209T130000
DURATION:PT3H15M
LOCATION:24-440
RRULE:FREQ=DAILY;INTERVAL=7;COUNT=3
SEQUENCE:0
SUMMARY:[ЛК\,ПЗ 2п.]Автоматизация испытаний ди
 станционно-пилотируемых летательных ап
 паратов (512С)
UID:f94714a5-88de-4edd-a647-500534d4560b
END:VEVENT
BEGIN:VEVENT
ATTENDEE;CN=М6О-512С-21:https://public.mai.ru/schedule/data/2f6c04031c1a
 979d2e2ee2cb34077ab9.json
DESCRIPTION:Группы: М6О-512С-21
DTSTAMP:20260420T072709Z
DTSTART;TZID=Europe/Moscow:20260316T130000
DURATION:PT3H15M
LOCATION:24-440
RRULE:FREQ=DAILY;INTERVAL=7;COUNT=11
SEQUENCE:0
SUMMARY:[ЛК\,ПЗ 2п.]Автоматизация испытаний ди
 станционно-пилотируемых летательных ап
 паратов (512С)
UID:503c34d7-0931-451f-a8ce-85006700fe26
END:VEVENT
BEGIN:VEVENT
ATTENDEE;CN=М6О-502С-21:https://public.mai.ru/schedule/data/26d7125a4779
 94555be6aed0bfcb9348.json
DESCRIPTION:Группы: М6О-502С-21
DTSTAMP:20260420T072709Z
DTSTART;TZID=Europe/Moscow:20260211T130000
DURATION:PT3H15M
LOCATION:24-439
RRULE:FREQ=DAILY;INTERVAL=7;COUNT=17
SEQUENCE:0
SUMMARY:[ЛК\,ПЗ 2п.]Автоматизация испытаний ле
 тательных аппаратов (502С)
UID:917f2415-7b3a-4a06-94cd-ed7c73cf830e
END:VEVENT
BEGIN:VEVENT
ATTENDEE;CN=М6О-203БВ-24:https://public.mai.ru/schedule/data/80fef2cbfb
 9434be9d4c12f59a50827a.json
DESCRIPTION:Группы: М6О-203БВ-24
DTSTAMP:20260420T072709Z
DTSTART;TZID=Europe/Moscow:20260219T144500
DURATION:PT1H30M
LOCATION:24-440
RRULE:FREQ=DAILY;INTERVAL=14;COUNT=8
SEQUENCE:0
SUMMARY:[ПЗ 1п.]Основы проектной деятельности
  (203БВ)
UID:e154ee40-dee3-445a-bba9-ffa81ff2e17e
END:VEVENT
BEGIN:VEVENT
ATTENDEE;CN=М6О-220БВ-24:https://public.mai.ru/schedule/data/33b04d5ac3
 e0ebfcde60ccfa972532ff.json
DESCRIPTION:Группы: М6О-220БВ-24
DTSTAMP:20260420T072709Z
DTSTART;TZID=Europe/Moscow:20260219T163000
DURATION:PT1H30M
LOCATION:24-440
RRULE:FREQ=DAILY;INTERVAL=14;COUNT=6
SEQUENCE:0
SUMMARY:[ПЗ 1п.]Основы проектной деятельности
  (220БВ)
UID:c6e409be-8f99-4b8e-ab45-06bae5a34558
END:VEVENT
BEGIN:VEVENT
ATTENDEE;CN=М6О-220БВ-24:https://public.mai.ru/schedule/data/33b04d5ac3
 e0ebfcde60ccfa972532ff.json
DESCRIPTION:Группы: М6О-220БВ-24
DTSTAMP:20260420T072709Z
DTSTART;TZID=Europe/Moscow:20260528T163000
DURATION:PT1H30M
LOCATION:24-440
RRULE:FREQ=DAILY;INTERVAL=14;COUNT=1
SEQUENCE:0
SUMMARY:[ПЗ 1п.]Основы проектной деятельности
  (220БВ)
UID:a1054dfe-6a18-4394-a4c2-61c098b4078e
END:VEVENT
BEGIN:VEVENT
ATTENDEE;CN=М6О-202БВ-24:https://public.mai.ru/schedule/data/178aee3de4
 ecabc8c9297811767ae8fd.json
DESCRIPTION:Группы: М6О-202БВ-24
DTSTAMP:20260420T072709Z
DTSTART;TZID=Europe/Moscow:20260220T104500
DURATION:PT1H30M
LOCATION:24-444
RRULE:FREQ=DAILY;INTERVAL=14;COUNT=6
SEQUENCE:0
SUMMARY:[ПЗ 1п.]Основы проектной деятельности
  (202БВ)
UID:c5499b97-336d-4a54-9012-988ad227186c
END:VEVENT
BEGIN:VEVENT
ATTENDEE;CN=М6О-202БВ-24:https://public.mai.ru/schedule/data/178aee3de4
 ecabc8c9297811767ae8fd.json
DESCRIPTION:Группы: М6О-202БВ-24
DTSTAMP:20260420T072709Z
DTSTART;TZID=Europe/Moscow:20260529T104500
DURATION:PT1H30M
LOCATION:24-444
RRULE:FREQ=DAILY;INTERVAL=14;COUNT=1
SEQUENCE:0
SUMMARY:[ПЗ 1п.]Основы проектной деятельности
  (202БВ)
UID:05b051e8-5442-40e4-a82f-77b4338f5fdc
END:VEVENT
END:VCALENDAR
