﻿BEGIN:VCALENDAR
CALSCALE:GREGORIAN
METHOD:PUBLISH
PRODID:-//MAI-dep406//MAI Dep406 1.01//RU
VERSION:2.0
X-WR-TIMEZONE:Europe/Moscow
BEGIN:VTIMEZONE
TZID:Europe/Moscow
X-LIC-LOCATION:Europe/Moscow
BEGIN:STANDARD
DTSTART;VALUE=DATE:19700101
TZNAME:GMT+3
TZOFFSETTO:+0300
END:STANDARD
END:VTIMEZONE
BEGIN:VEVENT
ATTENDEE;CN=Т11О-303Б-23:https://public.mai.ru/schedule/data/9c5673abd69
 9843cc64d2c1abb3a1484.json
DESCRIPTION:Группы: Т11О-303Б-23
DTSTAMP:20260424T101223Z
DTSTART;TZID=Europe/Moscow:20260302T144500
DURATION:PT3H15M
LOCATION:Орш. В-608
RRULE:FREQ=DAILY;INTERVAL=14;COUNT=5
SEQUENCE:0
SUMMARY:[ЛК 2п.]Физическая химия 2 (303Б)
UID:53ea7a64-7a5d-4830-8f54-78d8f49c0859
END:VEVENT
BEGIN:VEVENT
ATTENDEE;CN=М2О-114БВ-25:https://public.mai.ru/schedule/data/09e56a728a
 f879187eb767a60fa2cd00.json
DESCRIPTION:Группы: М2О-114БВ-25
DTSTAMP:20260424T101223Z
DTSTART;TZID=Europe/Moscow:20260304T144500
DURATION:PT1H30M
LOCATION:Орш. Б-304
RRULE:FREQ=DAILY;INTERVAL=7;COUNT=13
SEQUENCE:0
SUMMARY:[ЛК 1п.]Химия (114БВ)
UID:984fc3bc-33af-4573-a919-2d5f2ac07926
END:VEVENT
BEGIN:VEVENT
ATTENDEE;CN=М2О-105БВ-25:https://public.mai.ru/schedule/data/935df05dcb
 9b116acfbb76bcbac2fef0.json
ATTENDEE;CN=М2О-107БВ-25:https://public.mai.ru/schedule/data/c3ede4954e
 aa78d4d5fce22d3707556a.json
ATTENDEE;CN=М2О-101БВ-25:https://public.mai.ru/schedule/data/5ae7f05629
 b06b47ad420b58b29ef5c1.json
ATTENDEE;CN=М2О-103БВ-25:https://public.mai.ru/schedule/data/ff150d1f2f
 9828db20dc47bedb54e300.json
DESCRIPTION:Группы: М2О-105БВ-25\,М2О-107БВ-25\,М2О-101БВ
 -25\,М2О-103БВ-25
DTSTAMP:20260424T101223Z
DTSTART;TZID=Europe/Moscow:20260304T163000
DURATION:PT1H30M
LOCATION:Орш. А-101
RRULE:FREQ=DAILY;INTERVAL=7;COUNT=13
SEQUENCE:0
SUMMARY:[ЛК 1п.]Химия (105БВ\,107БВ\,101БВ\,103БВ)
UID:7bc73806-5687-4414-8791-4dd004d5766c
END:VEVENT
BEGIN:VEVENT
ATTENDEE;CN=Т11О-202БВ-24:https://public.mai.ru/schedule/data/b087e5e1c
 d63595c4e9735f093fc841c.json
DESCRIPTION:Группы: Т11О-202БВ-24
DTSTAMP:20260424T101223Z
DTSTART;TZID=Europe/Moscow:20260306T144500
DURATION:PT1H30M
LOCATION:Орш. А-219
RRULE:FREQ=DAILY;INTERVAL=14;COUNT=5
SEQUENCE:0
SUMMARY:[ЛК 1п.]Физическая химия 2 (202БВ)
UID:a7c398e9-82b2-40dc-983f-94afeb3a9d7d
END:VEVENT
BEGIN:VEVENT
ATTENDEE;CN=Т11О-202БВ-24:https://public.mai.ru/schedule/data/b087e5e1c
 d63595c4e9735f093fc841c.json
DESCRIPTION:Группы: Т11О-202БВ-24
DTSTAMP:20260424T101223Z
DTSTART;TZID=Europe/Moscow:20260529T144500
DURATION:PT5H
LOCATION:Орш. А-219\; Орш. В-608
RRULE:FREQ=DAILY;INTERVAL=14;COUNT=1
SEQUENCE:0
SUMMARY:[ЛК\,ЛР 3п.]Физическая химия 2 (202БВ)
UID:045d0410-fd4b-45c0-84d9-8725000cb2cc
END:VEVENT
BEGIN:VEVENT
ATTENDEE;CN=Т11О-202БВ-24:https://public.mai.ru/schedule/data/b087e5e1c
 d63595c4e9735f093fc841c.json
DESCRIPTION:Группы: Т11О-202БВ-24
DTSTAMP:20260424T101223Z
DTSTART;TZID=Europe/Moscow:20260307T090000
DURATION:PT3H15M
LOCATION:Орш. В-608
RRULE:FREQ=DAILY;INTERVAL=14;COUNT=3
SEQUENCE:0
SUMMARY:[ЛК 2п.]Физическая химия 2 (202БВ)
UID:adab6dad-168d-4121-9d22-6b6b84ffcc8c
END:VEVENT
BEGIN:VEVENT
ATTENDEE;CN=М2О-114БВ-25:https://public.mai.ru/schedule/data/09e56a728a
 f879187eb767a60fa2cd00.json
DESCRIPTION:Группы: М2О-114БВ-25
DTSTAMP:20260424T101223Z
DTSTART;TZID=Europe/Moscow:20260312T104500
DURATION:PT1H30M
LOCATION:Орш. Б-303
RRULE:FREQ=DAILY;INTERVAL=14;COUNT=3
SEQUENCE:0
SUMMARY:[ЛК 1п.]Химия (114БВ)
UID:9e1450b8-f4a6-410d-8c40-b01a393901a1
END:VEVENT
BEGIN:VEVENT
ATTENDEE;CN=Т11О-303Б-23:https://public.mai.ru/schedule/data/9c5673abd69
 9843cc64d2c1abb3a1484.json
DESCRIPTION:Группы: Т11О-303Б-23
DTSTAMP:20260424T101223Z
DTSTART;TZID=Europe/Moscow:20260319T130000
DURATION:PT3H15M
LOCATION:Орш. В-608
RRULE:FREQ=DAILY;INTERVAL=14;COUNT=7
SEQUENCE:0
SUMMARY:[ЛР 2п.]Физическая химия 2 (303Б)
UID:384ac412-da32-4c85-85b4-c46860d34ff9
END:VEVENT
BEGIN:VEVENT
ATTENDEE;CN=М2О-105БВ-25:https://public.mai.ru/schedule/data/935df05dcb
 9b116acfbb76bcbac2fef0.json
ATTENDEE;CN=М2О-107БВ-25:https://public.mai.ru/schedule/data/c3ede4954e
 aa78d4d5fce22d3707556a.json
ATTENDEE;CN=М2О-101БВ-25:https://public.mai.ru/schedule/data/5ae7f05629
 b06b47ad420b58b29ef5c1.json
ATTENDEE;CN=М2О-103БВ-25:https://public.mai.ru/schedule/data/ff150d1f2f
 9828db20dc47bedb54e300.json
DESCRIPTION:Группы: М2О-105БВ-25\,М2О-107БВ-25\,М2О-101БВ
 -25\,М2О-103БВ-25
DTSTAMP:20260424T101223Z
DTSTART;TZID=Europe/Moscow:20260321T163000
DURATION:PT1H30M
LOCATION:Орш. А-101
RRULE:FREQ=DAILY;INTERVAL=14;COUNT=3
SEQUENCE:0
SUMMARY:[ЛК 1п.]Химия (105БВ\,107БВ\,101БВ\,103БВ)
UID:eea1e5be-aadd-4458-bdbc-dc81a0c3cbd2
END:VEVENT
BEGIN:VEVENT
ATTENDEE;CN=Т11О-102БВ-25:https://public.mai.ru/schedule/data/599a890d6
 db77b5a1e466356c1863716.json
DESCRIPTION:Группы: Т11О-102БВ-25
DTSTAMP:20260424T101223Z
DTSTART;TZID=Europe/Moscow:20260323T090000
DURATION:PT3H15M
LOCATION:Орш. В-619
RRULE:FREQ=DAILY;INTERVAL=14;COUNT=4
SEQUENCE:0
SUMMARY:[ЛР 2п.]Химия (102БВ)
UID:bb797559-3122-48d2-bdee-4cd71a78fe65
END:VEVENT
BEGIN:VEVENT
ATTENDEE;CN=Т11О-101БВ-25:https://public.mai.ru/schedule/data/e02241a75
 49fdbc8a59cf3eee193d1a4.json
DESCRIPTION:Группы: Т11О-101БВ-25
DTSTAMP:20260424T101223Z
DTSTART;TZID=Europe/Moscow:20260323T130000
DURATION:PT3H15M
LOCATION:Орш. В-608
RRULE:FREQ=DAILY;INTERVAL=14;COUNT=4
SEQUENCE:0
SUMMARY:[ЛР 2п.]Химия (101БВ)
UID:1687c569-955a-4a40-97b8-297cb0962630
END:VEVENT
BEGIN:VEVENT
ATTENDEE;CN=Т11О-103БВ-25:https://public.mai.ru/schedule/data/40ed9f085
 8c55127f598e2defad532f0.json
ATTENDEE;CN=Т11О-303Б-23:https://public.mai.ru/schedule/data/9c5673abd69
 9843cc64d2c1abb3a1484.json
DESCRIPTION:Группы: Т11О-103БВ-25\,Т11О-303Б-23
DTSTAMP:20260424T101223Z
DTSTART;TZID=Europe/Moscow:20260413T163000
DURATION:PT1H30M
LOCATION:Орш. В-619\; Орш. В-608
RRULE:FREQ=DAILY;INTERVAL=14;COUNT=2
SEQUENCE:0
SUMMARY:[ЛР\,ЛК 1п.]Физическая химия 2 (103БВ\,303Б)
UID:d056f621-4880-40c6-b874-e1ffa343c0c9
END:VEVENT
BEGIN:VEVENT
ATTENDEE;CN=Т11О-103БВ-25:https://public.mai.ru/schedule/data/40ed9f085
 8c55127f598e2defad532f0.json
DESCRIPTION:Группы: Т11О-103БВ-25
DTSTAMP:20260424T101223Z
DTSTART;TZID=Europe/Moscow:20260413T181500
DURATION:PT1H30M
LOCATION:Орш. В-619
RRULE:FREQ=DAILY;INTERVAL=14;COUNT=2
SEQUENCE:0
SUMMARY:[ЛР 1п.]Химия (103БВ)
UID:fc11aa6b-5e24-425d-aaec-f8992c318dcb
END:VEVENT
BEGIN:VEVENT
ATTENDEE;CN=М7О-109БВ-25:https://public.mai.ru/schedule/data/5f12a85f29
 ad8c724571e72141e14912.json
DESCRIPTION:Группы: М7О-109БВ-25
DTSTAMP:20260424T101223Z
DTSTART;TZID=Europe/Moscow:20260423T130000
DURATION:PT3H15M
LOCATION:ГУК Б-742
RRULE:FREQ=DAILY;INTERVAL=14;COUNT=4
SEQUENCE:0
SUMMARY:[ЛР 2п.]Химия (109БВ)
UID:40d4ed3d-ce64-4d4d-bc2d-07e633c09ef5
END:VEVENT
BEGIN:VEVENT
ATTENDEE;CN=Т11О-303Б-23:https://public.mai.ru/schedule/data/9c5673abd69
 9843cc64d2c1abb3a1484.json
DESCRIPTION:Группы: Т11О-303Б-23
DTSTAMP:20260424T101223Z
DTSTART;TZID=Europe/Moscow:20260511T130000
DURATION:PT3H15M
LOCATION:Орш. В-608
RRULE:FREQ=DAILY;INTERVAL=14;COUNT=2
SEQUENCE:0
SUMMARY:[ЛК 2п.]Физическая химия 2 (303Б)
UID:13d49bbb-cad3-4cbf-b1eb-e627458abcad
END:VEVENT
BEGIN:VEVENT
ATTENDEE;CN=Т11О-103БВ-25:https://public.mai.ru/schedule/data/40ed9f085
 8c55127f598e2defad532f0.json
DESCRIPTION:Группы: Т11О-103БВ-25
DTSTAMP:20260424T101223Z
DTSTART;TZID=Europe/Moscow:20260511T163000
DURATION:PT3H15M
LOCATION:Орш. В-619
RRULE:FREQ=DAILY;INTERVAL=14;COUNT=2
SEQUENCE:0
SUMMARY:[ЛР 2п.]Химия (103БВ)
UID:45500396-a9da-4b96-95c1-2521dd74084a
END:VEVENT
BEGIN:VEVENT
ATTENDEE;CN=Т11О-202БВ-24:https://public.mai.ru/schedule/data/b087e5e1c
 d63595c4e9735f093fc841c.json
DESCRIPTION:Группы: Т11О-202БВ-24
DTSTAMP:20260424T101223Z
DTSTART;TZID=Europe/Moscow:20260626T130000
DURATION:PT3H15M
LOCATION:Орш. В-608
RRULE:FREQ=DAILY;INTERVAL=0;COUNT=1
SEQUENCE:0
SUMMARY:[Экзамен 2п.]Физическая химия 2 (202БВ)
UID:2f836e32-78f2-4129-84e2-3383fdfec063
END:VEVENT
END:VCALENDAR
