﻿BEGIN:VCALENDAR
CALSCALE:GREGORIAN
METHOD:PUBLISH
PRODID:-//MAI-dep406//MAI Dep406 1.01//RU
VERSION:2.0
X-WR-TIMEZONE:Europe/Moscow
BEGIN:VTIMEZONE
TZID:Europe/Moscow
X-LIC-LOCATION:Europe/Moscow
BEGIN:STANDARD
DTSTART;VALUE=DATE:19700101
TZNAME:GMT+3
TZOFFSETTO:+0300
END:STANDARD
END:VTIMEZONE
BEGIN:VEVENT
ATTENDEE;CN=М1О-306БВ-23:https://public.mai.ru/schedule/data/bf350ad28c
 46ce6173563a86deb3992a.json
DESCRIPTION:Группы: М1О-306БВ-23
DTSTAMP:20260422T041937Z
DTSTART;TZID=Europe/Moscow:20260220T130000
DURATION:PT3H15M
LOCATION:1-10  1 этаж
RRULE:FREQ=DAILY;INTERVAL=7;COUNT=4
SEQUENCE:0
SUMMARY:[ЛР 2п.]Технология производства самол
 етов (вертолетов) (306БВ)
UID:a48364e5-8136-4b3c-b750-25be3be936ec
END:VEVENT
BEGIN:VEVENT
ATTENDEE;CN=М1О-312БВ-23:https://public.mai.ru/schedule/data/654db65701
 4e784494b3f68e283aeccd.json
DESCRIPTION:Группы: М1О-312БВ-23
DTSTAMP:20260422T041937Z
DTSTART;TZID=Europe/Moscow:20260409T163000
DURATION:PT3H15M
LOCATION:1-10  1 этаж
RRULE:FREQ=DAILY;INTERVAL=14;COUNT=4
SEQUENCE:0
SUMMARY:[ЛР 2п.]Технология производства самол
 етов (вертолетов) (312БВ)
UID:4bae0939-8573-4e5a-9109-95e7c59bdf49
END:VEVENT
BEGIN:VEVENT
ATTENDEE;CN=М6О-225БВ-24:https://public.mai.ru/schedule/data/6bb4d73026
 3a71e13501973ee841e446.json
DESCRIPTION:Группы: М6О-225БВ-24
DTSTAMP:20260422T041937Z
DTSTART;TZID=Europe/Moscow:20260418T130000
DURATION:PT3H15M
LOCATION:1-10  2 этаж
RRULE:FREQ=DAILY;INTERVAL=14;COUNT=4
SEQUENCE:0
SUMMARY:[ЛР 2п.]Технология производства ЛА (225
 БВ)
UID:68770cc7-8d35-4ae9-9715-bc7077b16811
END:VEVENT
BEGIN:VEVENT
ATTENDEE;CN=М1О-304БВ-23:https://public.mai.ru/schedule/data/2f75f22ea8
 c31ccd38867a9e2af2eb57.json
DESCRIPTION:Группы: М1О-304БВ-23
DTSTAMP:20260422T041937Z
DTSTART;TZID=Europe/Moscow:20260422T130000
DURATION:PT3H15M
LOCATION:1-10  1 этаж
RRULE:FREQ=DAILY;INTERVAL=14;COUNT=4
SEQUENCE:0
SUMMARY:[ЛР 2п.]Технология производства самол
 етов (вертолетов) (304БВ)
UID:015c5d69-3056-4c95-a867-d4617a9b564c
END:VEVENT
BEGIN:VEVENT
ATTENDEE;CN=М1О-301БВ-23:https://public.mai.ru/schedule/data/28c22830ca
 99ef0d965360f200f5511c.json
DESCRIPTION:Группы: М1О-301БВ-23
DTSTAMP:20260422T041937Z
DTSTART;TZID=Europe/Moscow:20260423T130000
DURATION:PT3H15M
LOCATION:1-10  1 этаж
RRULE:FREQ=DAILY;INTERVAL=14;COUNT=4
SEQUENCE:0
SUMMARY:[ЛР 2п.]Технология производства самол
 етов (вертолетов) (301БВ)
UID:5a804125-2501-4f34-aafa-d4c467bdffab
END:VEVENT
END:VCALENDAR
