﻿BEGIN:VCALENDAR
CALSCALE:GREGORIAN
METHOD:PUBLISH
PRODID:-//MAI-dep406//MAI Dep406 1.01//RU
VERSION:2.0
X-WR-TIMEZONE:Europe/Moscow
BEGIN:VTIMEZONE
TZID:Europe/Moscow
X-LIC-LOCATION:Europe/Moscow
BEGIN:STANDARD
DTSTART;VALUE=DATE:19700101
TZNAME:GMT+3
TZOFFSETTO:+0300
END:STANDARD
END:VTIMEZONE
BEGIN:VEVENT
ATTENDEE;CN=М2О-103СВ-25:https://public.mai.ru/schedule/data/8ce2cb2328
 b47297d75d45a6da13a910.json
ATTENDEE;CN=М2О-101СВ-25:https://public.mai.ru/schedule/data/f4e680077d
 1cc5bec0894aceba67d9f4.json
ATTENDEE;CN=М2О-107СВ-25:https://public.mai.ru/schedule/data/1e40790a3f
 7129d14da0d71b0c9b3c45.json
DESCRIPTION:Группы: М2О-103СВ-25\,М2О-101СВ-25\,М2О-107СВ
 -25
DTSTAMP:20260420T024836Z
DTSTART;TZID=Europe/Moscow:20260209T181500
DURATION:PT1H30M
LOCATION:2-201(2А)
RRULE:FREQ=DAILY;INTERVAL=42;COUNT=3
SEQUENCE:0
SUMMARY:[ЛК 1п.]Теория подобия и планирования 
 эксперимента (103СВ\,101СВ\,107СВ)
UID:9258cbab-87e6-40fa-b36c-f8a74f8c74d1
END:VEVENT
BEGIN:VEVENT
ATTENDEE;CN=М2О-103СВ-25:https://public.mai.ru/schedule/data/8ce2cb2328
 b47297d75d45a6da13a910.json
ATTENDEE;CN=М2О-101СВ-25:https://public.mai.ru/schedule/data/f4e680077d
 1cc5bec0894aceba67d9f4.json
ATTENDEE;CN=М2О-107СВ-25:https://public.mai.ru/schedule/data/1e40790a3f
 7129d14da0d71b0c9b3c45.json
DESCRIPTION:Группы: М2О-103СВ-25\,М2О-101СВ-25\,М2О-107СВ
 -25
DTSTAMP:20260420T024836Z
DTSTART;TZID=Europe/Moscow:20260420T181500
DURATION:PT1H30M
LOCATION:2-201(2А)
RRULE:FREQ=DAILY;INTERVAL=42;COUNT=2
SEQUENCE:0
SUMMARY:[ЛК 1п.]Теория подобия и планирования 
 эксперимента (103СВ\,101СВ\,107СВ)
UID:1ffa66ab-dcb8-4e4d-bd1e-60502af19b65
END:VEVENT
BEGIN:VEVENT
ATTENDEE;CN=М2О-103СВ-25:https://public.mai.ru/schedule/data/8ce2cb2328
 b47297d75d45a6da13a910.json
ATTENDEE;CN=М2О-101СВ-25:https://public.mai.ru/schedule/data/f4e680077d
 1cc5bec0894aceba67d9f4.json
ATTENDEE;CN=М2О-107СВ-25:https://public.mai.ru/schedule/data/1e40790a3f
 7129d14da0d71b0c9b3c45.json
DESCRIPTION:Группы: М2О-103СВ-25\,М2О-101СВ-25\,М2О-107СВ
 -25
DTSTAMP:20260420T024836Z
DTSTART;TZID=Europe/Moscow:20260518T181500
DURATION:PT1H30M
LOCATION:2-201(2А)
RRULE:FREQ=DAILY;INTERVAL=42;COUNT=2
SEQUENCE:0
SUMMARY:[ЛК 1п.]Теория подобия и планирования 
 эксперимента (103СВ\,101СВ\,107СВ)
UID:e423807d-9c5c-48a4-9081-e39e1d03f4c2
END:VEVENT
BEGIN:VEVENT
ATTENDEE;CN=М2О-304БВ-23:https://public.mai.ru/schedule/data/9392519dcb
 ee1d14a6da1e716248aa5c.json
ATTENDEE;CN=М2О-301БВ-23:https://public.mai.ru/schedule/data/f016335cab
 a1bddb55bcbf77c7279d04.json
ATTENDEE;CN=М2О-303БВ-23:https://public.mai.ru/schedule/data/ce2aebd86a
 2a90ef778431425c300a74.json
ATTENDEE;CN=М2О-305БВ-23:https://public.mai.ru/schedule/data/f0ca40ae5a
 46785a16640437884701e4.json
ATTENDEE;CN=М2О-302БВ-23:https://public.mai.ru/schedule/data/c2f951eb90
 802a5af3af38b67dcf85e0.json
DESCRIPTION:Группы: М2О-304БВ-23\,М2О-301БВ-23\,М2О-303БВ
 -23\,М2О-305БВ-23\,М2О-302БВ-23
DTSTAMP:20260420T024836Z
DTSTART;TZID=Europe/Moscow:20260212T104500
DURATION:PT1H30M
LOCATION:2-301(2В)
RRULE:FREQ=DAILY;INTERVAL=7;COUNT=15
SEQUENCE:0
SUMMARY:[ЛК 1п.]Основы искусственного интелле
 кта (304БВ\,301БВ\,303БВ\,305БВ\,302БВ)
UID:9de58d0c-777c-432d-a37f-c6c547ddbeb3
END:VEVENT
BEGIN:VEVENT
ATTENDEE;CN=М2О-107Мки-25:https://public.mai.ru/schedule/data/23e34d8b
 5f3f96465d72c90670ccb3b4.json
DESCRIPTION:Группы: М2О-107Мки-25
DTSTAMP:20260420T024836Z
DTSTART;TZID=Europe/Moscow:20260220T104500
DURATION:PT1H30M
LOCATION:2-401(2В)
RRULE:FREQ=DAILY;INTERVAL=7;COUNT=10
SEQUENCE:0
SUMMARY:[ЛК 1п.]Теория подобия и планирования 
 эксперимента (107Мки)
UID:3a2f7d8a-4a9b-49f4-9e03-eee79db1e5ae
END:VEVENT
BEGIN:VEVENT
ATTENDEE;CN=М2О-208СВ-24:https://public.mai.ru/schedule/data/584157050b
 a38b876d5ec3486c89e9a7.json
DESCRIPTION:Группы: М2О-208СВ-24
DTSTAMP:20260420T024836Z
DTSTART;TZID=Europe/Moscow:20260224T163000
DURATION:PT3H15M
LOCATION:2-401(2В)
RRULE:FREQ=DAILY;INTERVAL=14;COUNT=5
SEQUENCE:0
SUMMARY:[ЛК 2п.]Математические методы в прикл
 адных физических задачах (208СВ)
UID:4a238d3e-61ce-46a7-98e9-7b5578d9a209
END:VEVENT
BEGIN:VEVENT
ATTENDEE;CN=М2О-301БВ-23:https://public.mai.ru/schedule/data/f016335cab
 a1bddb55bcbf77c7279d04.json
DESCRIPTION:Группы: М2О-301БВ-23
DTSTAMP:20260420T024836Z
DTSTART;TZID=Europe/Moscow:20260418T090000
DURATION:PT3H15M
LOCATION:2-410-1 (2В)
RRULE:FREQ=DAILY;INTERVAL=0;COUNT=1
SEQUENCE:0
SUMMARY:[ЛР 2п.]Основы искусственного интелле
 кта (301БВ)
UID:bd6789fb-e880-4314-af72-4f9e1e7bc068
END:VEVENT
BEGIN:VEVENT
ATTENDEE;CN=М2О-303БВ-23:https://public.mai.ru/schedule/data/ce2aebd86a
 2a90ef778431425c300a74.json
DESCRIPTION:Группы: М2О-303БВ-23
DTSTAMP:20260420T024836Z
DTSTART;TZID=Europe/Moscow:20260514T130000
DURATION:PT3H15M
LOCATION:2-410-1 (2В)
RRULE:FREQ=DAILY;INTERVAL=0;COUNT=1
SEQUENCE:0
SUMMARY:[ЛР 2п.]Основы искусственного интелле
 кта (303БВ)
UID:c12247ae-005b-4732-b838-1ad170a0dc5d
END:VEVENT
BEGIN:VEVENT
ATTENDEE;CN=М2О-107СВ-25:https://public.mai.ru/schedule/data/1e40790a3f
 7129d14da0d71b0c9b3c45.json
DESCRIPTION:Группы: М2О-107СВ-25
DTSTAMP:20260420T024836Z
DTSTART;TZID=Europe/Moscow:20260615T163000
DURATION:PT3H15M
LOCATION:2-401(2В)
RRULE:FREQ=DAILY;INTERVAL=7;COUNT=2
SEQUENCE:0
SUMMARY:[Экзамен 2п.]Теория подобия и планиро
 вания эксперимента (107СВ)
UID:942faa80-a54f-4312-9745-b61ae13e24f9
END:VEVENT
BEGIN:VEVENT
ATTENDEE;CN=М2О-101СВ-25:https://public.mai.ru/schedule/data/f4e680077d
 1cc5bec0894aceba67d9f4.json
DESCRIPTION:Группы: М2О-101СВ-25
DTSTAMP:20260420T024836Z
DTSTART;TZID=Europe/Moscow:20260619T163000
DURATION:PT3H15M
LOCATION:2-401(2В)
RRULE:FREQ=DAILY;INTERVAL=7;COUNT=2
SEQUENCE:0
SUMMARY:[Экзамен 2п.]Теория подобия и планиро
 вания эксперимента (101СВ)
UID:598d6c5d-4b86-46c5-a81b-c0506141cb49
END:VEVENT
BEGIN:VEVENT
ATTENDEE;CN=М2О-105СВ-25:https://public.mai.ru/schedule/data/99faab8791
 79b6d504df42015d1ac027.json
DESCRIPTION:Группы: М2О-105СВ-25
DTSTAMP:20260420T024836Z
DTSTART;TZID=Europe/Moscow:20260625T163000
DURATION:PT3H15M
LOCATION:2-401(2В)
RRULE:FREQ=DAILY;INTERVAL=0;COUNT=1
SEQUENCE:0
SUMMARY:[Экзамен 2п.]Теория подобия и планиро
 вания эксперимента (105СВ)
UID:866f58f3-df2e-43fd-b841-6037f1226719
END:VEVENT
BEGIN:VEVENT
ATTENDEE;CN=М2О-107Мки-25:https://public.mai.ru/schedule/data/23e34d8b
 5f3f96465d72c90670ccb3b4.json
DESCRIPTION:Группы: М2О-107Мки-25
DTSTAMP:20260420T024836Z
DTSTART;TZID=Europe/Moscow:20260707T090000
DURATION:PT3H15M
LOCATION:2-401(2В)
RRULE:FREQ=DAILY;INTERVAL=0;COUNT=1
SEQUENCE:0
SUMMARY:[Экзамен 2п.]Теория подобия и планиро
 вания эксперимента (107Мки)
UID:00587c9d-c469-4fd8-81ad-76e095dbe46a
END:VEVENT
END:VCALENDAR
