﻿BEGIN:VCALENDAR
CALSCALE:GREGORIAN
METHOD:PUBLISH
PRODID:-//MAI-dep406//MAI Dep406 1.01//RU
VERSION:2.0
X-WR-TIMEZONE:Europe/Moscow
BEGIN:VTIMEZONE
TZID:Europe/Moscow
X-LIC-LOCATION:Europe/Moscow
BEGIN:STANDARD
DTSTART;VALUE=DATE:19700101
TZNAME:GMT+3
TZOFFSETTO:+0300
END:STANDARD
END:VTIMEZONE
BEGIN:VEVENT
ATTENDEE;CN=М1О-215Бки-24:https://public.mai.ru/schedule/data/93601cf3
 86097912eaa6f85fcb5aec30.json
DESCRIPTION:Группы: М1О-215Бки-24
DTSTAMP:20260422T121834Z
DTSTART;TZID=Europe/Moscow:20260304T090000
DURATION:PT3H15M
LOCATION:2-204(2А)
RRULE:FREQ=DAILY;INTERVAL=14;COUNT=4
SEQUENCE:0
SUMMARY:[ЛР 2п.]Метрология и стандартизация (21
 5Бки)
UID:14464684-b8c7-4de4-a985-1e79ee057546
END:VEVENT
BEGIN:VEVENT
ATTENDEE;CN=М2О-318Бки-23:https://public.mai.ru/schedule/data/22c0eadc
 b7f489afc2569a7163c885cc.json
DESCRIPTION:Группы: М2О-318Бки-23
DTSTAMP:20260422T121834Z
DTSTART;TZID=Europe/Moscow:20260316T090000
DURATION:PT3H15M
LOCATION:2-204(2А)
RRULE:FREQ=DAILY;INTERVAL=28;COUNT=3
SEQUENCE:0
SUMMARY:[ЛР 2п.]Метрология\, стандартизация и 
 сертификация (318Бки)
UID:d04c49fb-f7a1-4abb-b30c-c6e3a0a79283
END:VEVENT
BEGIN:VEVENT
ATTENDEE;CN=М2О-318Бки-23:https://public.mai.ru/schedule/data/22c0eadc
 b7f489afc2569a7163c885cc.json
DESCRIPTION:Группы: М2О-318Бки-23
DTSTAMP:20260422T121834Z
DTSTART;TZID=Europe/Moscow:20260511T090000
DURATION:PT3H15M
LOCATION:2-204(2А)
RRULE:FREQ=DAILY;INTERVAL=28;COUNT=1
SEQUENCE:0
SUMMARY:[ЛР 2п.]Метрология\, стандартизация и 
 сертификация (318Бки)
UID:c0d3b30d-29a3-4e79-80fc-d2f8f4690adc
END:VEVENT
BEGIN:VEVENT
ATTENDEE;CN=М2О-211Бки-24:https://public.mai.ru/schedule/data/33a44d29
 6a357ea4323071f0819f0f65.json
ATTENDEE;CN=М6О-219Бки-24:https://public.mai.ru/schedule/data/c5f04fb9
 0c80078d8f8aceb2c0e4e724.json
DESCRIPTION:Группы: М2О-211Бки-24\,М6О-219Бки-24
DTSTAMP:20260422T121834Z
DTSTART;TZID=Europe/Moscow:20260417T090000
DURATION:PT3H15M
LOCATION:2-204(2А)
RRULE:FREQ=DAILY;INTERVAL=28;COUNT=3
SEQUENCE:0
SUMMARY:[ЛР 2п.]Метрология и стандартизация (21
 1Бки\,219Бки)
UID:0cc542a3-5e67-49fb-9500-4763f89a4d16
END:VEVENT
END:VCALENDAR
