﻿BEGIN:VCALENDAR
CALSCALE:GREGORIAN
METHOD:PUBLISH
PRODID:-//MAI-dep406//MAI Dep406 1.01//RU
VERSION:2.0
X-WR-TIMEZONE:Europe/Moscow
BEGIN:VTIMEZONE
TZID:Europe/Moscow
X-LIC-LOCATION:Europe/Moscow
BEGIN:STANDARD
DTSTART;VALUE=DATE:19700101
TZNAME:GMT+3
TZOFFSETTO:+0300
END:STANDARD
END:VTIMEZONE
BEGIN:VEVENT
ATTENDEE;CN=М7О-408С-22:https://public.mai.ru/schedule/data/9edc0e3187f7
 d54566600e69832c6d77.json
DESCRIPTION:Группы: М7О-408С-22
DTSTAMP:20260422T052626Z
DTSTART;TZID=Europe/Moscow:20260210T144500
DURATION:PT1H30M
LOCATION:24-622
RRULE:FREQ=DAILY;INTERVAL=7;COUNT=17
SEQUENCE:0
SUMMARY:[ЛК 1п.]Бортовое оборудование летател
 ьных аппаратов (408С)
UID:7afcbda9-a0db-4ee2-96a8-fd44c994b5de
END:VEVENT
BEGIN:VEVENT
ATTENDEE;CN=М7О-408С-22:https://public.mai.ru/schedule/data/9edc0e3187f7
 d54566600e69832c6d77.json
DESCRIPTION:Группы: М7О-408С-22
DTSTAMP:20260422T052626Z
DTSTART;TZID=Europe/Moscow:20260226T163000
DURATION:PT3H15M
LOCATION:24-615
RRULE:FREQ=DAILY;INTERVAL=14;COUNT=7
SEQUENCE:0
SUMMARY:[ЛР 2п.]Бортовое оборудование летател
 ьных аппаратов (408С)
UID:d9292270-33c2-4ae2-b20d-3ba691cbd337
END:VEVENT
BEGIN:VEVENT
ATTENDEE;CN=М7О-408С-22:https://public.mai.ru/schedule/data/9edc0e3187f7
 d54566600e69832c6d77.json
DESCRIPTION:Группы: М7О-408С-22
DTSTAMP:20260422T052626Z
DTSTART;TZID=Europe/Moscow:20260622T090000
DURATION:PT3H15M
LOCATION:24-622
RRULE:FREQ=DAILY;INTERVAL=0;COUNT=1
SEQUENCE:0
SUMMARY:[Экзамен 2п.]Бортовое оборудование ле
 тательных аппаратов (408С)
UID:555a8985-14c3-4686-8d85-4c9a7abba3b1
END:VEVENT
END:VCALENDAR
