﻿BEGIN:VCALENDAR
CALSCALE:GREGORIAN
METHOD:PUBLISH
PRODID:-//MAI-dep406//MAI Dep406 1.01//RU
VERSION:2.0
X-WR-TIMEZONE:Europe/Moscow
BEGIN:VTIMEZONE
TZID:Europe/Moscow
X-LIC-LOCATION:Europe/Moscow
BEGIN:STANDARD
DTSTART;VALUE=DATE:19700101
TZNAME:GMT+3
TZOFFSETTO:+0300
END:STANDARD
END:VTIMEZONE
BEGIN:VEVENT
ATTENDEE;CN=МИО-204БВ-24:https://public.mai.ru/schedule/data/b5177e6ef
 3329eaaf0e4195d91805fda.json
DESCRIPTION:Группы: МИО-204БВ-24
DTSTAMP:20260420T101700Z
DTSTART;TZID=Europe/Moscow:20260209T090000
DURATION:PT3H15M
LOCATION:2-303(2А)
RRULE:FREQ=DAILY;INTERVAL=7;COUNT=3
SEQUENCE:0
SUMMARY:[ПЗ 2п.]Практический курс первого ино
 странного языка (204БВ)
UID:f26eb37d-35e2-4466-9d3f-c861ef6a4e8a
END:VEVENT
BEGIN:VEVENT
ATTENDEE;CN=МИО-204БВ-24:https://public.mai.ru/schedule/data/b5177e6ef
 3329eaaf0e4195d91805fda.json
DESCRIPTION:Группы: МИО-204БВ-24
DTSTAMP:20260420T101700Z
DTSTART;TZID=Europe/Moscow:20260316T090000
DURATION:PT3H15M
LOCATION:2-303(2А)
RRULE:FREQ=DAILY;INTERVAL=7;COUNT=13
SEQUENCE:0
SUMMARY:[ПЗ 2п.]Практический курс первого ино
 странного языка (204БВ)
UID:7136ca26-802c-41c7-99fc-1be7961d672b
END:VEVENT
BEGIN:VEVENT
ATTENDEE;CN=МИО-104БВк-25:https://public.mai.ru/schedule/data/1f75306
 98ab7694552fdd7dc8ecd6cc0.json
DESCRIPTION:Группы: МИО-104БВк-25
DTSTAMP:20260420T101700Z
DTSTART;TZID=Europe/Moscow:20260212T104500
DURATION:PT1H30M
LOCATION:2-402(2А)
RRULE:FREQ=DAILY;INTERVAL=7;COUNT=15
SEQUENCE:0
SUMMARY:[ПЗ 1п.]Иностранный язык (104БВк)
UID:c0e6dd30-eab4-44a9-901b-86ec4e284ded
END:VEVENT
BEGIN:VEVENT
ATTENDEE;CN=МИО-204БВ-24:https://public.mai.ru/schedule/data/b5177e6ef
 3329eaaf0e4195d91805fda.json
DESCRIPTION:Группы: МИО-204БВ-24
DTSTAMP:20260420T101700Z
DTSTART;TZID=Europe/Moscow:20260212T130000
DURATION:PT1H30M
LOCATION:2-308(2А)
RRULE:FREQ=DAILY;INTERVAL=7;COUNT=17
SEQUENCE:0
SUMMARY:[ПЗ 1п.]Практический курс первого ино
 странного языка (204БВ)
UID:22357057-eca6-46b8-832c-f4c9a8891a89
END:VEVENT
BEGIN:VEVENT
ATTENDEE;CN=МИО-205БВк-24:https://public.mai.ru/schedule/data/0186f67
 15d71c3a04804ca3f0ec53bd7.json
DESCRIPTION:Группы: МИО-205БВк-24
DTSTAMP:20260420T101700Z
DTSTART;TZID=Europe/Moscow:20260213T090000
DURATION:PT3H15M
LOCATION:2-302(2А)
RRULE:FREQ=DAILY;INTERVAL=7;COUNT=12
SEQUENCE:0
SUMMARY:[ПЗ 2п.]Иностранный язык (205БВк)
UID:fc34a620-be59-4cc8-881e-17e375afbd34
END:VEVENT
BEGIN:VEVENT
ATTENDEE;CN=МИО-205БВк-24:https://public.mai.ru/schedule/data/0186f67
 15d71c3a04804ca3f0ec53bd7.json
DESCRIPTION:Группы: МИО-205БВк-24
DTSTAMP:20260420T101700Z
DTSTART;TZID=Europe/Moscow:20260515T090000
DURATION:PT3H15M
LOCATION:2-302(2А)
RRULE:FREQ=DAILY;INTERVAL=7;COUNT=3
SEQUENCE:0
SUMMARY:[ПЗ 2п.]Иностранный язык (205БВк)
UID:3d91ab66-cacb-41a3-b0cd-36d6dfe5533c
END:VEVENT
BEGIN:VEVENT
ATTENDEE;CN=М8О-102СВ-25:https://public.mai.ru/schedule/data/e46a75902d
 924488f8600375b9f5d386.json
DESCRIPTION:Группы: М8О-102СВ-25
DTSTAMP:20260420T101700Z
DTSTART;TZID=Europe/Moscow:20260216T130000
DURATION:PT3H15M
LOCATION:7-203
RRULE:FREQ=DAILY;INTERVAL=14;COUNT=4
SEQUENCE:0
SUMMARY:[ПЗ 2п.]Профессиональное и научное об
 щение на иностранном языке (102СВ)
UID:ee56ee10-bc36-4e00-8a51-81bb8c2d9c70
END:VEVENT
BEGIN:VEVENT
ATTENDEE;CN=М8О-102СВ-25:https://public.mai.ru/schedule/data/e46a75902d
 924488f8600375b9f5d386.json
DESCRIPTION:Группы: М8О-102СВ-25
DTSTAMP:20260420T101700Z
DTSTART;TZID=Europe/Moscow:20260409T144500
DURATION:PT1H30M
LOCATION:7-208
RRULE:FREQ=DAILY;INTERVAL=14;COUNT=3
SEQUENCE:0
SUMMARY:[ПЗ 1п.]Иностранный язык (для иностран
 цев) (102СВ)
UID:51925cac-38b6-421f-a2f4-c015711ce3b2
END:VEVENT
BEGIN:VEVENT
ATTENDEE;CN=М8О-102СВ-25:https://public.mai.ru/schedule/data/e46a75902d
 924488f8600375b9f5d386.json
DESCRIPTION:Группы: М8О-102СВ-25
DTSTAMP:20260420T101700Z
DTSTART;TZID=Europe/Moscow:20260507T144500
DURATION:PT1H30M
LOCATION:7-208
RRULE:FREQ=DAILY;INTERVAL=14;COUNT=2
SEQUENCE:0
SUMMARY:[ПЗ 1п.]Иностранный язык (для иностран
 цев) (102СВ)
UID:a7ae8efd-6bd7-4e87-8182-66181c4dd6e0
END:VEVENT
BEGIN:VEVENT
ATTENDEE;CN=М8О-102СВ-25:https://public.mai.ru/schedule/data/e46a75902d
 924488f8600375b9f5d386.json
DESCRIPTION:Группы: М8О-102СВ-25
DTSTAMP:20260420T101700Z
DTSTART;TZID=Europe/Moscow:20260521T144500
DURATION:PT1H30M
LOCATION:7-208
RRULE:FREQ=DAILY;INTERVAL=14;COUNT=1
SEQUENCE:0
SUMMARY:[ПЗ 1п.]Иностранный язык (для иностран
 цев) (102СВ)
UID:1236b165-b645-45e7-9049-b5bc5ab2ba1a
END:VEVENT
END:VCALENDAR
