﻿BEGIN:VCALENDAR
CALSCALE:GREGORIAN
METHOD:PUBLISH
PRODID:-//MAI-dep406//MAI Dep406 1.01//RU
VERSION:2.0
X-WR-TIMEZONE:Europe/Moscow
BEGIN:VTIMEZONE
TZID:Europe/Moscow
X-LIC-LOCATION:Europe/Moscow
BEGIN:STANDARD
DTSTART;VALUE=DATE:19700101
TZNAME:GMT+3
TZOFFSETTO:+0300
END:STANDARD
END:VTIMEZONE
BEGIN:VEVENT
ATTENDEE;CN=М14О-102БВ-25:https://public.mai.ru/schedule/data/b3288254e
 01b6e8d63c3edc1b7c7354b.json
DESCRIPTION:Группы: М14О-102БВ-25
DTSTAMP:20260421T100824Z
DTSTART;TZID=Europe/Moscow:20260216T090000
DURATION:PT1H30M
LOCATION:Орш. А-306
RRULE:FREQ=DAILY;INTERVAL=14;COUNT=4
SEQUENCE:0
SUMMARY:[ПЗ 1п.]История России (102БВ)
UID:81f3a78e-1e2f-4acf-ba1c-4dda90fdf16b
END:VEVENT
BEGIN:VEVENT
ATTENDEE;CN=М14О-102БВ-25:https://public.mai.ru/schedule/data/b3288254e
 01b6e8d63c3edc1b7c7354b.json
DESCRIPTION:Группы: М14О-102БВ-25
DTSTAMP:20260421T100824Z
DTSTART;TZID=Europe/Moscow:20260330T090000
DURATION:PT1H30M
LOCATION:Орш. А-306
RRULE:FREQ=DAILY;INTERVAL=14;COUNT=2
SEQUENCE:0
SUMMARY:[ПЗ 1п.]История России (102БВ)
UID:5a908600-7ea5-46ed-a9fc-0594d1916207
END:VEVENT
BEGIN:VEVENT
ATTENDEE;CN=М14О-102БВ-25:https://public.mai.ru/schedule/data/b3288254e
 01b6e8d63c3edc1b7c7354b.json
DESCRIPTION:Группы: М14О-102БВ-25
DTSTAMP:20260421T100824Z
DTSTART;TZID=Europe/Moscow:20260413T090000
DURATION:PT1H30M
LOCATION:Орш. А-306
RRULE:FREQ=DAILY;INTERVAL=14;COUNT=2
SEQUENCE:0
SUMMARY:[ПЗ 1п.]История России (102БВ)
UID:18340fbe-4f8d-471e-b941-fff6974b338e
END:VEVENT
BEGIN:VEVENT
ATTENDEE;CN=М14О-102БВ-25:https://public.mai.ru/schedule/data/b3288254e
 01b6e8d63c3edc1b7c7354b.json
DESCRIPTION:Группы: М14О-102БВ-25
DTSTAMP:20260421T100824Z
DTSTART;TZID=Europe/Moscow:20260427T090000
DURATION:PT1H30M
LOCATION:Орш. А-306
RRULE:FREQ=DAILY;INTERVAL=14;COUNT=2
SEQUENCE:0
SUMMARY:[ПЗ 1п.]История России (102БВ)
UID:895e2b76-d8b8-4c40-a9d7-f5cfbdd62994
END:VEVENT
BEGIN:VEVENT
ATTENDEE;CN=Т11О-102БВ-25:https://public.mai.ru/schedule/data/599a890d6
 db77b5a1e466356c1863716.json
DESCRIPTION:Группы: Т11О-102БВ-25
DTSTAMP:20260421T100824Z
DTSTART;TZID=Europe/Moscow:20260310T163000
DURATION:PT1H30M
LOCATION:Орш. В-408
RRULE:FREQ=DAILY;INTERVAL=7;COUNT=12
SEQUENCE:0
SUMMARY:[ПЗ 1п.]История России (102БВ)
UID:2bd08989-2bfa-4316-8de2-ef4d7edb8139
END:VEVENT
BEGIN:VEVENT
ATTENDEE;CN=М4О-109БВ-25:https://public.mai.ru/schedule/data/965cfe25b6
 122d9d303c3751a63e511a.json
DESCRIPTION:Группы: М4О-109БВ-25
DTSTAMP:20260421T100824Z
DTSTART;TZID=Europe/Moscow:20260311T090000
DURATION:PT1H30M
LOCATION:Орш. В-512
RRULE:FREQ=DAILY;INTERVAL=7;COUNT=8
SEQUENCE:0
SUMMARY:[ПЗ 1п.]История России (109БВ)
UID:eafcfd74-ada0-4fe2-86f5-6fe3af09579c
END:VEVENT
BEGIN:VEVENT
ATTENDEE;CN=Т11О-101БВ-25:https://public.mai.ru/schedule/data/e02241a75
 49fdbc8a59cf3eee193d1a4.json
DESCRIPTION:Группы: Т11О-101БВ-25
DTSTAMP:20260421T100824Z
DTSTART;TZID=Europe/Moscow:20260311T130000
DURATION:PT3H15M
LOCATION:Орш. В-512
RRULE:FREQ=DAILY;INTERVAL=14;COUNT=6
SEQUENCE:0
SUMMARY:[ПЗ 2п.]История России (101БВ)
UID:587e9ca6-6768-440f-9bc0-b420e390929d
END:VEVENT
BEGIN:VEVENT
ATTENDEE;CN=М3О-145БВ-25:https://public.mai.ru/schedule/data/95a64510d6
 dfcd2cdbeb69deddd5c92e.json
DESCRIPTION:Группы: М3О-145БВ-25
DTSTAMP:20260421T100824Z
DTSTART;TZID=Europe/Moscow:20260313T104500
DURATION:PT1H30M
LOCATION:Орш. В-407
RRULE:FREQ=DAILY;INTERVAL=7;COUNT=8
SEQUENCE:0
SUMMARY:[ПЗ 1п.]История России (145БВ)
UID:b6f28d78-fcd5-49a7-9353-81a5b60503f5
END:VEVENT
BEGIN:VEVENT
ATTENDEE;CN=М3О-145БВ-25:https://public.mai.ru/schedule/data/95a64510d6
 dfcd2cdbeb69deddd5c92e.json
DESCRIPTION:Группы: М3О-145БВ-25
DTSTAMP:20260421T100824Z
DTSTART;TZID=Europe/Moscow:20260515T104500
DURATION:PT1H30M
LOCATION:Орш. В-407
RRULE:FREQ=DAILY;INTERVAL=7;COUNT=4
SEQUENCE:0
SUMMARY:[ПЗ 1п.]История России (145БВ)
UID:d258754b-3642-4d52-898a-d8954e30121b
END:VEVENT
BEGIN:VEVENT
ATTENDEE;CN=М6О-105БВ-25:https://public.mai.ru/schedule/data/4f1d7c4809
 2072c4773a4eec758ec1d5.json
DESCRIPTION:Группы: М6О-105БВ-25
DTSTAMP:20260421T100824Z
DTSTART;TZID=Europe/Moscow:20260321T090000
DURATION:PT3H15M
LOCATION:Орш. В-407
RRULE:FREQ=DAILY;INTERVAL=14;COUNT=6
SEQUENCE:0
SUMMARY:[ПЗ 2п.]История России (105БВ)
UID:a0f8efd4-944e-444b-84ea-f20119a51922
END:VEVENT
BEGIN:VEVENT
ATTENDEE;CN=М4О-109БВ-25:https://public.mai.ru/schedule/data/965cfe25b6
 122d9d303c3751a63e511a.json
DESCRIPTION:Группы: М4О-109БВ-25
DTSTAMP:20260421T100824Z
DTSTART;TZID=Europe/Moscow:20260506T163000
DURATION:PT1H30M
LOCATION:Орш. В-512
RRULE:FREQ=DAILY;INTERVAL=7;COUNT=4
SEQUENCE:0
SUMMARY:[ПЗ 1п.]История России (109БВ)
UID:98ee403e-b509-455a-871c-e49d8a1081b8
END:VEVENT
END:VCALENDAR
