﻿BEGIN:VCALENDAR
CALSCALE:GREGORIAN
METHOD:PUBLISH
PRODID:-//MAI-dep406//MAI Dep406 1.01//RU
VERSION:2.0
X-WR-TIMEZONE:Europe/Moscow
BEGIN:VTIMEZONE
TZID:Europe/Moscow
X-LIC-LOCATION:Europe/Moscow
BEGIN:STANDARD
DTSTART;VALUE=DATE:19700101
TZNAME:GMT+3
TZOFFSETTO:+0300
END:STANDARD
END:VTIMEZONE
BEGIN:VEVENT
ATTENDEE;CN=М1О-312БВ-23:https://public.mai.ru/schedule/data/654db65701
 4e784494b3f68e283aeccd.json
DESCRIPTION:Группы: М1О-312БВ-23
DTSTAMP:20260420T221632Z
DTSTART;TZID=Europe/Moscow:20260213T090000
DURATION:PT3H15M
LOCATION:ГУК Б-648
RRULE:FREQ=DAILY;INTERVAL=14;COUNT=8
SEQUENCE:0
SUMMARY:[ЛК 2п.]Детали машин и основы конструи
 рования (312БВ)
UID:ee4783e6-7275-447b-8e10-ae7f34126e14
END:VEVENT
BEGIN:VEVENT
ATTENDEE;CN=М1О-312БВ-23:https://public.mai.ru/schedule/data/654db65701
 4e784494b3f68e283aeccd.json
DESCRIPTION:Группы: М1О-312БВ-23
DTSTAMP:20260420T221632Z
DTSTART;TZID=Europe/Moscow:20260615T090000
DURATION:PT3H15M
LOCATION:ГУК Б-650
RRULE:FREQ=DAILY;INTERVAL=0;COUNT=1
SEQUENCE:0
SUMMARY:[Экзамен 2п.]Детали машин и основы кон
 струирования (312БВ)
UID:56458424-75d7-4ea3-bef4-63258744167a
END:VEVENT
END:VCALENDAR
