﻿BEGIN:VCALENDAR
CALSCALE:GREGORIAN
METHOD:PUBLISH
PRODID:-//MAI-dep406//MAI Dep406 1.01//RU
VERSION:2.0
X-WR-TIMEZONE:Europe/Moscow
BEGIN:VTIMEZONE
TZID:Europe/Moscow
X-LIC-LOCATION:Europe/Moscow
BEGIN:STANDARD
DTSTART;VALUE=DATE:19700101
TZNAME:GMT+3
TZOFFSETTO:+0300
END:STANDARD
END:VTIMEZONE
BEGIN:VEVENT
ATTENDEE;CN=М3О-116СВ-25:https://public.mai.ru/schedule/data/05edf0455f
 5717697a3f755c05faab7f.json
DESCRIPTION:Группы: М3О-116СВ-25
DTSTAMP:20260422T033342Z
DTSTART;TZID=Europe/Moscow:20260209T163000
DURATION:PT3H15M
LOCATION:Орш. В-411
RRULE:FREQ=DAILY;INTERVAL=42;COUNT=3
SEQUENCE:0
SUMMARY:[ЛР 2п.]Системный анализ\, методы опти
 мизации и принятия проектных решений (116
 СВ)
UID:9384982e-8c3c-407f-b212-649ba546c89a
END:VEVENT
BEGIN:VEVENT
ATTENDEE;CN=М3О-116СВ-25:https://public.mai.ru/schedule/data/05edf0455f
 5717697a3f755c05faab7f.json
DESCRIPTION:Группы: М3О-116СВ-25
DTSTAMP:20260422T033342Z
DTSTART;TZID=Europe/Moscow:20260420T163000
DURATION:PT3H15M
LOCATION:Орш. В-411
RRULE:FREQ=DAILY;INTERVAL=42;COUNT=2
SEQUENCE:0
SUMMARY:[ЛР 2п.]Системный анализ\, методы опти
 мизации и принятия проектных решений (116
 СВ)
UID:796560ec-c648-4cc1-819d-b0f8d30a71b3
END:VEVENT
BEGIN:VEVENT
ATTENDEE;CN=М3О-209СВ-24:https://public.mai.ru/schedule/data/59b19b2f9b
 17bb4f83f3b655e5d1ac3b.json
DESCRIPTION:Группы: М3О-209СВ-24
DTSTAMP:20260422T033342Z
DTSTART;TZID=Europe/Moscow:20260212T163000
DURATION:PT3H15M
LOCATION:Орш. В-425
RRULE:FREQ=DAILY;INTERVAL=7;COUNT=12
SEQUENCE:0
SUMMARY:[ЛК\,ПЗ 2п.]Основы промышленной безопа
 сности критических систем (209СВ)
UID:ca5feabb-31c2-4152-bb48-7497c4fae360
END:VEVENT
BEGIN:VEVENT
ATTENDEE;CN=М3О-116СВ-25:https://public.mai.ru/schedule/data/05edf0455f
 5717697a3f755c05faab7f.json
DESCRIPTION:Группы: М3О-116СВ-25
DTSTAMP:20260422T033342Z
DTSTART;TZID=Europe/Moscow:20260218T163000
DURATION:PT3H15M
LOCATION:Орш. В-404
RRULE:FREQ=DAILY;INTERVAL=14;COUNT=5
SEQUENCE:0
SUMMARY:[ЛР 2п.]Основы CALS-технологий (116СВ)
UID:a5318846-89b6-4846-9062-5ce93a1b2d93
END:VEVENT
BEGIN:VEVENT
ATTENDEE;CN=М3О-232БВ-24:https://public.mai.ru/schedule/data/10dcdb5855
 635f8bae83293f1b6c3410.json
ATTENDEE;CN=М3О-216СВ-24:https://public.mai.ru/schedule/data/017f78154f
 1e184b3499117fa7ff41ea.json
DESCRIPTION:Группы: М3О-232БВ-24\,М3О-216СВ-24
DTSTAMP:20260422T033342Z
DTSTART;TZID=Europe/Moscow:20260221T130000
DURATION:PT3H15M
LOCATION:Берн. 14-624\; Орш. В-407
RRULE:FREQ=DAILY;INTERVAL=14;COUNT=3
SEQUENCE:0
SUMMARY:[ЛР 2п.]Управление качеством промышле
 нной продукции (232БВ\,216СВ)
UID:9d3d01aa-71e8-4fdd-85da-aed666332a32
END:VEVENT
BEGIN:VEVENT
ATTENDEE;CN=М3О-216СВ-24:https://public.mai.ru/schedule/data/017f78154f
 1e184b3499117fa7ff41ea.json
DESCRIPTION:Группы: М3О-216СВ-24
DTSTAMP:20260422T033342Z
DTSTART;TZID=Europe/Moscow:20260425T130000
DURATION:PT3H15M
LOCATION:Орш. В-404
RRULE:FREQ=DAILY;INTERVAL=14;COUNT=1
SEQUENCE:0
SUMMARY:[ЛР 2п.]Управление качеством промышле
 нной продукции (216СВ)
UID:eb876fe6-73b6-451c-a811-557c5b19b01a
END:VEVENT
BEGIN:VEVENT
ATTENDEE;CN=М3О-232БВ-24:https://public.mai.ru/schedule/data/10dcdb5855
 635f8bae83293f1b6c3410.json
DESCRIPTION:Группы: М3О-232БВ-24
DTSTAMP:20260422T033342Z
DTSTART;TZID=Europe/Moscow:20260321T130000
DURATION:PT3H15M
LOCATION:Берн. 14-624
RRULE:FREQ=DAILY;INTERVAL=14;COUNT=6
SEQUENCE:0
SUMMARY:[ЛР 2п.]Высокоуровневые методы информ
 атики и программирования (232БВ)
UID:dc1934b7-d96c-4ade-9e0b-9a5d3351a378
END:VEVENT
BEGIN:VEVENT
ATTENDEE;CN=М3О-132БВ-25:https://public.mai.ru/schedule/data/b190edcfc5
 f24034c98239ce685beaa3.json
DESCRIPTION:Группы: М3О-132БВ-25
DTSTAMP:20260422T033342Z
DTSTART;TZID=Europe/Moscow:20260404T090000
DURATION:PT3H15M
LOCATION:Орш. В-404
RRULE:FREQ=DAILY;INTERVAL=14;COUNT=4
SEQUENCE:0
SUMMARY:[ЛР 2п.]Математические и логические о
 сновы информационных процессов (132БВ)
UID:493d30ad-efa6-4cbc-ba2c-f434ee8ede16
END:VEVENT
BEGIN:VEVENT
ATTENDEE;CN=М3О-116СВ-25:https://public.mai.ru/schedule/data/05edf0455f
 5717697a3f755c05faab7f.json
DESCRIPTION:Группы: М3О-116СВ-25
DTSTAMP:20260422T033342Z
DTSTART;TZID=Europe/Moscow:20260515T163000
DURATION:PT3H15M
LOCATION:Орш. Б-514
RRULE:FREQ=DAILY;INTERVAL=14;COUNT=2
SEQUENCE:0
SUMMARY:[ЛР 2п.]Компьютерные технологии в нау
 ке и образовании (116СВ)
UID:da4e45b2-5bc3-417b-85ab-bd9973e3fb6a
END:VEVENT
END:VCALENDAR
