﻿BEGIN:VCALENDAR
CALSCALE:GREGORIAN
METHOD:PUBLISH
PRODID:-//MAI-dep406//MAI Dep406 1.01//RU
VERSION:2.0
X-WR-TIMEZONE:Europe/Moscow
BEGIN:VTIMEZONE
TZID:Europe/Moscow
X-LIC-LOCATION:Europe/Moscow
BEGIN:STANDARD
DTSTART;VALUE=DATE:19700101
TZNAME:GMT+3
TZOFFSETTO:+0300
END:STANDARD
END:VTIMEZONE
BEGIN:VEVENT
ATTENDEE;CN=МИВ-502Бк-21:https://public.mai.ru/schedule/data/c4cecc937
 e6bec2c8eb3e85d8a256a1b.json
DESCRIPTION:Группы: МИВ-502Бк-21
DTSTAMP:20260422T202751Z
DTSTART;TZID=Europe/Moscow:20260209T181500
DURATION:PT3H15M
LOCATION:2-303(2А)
RRULE:FREQ=DAILY;INTERVAL=7;COUNT=3
SEQUENCE:0
SUMMARY:[ПЗ 2п.]Иностранный язык в профессион
 альной сфере (502Бк)
UID:c075bd09-7159-49dd-bc79-74f6a1462e60
END:VEVENT
BEGIN:VEVENT
ATTENDEE;CN=МИВ-402Бк-22:https://public.mai.ru/schedule/data/c5327f71d
 fef3b9073bf65305f48a869.json
DESCRIPTION:Группы: МИВ-402Бк-22
DTSTAMP:20260422T202751Z
DTSTART;TZID=Europe/Moscow:20260316T181500
DURATION:PT3H15M
LOCATION:2-303(2А)
RRULE:FREQ=DAILY;INTERVAL=7;COUNT=10
SEQUENCE:0
SUMMARY:[ПЗ 2п.]Иностранный язык в профессион
 альной сфере (402Бк)
UID:dac474da-fa61-4fcc-a509-d11ef7c76263
END:VEVENT
BEGIN:VEVENT
ATTENDEE;CN=МИВ-402Бк-22:https://public.mai.ru/schedule/data/c5327f71d
 fef3b9073bf65305f48a869.json
DESCRIPTION:Группы: МИВ-402Бк-22
DTSTAMP:20260422T202751Z
DTSTART;TZID=Europe/Moscow:20260608T181500
DURATION:PT3H15M
LOCATION:2-303(2А)
RRULE:FREQ=DAILY;INTERVAL=7;COUNT=1
SEQUENCE:0
SUMMARY:[ПЗ 2п.]Иностранный язык в профессион
 альной сфере (402Бк)
UID:44bd0689-c90c-44bc-b3e9-94bab5a883c2
END:VEVENT
END:VCALENDAR
