﻿BEGIN:VCALENDAR
CALSCALE:GREGORIAN
METHOD:PUBLISH
PRODID:-//MAI-dep406//MAI Dep406 1.01//RU
VERSION:2.0
X-WR-TIMEZONE:Europe/Moscow
BEGIN:VTIMEZONE
TZID:Europe/Moscow
X-LIC-LOCATION:Europe/Moscow
BEGIN:STANDARD
DTSTART;VALUE=DATE:19700101
TZNAME:GMT+3
TZOFFSETTO:+0300
END:STANDARD
END:VTIMEZONE
BEGIN:VEVENT
ATTENDEE;CN=М6О-107СВ-25:https://public.mai.ru/schedule/data/b33ad693f0
 9fdcfa53fbe2074a516e14.json
DESCRIPTION:Группы: М6О-107СВ-25
DTSTAMP:20260424T083846Z
DTSTART;TZID=Europe/Moscow:20260210T130000
DURATION:PT3H15M
LOCATION:ГУК Б-336с
RRULE:FREQ=DAILY;INTERVAL=14;COUNT=9
SEQUENCE:0
SUMMARY:[ЛК\,ПЗ 2п.]Электрохимические методы в
  биомедицине (107СВ)
UID:f35fef91-1499-4114-a38d-8f1d843ccf6e
END:VEVENT
BEGIN:VEVENT
ATTENDEE;CN=М3О-215БВ-24:https://public.mai.ru/schedule/data/7e89a691fa
 969b1b8965dcd178612294.json
DESCRIPTION:Группы: М3О-215БВ-24
DTSTAMP:20260424T083846Z
DTSTART;TZID=Europe/Moscow:20260212T104500
DURATION:PT1H30M
LOCATION:ГУК Б-334
RRULE:FREQ=DAILY;INTERVAL=14;COUNT=7
SEQUENCE:0
SUMMARY:[ЛК 1п.]Конструкционные и биоматериал
 ы (215БВ)
UID:8cf22491-e66b-47ee-b51f-d62cd889cb1c
END:VEVENT
BEGIN:VEVENT
ATTENDEE;CN=М6О-320Б-23:https://public.mai.ru/schedule/data/74975c2c043a
 1be6c13cdbc4b5532c03.json
DESCRIPTION:Группы: М6О-320Б-23
DTSTAMP:20260424T083846Z
DTSTART;TZID=Europe/Moscow:20260212T144500
DURATION:PT3H15M
LOCATION:ГУК Б-334
RRULE:FREQ=DAILY;INTERVAL=14;COUNT=8
SEQUENCE:0
SUMMARY:[ЛК 2п.]Нанотехнологии в биомедицине (
 320Б)
UID:bb322c44-c642-49f7-81ed-89051c2f050a
END:VEVENT
BEGIN:VEVENT
ATTENDEE;CN=М6О-226БВ-24:https://public.mai.ru/schedule/data/f82bf0c81b
 2a6ecd530ef2c642e88a98.json
DESCRIPTION:Группы: М6О-226БВ-24
DTSTAMP:20260424T083846Z
DTSTART;TZID=Europe/Moscow:20260213T130000
DURATION:PT3H15M
LOCATION:ГУК Б-334
RRULE:FREQ=DAILY;INTERVAL=35;COUNT=3
SEQUENCE:0
SUMMARY:[ЛК 2п.]Конструкционные и биоматериал
 ы (226БВ)
UID:f668d635-0e9d-4cb6-be91-05c4dda243c7
END:VEVENT
BEGIN:VEVENT
ATTENDEE;CN=М3О-215БВ-24:https://public.mai.ru/schedule/data/7e89a691fa
 969b1b8965dcd178612294.json
DESCRIPTION:Группы: М3О-215БВ-24
DTSTAMP:20260424T083846Z
DTSTART;TZID=Europe/Moscow:20260403T130000
DURATION:PT3H15M
LOCATION:ГУК Б-334
RRULE:FREQ=DAILY;INTERVAL=35;COUNT=2
SEQUENCE:0
SUMMARY:[ПЗ 2п.]Конструкционные и биоматериал
 ы (215БВ)
UID:20be8397-ef08-4f83-9063-109719c28a16
END:VEVENT
BEGIN:VEVENT
ATTENDEE;CN=М3О-215БВ-24:https://public.mai.ru/schedule/data/7e89a691fa
 969b1b8965dcd178612294.json
DESCRIPTION:Группы: М3О-215БВ-24
DTSTAMP:20260424T083846Z
DTSTART;TZID=Europe/Moscow:20260417T130000
DURATION:PT3H15M
LOCATION:ГУК Б-334
RRULE:FREQ=DAILY;INTERVAL=35;COUNT=2
SEQUENCE:0
SUMMARY:[ПЗ 2п.]Конструкционные и биоматериал
 ы (215БВ)
UID:e1a40585-50da-4e0d-b6c2-a18426523a50
END:VEVENT
BEGIN:VEVENT
ATTENDEE;CN=М6О-226БВ-24:https://public.mai.ru/schedule/data/f82bf0c81b
 2a6ecd530ef2c642e88a98.json
DESCRIPTION:Группы: М6О-226БВ-24
DTSTAMP:20260424T083846Z
DTSTART;TZID=Europe/Moscow:20260522T130000
DURATION:PT3H15M
LOCATION:ГУК Б-334
RRULE:FREQ=DAILY;INTERVAL=35;COUNT=2
SEQUENCE:0
SUMMARY:[ПЗ 2п.]Конструкционные и биоматериал
 ы (226БВ)
UID:79b32d42-5f1d-4e64-9a62-186f5633f62d
END:VEVENT
BEGIN:VEVENT
ATTENDEE;CN=М6О-226БВ-24:https://public.mai.ru/schedule/data/f82bf0c81b
 2a6ecd530ef2c642e88a98.json
DESCRIPTION:Группы: М6О-226БВ-24
DTSTAMP:20260424T083846Z
DTSTART;TZID=Europe/Moscow:20260605T130000
DURATION:PT3H15M
LOCATION:ГУК Б-334
RRULE:FREQ=DAILY;INTERVAL=35;COUNT=2
SEQUENCE:0
SUMMARY:[ПЗ 2п.]Конструкционные и биоматериал
 ы (226БВ)
UID:1121e7ee-c532-4185-bd0a-ae2a01bf326f
END:VEVENT
BEGIN:VEVENT
ATTENDEE;CN=М6О-228БВ-24:https://public.mai.ru/schedule/data/e3f6bdc411
 fc25289001cc9c1e41ef01.json
DESCRIPTION:Группы: М6О-228БВ-24
DTSTAMP:20260424T083846Z
DTSTART;TZID=Europe/Moscow:20260216T104500
DURATION:PT3H45M
LOCATION:ГУК Б-649\; ГУК Б-334
RRULE:FREQ=DAILY;INTERVAL=14;COUNT=4
SEQUENCE:0
SUMMARY:[ЛК 2п.]Конструкционные и биоматериал
 ы (228БВ)
UID:0b981d60-4a16-4686-b978-759ad9ca421b
END:VEVENT
BEGIN:VEVENT
ATTENDEE;CN=М3О-215БВ-24:https://public.mai.ru/schedule/data/7e89a691fa
 969b1b8965dcd178612294.json
ATTENDEE;CN=М6О-228БВ-24:https://public.mai.ru/schedule/data/e3f6bdc411
 fc25289001cc9c1e41ef01.json
ATTENDEE;CN=М6О-226БВ-24:https://public.mai.ru/schedule/data/f82bf0c81b
 2a6ecd530ef2c642e88a98.json
DESCRIPTION:Группы: М3О-215БВ-24\,М6О-228БВ-24\,М6О-226БВ
 -24
DTSTAMP:20260424T083846Z
DTSTART;TZID=Europe/Moscow:20260330T104500
DURATION:PT1H30M
LOCATION:ГУК Б-649
RRULE:FREQ=DAILY;INTERVAL=14;COUNT=2
SEQUENCE:0
SUMMARY:[ЛК 1п.]Конструкционные и биоматериал
 ы (215БВ\,228БВ\,226БВ)
UID:f4aa0795-7ad1-4318-a840-638ed9a02e76
END:VEVENT
BEGIN:VEVENT
ATTENDEE;CN=М3О-215БВ-24:https://public.mai.ru/schedule/data/7e89a691fa
 969b1b8965dcd178612294.json
ATTENDEE;CN=М6О-228БВ-24:https://public.mai.ru/schedule/data/e3f6bdc411
 fc25289001cc9c1e41ef01.json
ATTENDEE;CN=М6О-226БВ-24:https://public.mai.ru/schedule/data/f82bf0c81b
 2a6ecd530ef2c642e88a98.json
DESCRIPTION:Группы: М3О-215БВ-24\,М6О-228БВ-24\,М6О-226БВ
 -24
DTSTAMP:20260424T083846Z
DTSTART;TZID=Europe/Moscow:20260413T104500
DURATION:PT1H30M
LOCATION:ГУК Б-649
RRULE:FREQ=DAILY;INTERVAL=14;COUNT=2
SEQUENCE:0
SUMMARY:[ЛК 1п.]Конструкционные и биоматериал
 ы (215БВ\,228БВ\,226БВ)
UID:b5b32084-60d9-4463-8964-8e925261fb81
END:VEVENT
BEGIN:VEVENT
ATTENDEE;CN=М3О-215БВ-24:https://public.mai.ru/schedule/data/7e89a691fa
 969b1b8965dcd178612294.json
ATTENDEE;CN=М6О-228БВ-24:https://public.mai.ru/schedule/data/e3f6bdc411
 fc25289001cc9c1e41ef01.json
ATTENDEE;CN=М6О-226БВ-24:https://public.mai.ru/schedule/data/f82bf0c81b
 2a6ecd530ef2c642e88a98.json
DESCRIPTION:Группы: М3О-215БВ-24\,М6О-228БВ-24\,М6О-226БВ
 -24
DTSTAMP:20260424T083846Z
DTSTART;TZID=Europe/Moscow:20260427T104500
DURATION:PT1H30M
LOCATION:ГУК Б-649
RRULE:FREQ=DAILY;INTERVAL=14;COUNT=2
SEQUENCE:0
SUMMARY:[ЛК 1п.]Конструкционные и биоматериал
 ы (215БВ\,228БВ\,226БВ)
UID:9a452ac9-576b-4c42-bab2-b8be70f8ee93
END:VEVENT
BEGIN:VEVENT
ATTENDEE;CN=М3О-215БВ-24:https://public.mai.ru/schedule/data/7e89a691fa
 969b1b8965dcd178612294.json
ATTENDEE;CN=М6О-228БВ-24:https://public.mai.ru/schedule/data/e3f6bdc411
 fc25289001cc9c1e41ef01.json
ATTENDEE;CN=М6О-226БВ-24:https://public.mai.ru/schedule/data/f82bf0c81b
 2a6ecd530ef2c642e88a98.json
DESCRIPTION:Группы: М3О-215БВ-24\,М6О-228БВ-24\,М6О-226БВ
 -24
DTSTAMP:20260424T083846Z
DTSTART;TZID=Europe/Moscow:20260511T104500
DURATION:PT1H30M
LOCATION:ГУК Б-649
RRULE:FREQ=DAILY;INTERVAL=14;COUNT=2
SEQUENCE:0
SUMMARY:[ЛК 1п.]Конструкционные и биоматериал
 ы (215БВ\,228БВ\,226БВ)
UID:28a33076-3227-4a62-bb28-8c62f7f8f817
END:VEVENT
BEGIN:VEVENT
ATTENDEE;CN=М3О-215БВ-24:https://public.mai.ru/schedule/data/7e89a691fa
 969b1b8965dcd178612294.json
ATTENDEE;CN=М6О-228БВ-24:https://public.mai.ru/schedule/data/e3f6bdc411
 fc25289001cc9c1e41ef01.json
ATTENDEE;CN=М6О-226БВ-24:https://public.mai.ru/schedule/data/f82bf0c81b
 2a6ecd530ef2c642e88a98.json
DESCRIPTION:Группы: М3О-215БВ-24\,М6О-228БВ-24\,М6О-226БВ
 -24
DTSTAMP:20260424T083846Z
DTSTART;TZID=Europe/Moscow:20260525T104500
DURATION:PT1H30M
LOCATION:ГУК Б-649
RRULE:FREQ=DAILY;INTERVAL=14;COUNT=2
SEQUENCE:0
SUMMARY:[ЛК 1п.]Конструкционные и биоматериал
 ы (215БВ\,228БВ\,226БВ)
UID:3419840b-5d36-44a4-b147-409710d7c2ef
END:VEVENT
BEGIN:VEVENT
ATTENDEE;CN=М6О-226БВ-24:https://public.mai.ru/schedule/data/f82bf0c81b
 2a6ecd530ef2c642e88a98.json
DESCRIPTION:Группы: М6О-226БВ-24
DTSTAMP:20260424T083846Z
DTSTART;TZID=Europe/Moscow:20260227T090000
DURATION:PT7H15M
LOCATION:ГУК Б-334
RRULE:FREQ=DAILY;INTERVAL=14;COUNT=6
SEQUENCE:0
SUMMARY:[ПЗ\,ЛК 4п.]Конструкционные и биоматер
 иалы (226БВ)
UID:d334fc75-9a23-4a3c-a5f2-fe3e5598dd15
END:VEVENT
BEGIN:VEVENT
ATTENDEE;CN=М6О-228БВ-24:https://public.mai.ru/schedule/data/e3f6bdc411
 fc25289001cc9c1e41ef01.json
DESCRIPTION:Группы: М6О-228БВ-24
DTSTAMP:20260424T083846Z
DTSTART;TZID=Europe/Moscow:20260330T130000
DURATION:PT3H15M
LOCATION:ГУК Б-334
RRULE:FREQ=DAILY;INTERVAL=14;COUNT=3
SEQUENCE:0
SUMMARY:[ПЗ 2п.]Конструкционные и биоматериал
 ы (228БВ)
UID:44280cb4-b0ff-47b8-91e8-9d676819db19
END:VEVENT
BEGIN:VEVENT
ATTENDEE;CN=М6О-228БВ-24:https://public.mai.ru/schedule/data/e3f6bdc411
 fc25289001cc9c1e41ef01.json
DESCRIPTION:Группы: М6О-228БВ-24
DTSTAMP:20260424T083846Z
DTSTART;TZID=Europe/Moscow:20260427T130000
DURATION:PT3H15M
LOCATION:ГУК Б-334
RRULE:FREQ=DAILY;INTERVAL=14;COUNT=2
SEQUENCE:0
SUMMARY:[ПЗ 2п.]Конструкционные и биоматериал
 ы (228БВ)
UID:28f9c080-fb93-45dd-8843-7102b2c827a1
END:VEVENT
BEGIN:VEVENT
ATTENDEE;CN=М6О-228БВ-24:https://public.mai.ru/schedule/data/e3f6bdc411
 fc25289001cc9c1e41ef01.json
DESCRIPTION:Группы: М6О-228БВ-24
DTSTAMP:20260424T083846Z
DTSTART;TZID=Europe/Moscow:20260511T130000
DURATION:PT3H15M
LOCATION:ГУК Б-334
RRULE:FREQ=DAILY;INTERVAL=14;COUNT=2
SEQUENCE:0
SUMMARY:[ПЗ 2п.]Конструкционные и биоматериал
 ы (228БВ)
UID:2d6fc610-df8b-49be-8a5b-9b8fc7cafd3c
END:VEVENT
BEGIN:VEVENT
ATTENDEE;CN=М6О-228БВ-24:https://public.mai.ru/schedule/data/e3f6bdc411
 fc25289001cc9c1e41ef01.json
DESCRIPTION:Группы: М6О-228БВ-24
DTSTAMP:20260424T083846Z
DTSTART;TZID=Europe/Moscow:20260611T090000
DURATION:PT3H15M
LOCATION:ГУК Б-334
RRULE:FREQ=DAILY;INTERVAL=0;COUNT=1
SEQUENCE:0
SUMMARY:[Экзамен 2п.]Конструкционные и биомат
 ериалы (228БВ)
UID:78e3a18c-8e70-4985-a927-707b33cb01d4
END:VEVENT
BEGIN:VEVENT
ATTENDEE;CN=М3О-215БВ-24:https://public.mai.ru/schedule/data/7e89a691fa
 969b1b8965dcd178612294.json
DESCRIPTION:Группы: М3О-215БВ-24
DTSTAMP:20260424T083846Z
DTSTART;TZID=Europe/Moscow:20260615T090000
DURATION:PT3H15M
LOCATION:ГУК Б-334
RRULE:FREQ=DAILY;INTERVAL=0;COUNT=1
SEQUENCE:0
SUMMARY:[Экзамен 2п.]Конструкционные и биомат
 ериалы (215БВ)
UID:3ada178e-6282-4cbd-a291-6e8b5ef44e34
END:VEVENT
BEGIN:VEVENT
ATTENDEE;CN=М6О-320Б-23:https://public.mai.ru/schedule/data/74975c2c043a
 1be6c13cdbc4b5532c03.json
DESCRIPTION:Группы: М6О-320Б-23
DTSTAMP:20260424T083846Z
DTSTART;TZID=Europe/Moscow:20260623T104500
DURATION:PT1H30M
LOCATION:ГУК Б-336а
RRULE:FREQ=DAILY;INTERVAL=0;COUNT=1
SEQUENCE:0
SUMMARY:[Экзамен 1п.]Нанотехнологии в биомеди
 цине (320Б)
UID:e6546055-aa28-4459-80c1-bd3a24625db9
END:VEVENT
END:VCALENDAR
