﻿BEGIN:VCALENDAR
CALSCALE:GREGORIAN
METHOD:PUBLISH
PRODID:-//MAI-dep406//MAI Dep406 1.01//RU
VERSION:2.0
X-WR-TIMEZONE:Europe/Moscow
BEGIN:VTIMEZONE
TZID:Europe/Moscow
X-LIC-LOCATION:Europe/Moscow
BEGIN:STANDARD
DTSTART;VALUE=DATE:19700101
TZNAME:GMT+3
TZOFFSETTO:+0300
END:STANDARD
END:VTIMEZONE
BEGIN:VEVENT
ATTENDEE;CN=М3О-502С-21:https://public.mai.ru/schedule/data/65bca8cae1de
 fa94043bbd0948510f82.json
DESCRIPTION:Группы: М3О-502С-21
DTSTAMP:20260419T172722Z
DTSTART;TZID=Europe/Moscow:20260211T090000
DURATION:PT3H15M
LOCATION:3-145
RRULE:FREQ=DAILY;INTERVAL=14;COUNT=9
SEQUENCE:0
SUMMARY:[ЛК 2п.]Контроль и диагностика электр
 онных систем управления силовыми устано
 вками (502С)
UID:2dd78290-a87e-4a2d-a208-44f7c33edea4
END:VEVENT
BEGIN:VEVENT
ATTENDEE;CN=М3О-402С-22:https://public.mai.ru/schedule/data/a1642fda275f
 9a55334d09583427ff52.json
DESCRIPTION:Группы: М3О-402С-22
DTSTAMP:20260419T172722Z
DTSTART;TZID=Europe/Moscow:20260213T130000
DURATION:PT1H30M
LOCATION:3-151
RRULE:FREQ=DAILY;INTERVAL=14;COUNT=9
SEQUENCE:0
SUMMARY:[ЛК 1п.]Системы автоматического управ
 ления и топливопитания авиадвигателей (4
 02С)
UID:b71f3872-fd84-45b1-ae4f-5ff9f6db1b15
END:VEVENT
BEGIN:VEVENT
ATTENDEE;CN=М3О-402С-22:https://public.mai.ru/schedule/data/a1642fda275f
 9a55334d09583427ff52.json
DESCRIPTION:Группы: М3О-402С-22
DTSTAMP:20260419T172722Z
DTSTART;TZID=Europe/Moscow:20260605T130000
DURATION:PT1H30M
LOCATION:3-151
RRULE:FREQ=DAILY;INTERVAL=14;COUNT=1
SEQUENCE:0
SUMMARY:[ЛК 1п.]Системы автоматического управ
 ления и топливопитания авиадвигателей (4
 02С)
UID:c2720604-c7a3-4eb8-aeb4-c131c3cbea07
END:VEVENT
BEGIN:VEVENT
ATTENDEE;CN=М3О-402С-22:https://public.mai.ru/schedule/data/a1642fda275f
 9a55334d09583427ff52.json
DESCRIPTION:Группы: М3О-402С-22
DTSTAMP:20260419T172722Z
DTSTART;TZID=Europe/Moscow:20260220T104500
DURATION:PT3H45M
LOCATION:3-151
RRULE:FREQ=DAILY;INTERVAL=0;COUNT=1
SEQUENCE:0
SUMMARY:[ЛК 2п.]Системы автоматического управ
 ления и топливопитания авиадвигателей (4
 02С)
UID:6314dd8b-6be7-4be6-92b0-2bb180347fbe
END:VEVENT
BEGIN:VEVENT
ATTENDEE;CN=М3О-402С-22:https://public.mai.ru/schedule/data/a1642fda275f
 9a55334d09583427ff52.json
DESCRIPTION:Группы: М3О-402С-22
DTSTAMP:20260419T172722Z
DTSTART;TZID=Europe/Moscow:20260306T090000
DURATION:PT5H30M
LOCATION:3-151
RRULE:FREQ=DAILY;INTERVAL=14;COUNT=5
SEQUENCE:0
SUMMARY:[ЛР\,ЛК 3п.]Системы автоматического уп
 равления и топливопитания авиадвигател
 ей (402С)
UID:6f5d5175-ddaf-43df-abf1-57886e8fa7bc
END:VEVENT
END:VCALENDAR
