﻿BEGIN:VCALENDAR
CALSCALE:GREGORIAN
METHOD:PUBLISH
PRODID:-//MAI-dep406//MAI Dep406 1.01//RU
VERSION:2.0
X-WR-TIMEZONE:Europe/Moscow
BEGIN:VTIMEZONE
TZID:Europe/Moscow
X-LIC-LOCATION:Europe/Moscow
BEGIN:STANDARD
DTSTART;VALUE=DATE:19700101
TZNAME:GMT+3
TZOFFSETTO:+0300
END:STANDARD
END:VTIMEZONE
BEGIN:VEVENT
ATTENDEE;CN=М6О-210СВ-24:https://public.mai.ru/schedule/data/414c6b1ee9
 037d19c3d888b3840eeb5f.json
DESCRIPTION:Группы: М6О-210СВ-24
DTSTAMP:20260425T124651Z
DTSTART;TZID=Europe/Moscow:20260212T163000
DURATION:PT3H15M
LOCATION:24-314
RRULE:FREQ=DAILY;INTERVAL=7;COUNT=12
SEQUENCE:0
SUMMARY:[ЛК\,ПЗ 2п.]Анализ и синтез информацио
 нных спутниковых систем (210СВ)
UID:3518001c-19e2-4ab3-8ea0-bbe855748c5b
END:VEVENT
END:VCALENDAR
