﻿BEGIN:VCALENDAR
CALSCALE:GREGORIAN
METHOD:PUBLISH
PRODID:-//MAI-dep406//MAI Dep406 1.01//RU
VERSION:2.0
X-WR-TIMEZONE:Europe/Moscow
BEGIN:VTIMEZONE
TZID:Europe/Moscow
X-LIC-LOCATION:Europe/Moscow
BEGIN:STANDARD
DTSTART;VALUE=DATE:19700101
TZNAME:GMT+3
TZOFFSETTO:+0300
END:STANDARD
END:VTIMEZONE
BEGIN:VEVENT
ATTENDEE;CN=М5О-210БВк-24:https://public.mai.ru/schedule/data/26294b1c
 6d1789144957f16fce8f01b8.json
ATTENDEE;CN=М5О-211БВк-24:https://public.mai.ru/schedule/data/0ade2e45
 12069ecc564dbe2da8ddf1c8.json
ATTENDEE;CN=М5О-202БВк-24:https://public.mai.ru/schedule/data/c6bc4f37
 66be251f5551f49474c0c4b6.json
DESCRIPTION:Группы: М5О-210БВк-24\,М5О-211БВк-24\,М5О-202
 БВк-24
DTSTAMP:20260419T194152Z
DTSTART;TZID=Europe/Moscow:20260210T144500
DURATION:PT1H30M
LOCATION:5-111
RRULE:FREQ=DAILY;INTERVAL=7;COUNT=17
SEQUENCE:0
SUMMARY:[ЛК 1п.]Управление человеческими ресу
 рсами (210БВк\,211БВк\,202БВк)
UID:eefb8f58-bc00-4d36-9945-e8aa6d9571f1
END:VEVENT
BEGIN:VEVENT
ATTENDEE;CN=М5В-217БВк-24:https://public.mai.ru/schedule/data/d6e2053d
 11174b3134a2a826843f5c2a.json
DESCRIPTION:Группы: М5В-217БВк-24
DTSTAMP:20260419T194152Z
DTSTART;TZID=Europe/Moscow:20260211T181500
DURATION:PT3H15M
LOCATION:5-314
RRULE:FREQ=DAILY;INTERVAL=7;COUNT=5
SEQUENCE:0
SUMMARY:[ЛК\,ПЗ 2п.]Управление персоналом (217БВ
 к)
UID:4833d0ff-6467-436c-a81f-de3e8e7b1779
END:VEVENT
BEGIN:VEVENT
ATTENDEE;CN=М5О-421Бк-22:https://public.mai.ru/schedule/data/5c9ea21f1c
 bd6bc992290bb7835cfc4b.json
DESCRIPTION:Группы: М5О-421Бк-22
DTSTAMP:20260419T194152Z
DTSTART;TZID=Europe/Moscow:20260212T163000
DURATION:PT3H15M
LOCATION:5-405
RRULE:FREQ=DAILY;INTERVAL=7;COUNT=10
SEQUENCE:0
SUMMARY:[ЛК\,ПЗ 2п.]Маркетинг персонала (421Бк)
UID:09b89528-cc10-448c-8cc2-4dac8edfc467
END:VEVENT
BEGIN:VEVENT
ATTENDEE;CN=М5О-213БВ-24:https://public.mai.ru/schedule/data/1a4f905048
 41cb5427b5fc012092ab1d.json
ATTENDEE;CN=М5О-225БВк-24:https://public.mai.ru/schedule/data/4728f49a
 82c137f55f79d35065c24d08.json
ATTENDEE;CN=М5О-205БВк-24:https://public.mai.ru/schedule/data/7c0f23bb
 b4d3018a2e0d067616d6e8ca.json
ATTENDEE;CN=М5О-224БВк-24:https://public.mai.ru/schedule/data/410a06b5
 33c4e3d81546408dce1aa8c5.json
DESCRIPTION:Группы: М5О-213БВ-24\,М5О-225БВк-24\,М5О-205Б
 Вк-24\,М5О-224БВк-24
DTSTAMP:20260419T194152Z
DTSTART;TZID=Europe/Moscow:20260213T163000
DURATION:PT1H30M
LOCATION:5-111
RRULE:FREQ=DAILY;INTERVAL=7;COUNT=12
SEQUENCE:0
SUMMARY:[ЛК 1п.]Управление человеческими ресу
 рсами (213БВ\,225БВк\,205БВк\,224БВк)
UID:0aa1017b-a794-4b97-be6e-4285be66a2f1
END:VEVENT
BEGIN:VEVENT
ATTENDEE;CN=М5О-211БВк-24:https://public.mai.ru/schedule/data/0ade2e45
 12069ecc564dbe2da8ddf1c8.json
DESCRIPTION:Группы: М5О-211БВк-24
DTSTAMP:20260419T194152Z
DTSTART;TZID=Europe/Moscow:20260216T130000
DURATION:PT1H30M
LOCATION:5-420
RRULE:FREQ=DAILY;INTERVAL=14;COUNT=6
SEQUENCE:0
SUMMARY:[ПЗ 1п.]Управление человеческими ресу
 рсами (211БВк)
UID:659f4dfc-216f-4ff0-a94d-303b081f0001
END:VEVENT
BEGIN:VEVENT
ATTENDEE;CN=М5О-210БВк-24:https://public.mai.ru/schedule/data/26294b1c
 6d1789144957f16fce8f01b8.json
DESCRIPTION:Группы: М5О-210БВк-24
DTSTAMP:20260419T194152Z
DTSTART;TZID=Europe/Moscow:20260216T144500
DURATION:PT1H30M
LOCATION:5-422
RRULE:FREQ=DAILY;INTERVAL=14;COUNT=4
SEQUENCE:0
SUMMARY:[ПЗ 1п.]Управление человеческими ресу
 рсами (210БВк)
UID:7d71c39e-3dae-4c20-9d46-9c415b703517
END:VEVENT
BEGIN:VEVENT
ATTENDEE;CN=М5О-210БВк-24:https://public.mai.ru/schedule/data/26294b1c
 6d1789144957f16fce8f01b8.json
DESCRIPTION:Группы: М5О-210БВк-24
DTSTAMP:20260419T194152Z
DTSTART;TZID=Europe/Moscow:20260330T144500
DURATION:PT1H30M
LOCATION:5-422
RRULE:FREQ=DAILY;INTERVAL=14;COUNT=2
SEQUENCE:0
SUMMARY:[ПЗ 1п.]Управление человеческими ресу
 рсами (210БВк)
UID:1ef2c4e8-87c9-4df2-8340-9038f1bdf808
END:VEVENT
BEGIN:VEVENT
ATTENDEE;CN=М5О-210БВк-24:https://public.mai.ru/schedule/data/26294b1c
 6d1789144957f16fce8f01b8.json
DESCRIPTION:Группы: М5О-210БВк-24
DTSTAMP:20260419T194152Z
DTSTART;TZID=Europe/Moscow:20260413T144500
DURATION:PT1H30M
LOCATION:5-422
RRULE:FREQ=DAILY;INTERVAL=14;COUNT=2
SEQUENCE:0
SUMMARY:[ПЗ 1п.]Управление человеческими ресу
 рсами (210БВк)
UID:023cc361-d0ba-45f2-9f50-69ddd9a02049
END:VEVENT
BEGIN:VEVENT
ATTENDEE;CN=М5О-202БВк-24:https://public.mai.ru/schedule/data/c6bc4f37
 66be251f5551f49474c0c4b6.json
DESCRIPTION:Группы: М5О-202БВк-24
DTSTAMP:20260419T194152Z
DTSTART;TZID=Europe/Moscow:20260504T144500
DURATION:PT1H30M
LOCATION:5-401
RRULE:FREQ=DAILY;INTERVAL=14;COUNT=2
SEQUENCE:0
SUMMARY:[ПЗ 1п.]Управление человеческими ресу
 рсами (202БВк)
UID:00332cb2-69e7-4a29-9cdc-d2fe906bfe28
END:VEVENT
BEGIN:VEVENT
ATTENDEE;CN=М5О-224БВк-24:https://public.mai.ru/schedule/data/410a06b5
 33c4e3d81546408dce1aa8c5.json
DESCRIPTION:Группы: М5О-224БВк-24
DTSTAMP:20260419T194152Z
DTSTART;TZID=Europe/Moscow:20260217T163000
DURATION:PT3H15M
LOCATION:5-425
RRULE:FREQ=DAILY;INTERVAL=7;COUNT=14
SEQUENCE:0
SUMMARY:[ЛР 2п.]Управление человеческими ресу
 рсами (224БВк)
UID:7c96df6a-5608-40cf-be6c-bdeb4941f716
END:VEVENT
BEGIN:VEVENT
ATTENDEE;CN=М1О-131БВ-25:https://public.mai.ru/schedule/data/878937f526
 afdf9bc983857cba854a1e.json
ATTENDEE;CN=М1О-133БВ-25:https://public.mai.ru/schedule/data/5b862839b9
 3dae5c51e0e804b9a73f76.json
ATTENDEE;CN=М1О-132БВ-25:https://public.mai.ru/schedule/data/fc9bd870bf
 356c9fae2766d4146993c1.json
ATTENDEE;CN=М1О-138БВ-25:https://public.mai.ru/schedule/data/92e97216f8
 6c6c313db3eae600a94eb1.json
ATTENDEE;CN=М1О-136БВ-25:https://public.mai.ru/schedule/data/e474dc4cae
 046652a938d859f66eb937.json
DESCRIPTION:Группы: М1О-131БВ-25\,М1О-133БВ-25\,М1О-132БВ
 -25\,М1О-138БВ-25\,М1О-136БВ-25
DTSTAMP:20260419T194152Z
DTSTART;TZID=Europe/Moscow:20260219T144500
DURATION:PT1H30M
LOCATION:7-416
RRULE:FREQ=DAILY;INTERVAL=14;COUNT=8
SEQUENCE:0
SUMMARY:[ПЗ 1п.]Правоведение (131БВ\,133БВ\,132БВ\,138
 БВ\,136БВ)
UID:af080905-497b-4338-839a-08a258f38435
END:VEVENT
BEGIN:VEVENT
ATTENDEE;CN=М5В-506Бк-21:https://public.mai.ru/schedule/data/8532cb6f84
 41559f506674995290cae8.json
DESCRIPTION:Группы: М5В-506Бк-21
DTSTAMP:20260419T194152Z
DTSTART;TZID=Europe/Moscow:20260220T181500
DURATION:PT3H15M
LOCATION:5-105а
RRULE:FREQ=DAILY;INTERVAL=7;COUNT=7
SEQUENCE:0
SUMMARY:[ЛК 2п.]Маркетинг персонала (506Бк)
UID:c9f239d1-6668-4f2f-8a1e-5cbf77e05010
END:VEVENT
BEGIN:VEVENT
ATTENDEE;CN=М5О-213БВ-24:https://public.mai.ru/schedule/data/1a4f905048
 41cb5427b5fc012092ab1d.json
DESCRIPTION:Группы: М5О-213БВ-24
DTSTAMP:20260419T194152Z
DTSTART;TZID=Europe/Moscow:20260221T130000
DURATION:PT5H
LOCATION:5-420
RRULE:FREQ=DAILY;INTERVAL=7;COUNT=9
SEQUENCE:0
SUMMARY:[ЛР\,ПЗ 3п.]Управление человеческими р
 есурсами (213БВ)
UID:72e7b8a8-7e0b-4605-af74-fbc85d926fb5
END:VEVENT
BEGIN:VEVENT
ATTENDEE;CN=М5О-210БВк-24:https://public.mai.ru/schedule/data/26294b1c
 6d1789144957f16fce8f01b8.json
DESCRIPTION:Группы: М5О-210БВк-24
DTSTAMP:20260419T194152Z
DTSTART;TZID=Europe/Moscow:20260627T130000
DURATION:PT3H15M
LOCATION:5-420
RRULE:FREQ=DAILY;INTERVAL=7;COUNT=1
SEQUENCE:0
SUMMARY:[Экзамен 2п.]Управление человеческим
 и ресурсами (210БВк)
UID:889e9f09-54f1-409e-8923-d547a4441f7a
END:VEVENT
BEGIN:VEVENT
ATTENDEE;CN=М5О-421Бк-22:https://public.mai.ru/schedule/data/5c9ea21f1c
 bd6bc992290bb7835cfc4b.json
DESCRIPTION:Группы: М5О-421Бк-22
DTSTAMP:20260419T194152Z
DTSTART;TZID=Europe/Moscow:20260416T181500
DURATION:PT1H30M
LOCATION:5-405
RRULE:FREQ=DAILY;INTERVAL=0;COUNT=1
SEQUENCE:0
SUMMARY:[ПЗ 1п.]Маркетинг персонала (421Бк)
UID:8cdc6169-c15c-474f-95ba-6a373896ae3e
END:VEVENT
BEGIN:VEVENT
ATTENDEE;CN=М5О-213БВ-24:https://public.mai.ru/schedule/data/1a4f905048
 41cb5427b5fc012092ab1d.json
DESCRIPTION:Группы: М5О-213БВ-24
DTSTAMP:20260419T194152Z
DTSTART;TZID=Europe/Moscow:20260418T163000
DURATION:PT1H30M
LOCATION:5-420
RRULE:FREQ=DAILY;INTERVAL=0;COUNT=1
SEQUENCE:0
SUMMARY:[ПЗ 1п.]Управление человеческими ресу
 рсами (213БВ)
UID:76afb0ca-0b2c-4954-a0b4-6a2f4a2902cf
END:VEVENT
BEGIN:VEVENT
ATTENDEE;CN=М5В-506Бк-21:https://public.mai.ru/schedule/data/8532cb6f84
 41559f506674995290cae8.json
DESCRIPTION:Группы: М5В-506Бк-21
DTSTAMP:20260419T194152Z
DTSTART;TZID=Europe/Moscow:20260522T163000
DURATION:PT1H30M
LOCATION:5-105а
RRULE:FREQ=DAILY;INTERVAL=0;COUNT=1
SEQUENCE:0
SUMMARY:[Экзамен 1п.]Маркетинг персонала (506Бк
 )
UID:2905e8bd-b61a-4f2b-9c24-60a98bf4acb6
END:VEVENT
BEGIN:VEVENT
ATTENDEE;CN=М5О-211БВк-24:https://public.mai.ru/schedule/data/0ade2e45
 12069ecc564dbe2da8ddf1c8.json
DESCRIPTION:Группы: М5О-211БВк-24
DTSTAMP:20260419T194152Z
DTSTART;TZID=Europe/Moscow:20260616T130000
DURATION:PT3H15M
LOCATION:5-420
RRULE:FREQ=DAILY;INTERVAL=7;COUNT=2
SEQUENCE:0
SUMMARY:[Экзамен 2п.]Управление человеческим
 и ресурсами (211БВк)
UID:c643eff9-89f0-4e9b-92c5-c680c3809e29
END:VEVENT
BEGIN:VEVENT
ATTENDEE;CN=М5О-202БВк-24:https://public.mai.ru/schedule/data/c6bc4f37
 66be251f5551f49474c0c4b6.json
DESCRIPTION:Группы: М5О-202БВк-24
DTSTAMP:20260419T194152Z
DTSTART;TZID=Europe/Moscow:20260619T130000
DURATION:PT3H15M
LOCATION:5-420
RRULE:FREQ=DAILY;INTERVAL=0;COUNT=1
SEQUENCE:0
SUMMARY:[Экзамен 2п.]Управление человеческим
 и ресурсами (202БВк)
UID:dd4e1317-5344-4821-97fb-a80f54974e38
END:VEVENT
BEGIN:VEVENT
ATTENDEE;CN=М5О-205БВк-24:https://public.mai.ru/schedule/data/7c0f23bb
 b4d3018a2e0d067616d6e8ca.json
DESCRIPTION:Группы: М5О-205БВк-24
DTSTAMP:20260419T194152Z
DTSTART;TZID=Europe/Moscow:20260624T130000
DURATION:PT3H15M
LOCATION:5-420
RRULE:FREQ=DAILY;INTERVAL=0;COUNT=1
SEQUENCE:0
SUMMARY:[Экзамен 2п.]Управление человеческим
 и ресурсами (205БВк)
UID:e7412ad8-743e-4d78-8135-a34cd72ed524
END:VEVENT
END:VCALENDAR
