﻿BEGIN:VCALENDAR
CALSCALE:GREGORIAN
METHOD:PUBLISH
PRODID:-//MAI-dep406//MAI Dep406 1.01//RU
VERSION:2.0
X-WR-TIMEZONE:Europe/Moscow
BEGIN:VTIMEZONE
TZID:Europe/Moscow
X-LIC-LOCATION:Europe/Moscow
BEGIN:STANDARD
DTSTART;VALUE=DATE:19700101
TZNAME:GMT+3
TZOFFSETTO:+0300
END:STANDARD
END:VTIMEZONE
BEGIN:VEVENT
ATTENDEE;CN=М6О-317Бки-23:https://public.mai.ru/schedule/data/8d31348d
 c6243c368fb5ea4e6d96352a.json
DESCRIPTION:Группы: М6О-317Бки-23
DTSTAMP:20260419T172717Z
DTSTART;TZID=Europe/Moscow:20260210T144500
DURATION:PT1H30M
LOCATION:3-137
RRULE:FREQ=DAILY;INTERVAL=7;COUNT=16
SEQUENCE:0
SUMMARY:[ЛК 1п.]Основы устройства космических
  аппаратов (317Бки)
UID:e487ca1b-1785-48d3-9810-fb3171d6ffd4
END:VEVENT
BEGIN:VEVENT
ATTENDEE;CN=М6О-308БВ-23:https://public.mai.ru/schedule/data/102ef7ce6c
 597b77b6dd33413f1e54a3.json
ATTENDEE;CN=М6О-319БВ-23:https://public.mai.ru/schedule/data/08d1d54fff
 318f40b2dc57fc6ddaf6e5.json
DESCRIPTION:Группы: М6О-308БВ-23\,М6О-319БВ-23
DTSTAMP:20260419T172717Z
DTSTART;TZID=Europe/Moscow:20260210T163000
DURATION:PT3H15M
LOCATION:11-26
RRULE:FREQ=DAILY;INTERVAL=14;COUNT=6
SEQUENCE:0
SUMMARY:[ЛК 2п.]Основы устройства космических
  аппаратов (308БВ\,319БВ)
UID:71773044-4996-4473-bfc5-52e74e50a014
END:VEVENT
BEGIN:VEVENT
ATTENDEE;CN=М6О-308БВ-23:https://public.mai.ru/schedule/data/102ef7ce6c
 597b77b6dd33413f1e54a3.json
ATTENDEE;CN=М6О-319БВ-23:https://public.mai.ru/schedule/data/08d1d54fff
 318f40b2dc57fc6ddaf6e5.json
DESCRIPTION:Группы: М6О-308БВ-23\,М6О-319БВ-23
DTSTAMP:20260419T172717Z
DTSTART;TZID=Europe/Moscow:20260421T163000
DURATION:PT3H15M
LOCATION:11-26
RRULE:FREQ=DAILY;INTERVAL=14;COUNT=2
SEQUENCE:0
SUMMARY:[ЛК 2п.]Основы устройства космических
  аппаратов (308БВ\,319БВ)
UID:45539a75-fbaf-42b5-a3ab-1f8c3a488303
END:VEVENT
BEGIN:VEVENT
ATTENDEE;CN=М6О-308БВ-23:https://public.mai.ru/schedule/data/102ef7ce6c
 597b77b6dd33413f1e54a3.json
ATTENDEE;CN=М6О-319БВ-23:https://public.mai.ru/schedule/data/08d1d54fff
 318f40b2dc57fc6ddaf6e5.json
DESCRIPTION:Группы: М6О-308БВ-23\,М6О-319БВ-23
DTSTAMP:20260419T172717Z
DTSTART;TZID=Europe/Moscow:20260505T163000
DURATION:PT3H15M
LOCATION:11-26
RRULE:FREQ=DAILY;INTERVAL=14;COUNT=2
SEQUENCE:0
SUMMARY:[ЛК 2п.]Основы устройства космических
  аппаратов (308БВ\,319БВ)
UID:94cd7b0e-9238-4042-9578-dbe6002be6a8
END:VEVENT
BEGIN:VEVENT
ATTENDEE;CN=М6О-308БВ-23:https://public.mai.ru/schedule/data/102ef7ce6c
 597b77b6dd33413f1e54a3.json
ATTENDEE;CN=М6О-319БВ-23:https://public.mai.ru/schedule/data/08d1d54fff
 318f40b2dc57fc6ddaf6e5.json
DESCRIPTION:Группы: М6О-308БВ-23\,М6О-319БВ-23
DTSTAMP:20260419T172717Z
DTSTART;TZID=Europe/Moscow:20260519T163000
DURATION:PT3H15M
LOCATION:11-26
RRULE:FREQ=DAILY;INTERVAL=14;COUNT=2
SEQUENCE:0
SUMMARY:[ЛК 2п.]Основы устройства космических
  аппаратов (308БВ\,319БВ)
UID:54bcc7fc-c72b-48cb-9c2d-328004da5e23
END:VEVENT
BEGIN:VEVENT
ATTENDEE;CN=М6О-319БВ-23:https://public.mai.ru/schedule/data/08d1d54fff
 318f40b2dc57fc6ddaf6e5.json
DESCRIPTION:Группы: М6О-319БВ-23
DTSTAMP:20260419T172717Z
DTSTART;TZID=Europe/Moscow:20260616T090000
DURATION:PT3H15M
LOCATION:24-402
RRULE:FREQ=DAILY;INTERVAL=0;COUNT=1
SEQUENCE:0
SUMMARY:[Экзамен 2п.]Основы устройства космич
 еских аппаратов (319БВ)
UID:1e87c291-ff9d-4464-9585-81d156bde63c
END:VEVENT
BEGIN:VEVENT
ATTENDEE;CN=М6О-308БВ-23:https://public.mai.ru/schedule/data/102ef7ce6c
 597b77b6dd33413f1e54a3.json
DESCRIPTION:Группы: М6О-308БВ-23
DTSTAMP:20260419T172717Z
DTSTART;TZID=Europe/Moscow:20260623T104500
DURATION:PT1H30M
LOCATION:24-402
RRULE:FREQ=DAILY;INTERVAL=0;COUNT=1
SEQUENCE:0
SUMMARY:[Экзамен 1п.]Основы устройства космич
 еских аппаратов (308БВ)
UID:1379065c-532c-4256-a1bd-76ca3111fdbc
END:VEVENT
BEGIN:VEVENT
ATTENDEE;CN=М6О-317Бки-23:https://public.mai.ru/schedule/data/8d31348d
 c6243c368fb5ea4e6d96352a.json
DESCRIPTION:Группы: М6О-317Бки-23
DTSTAMP:20260419T172717Z
DTSTART;TZID=Europe/Moscow:20260623T130000
DURATION:PT1H30M
LOCATION:24-402
RRULE:FREQ=DAILY;INTERVAL=0;COUNT=1
SEQUENCE:0
SUMMARY:[Экзамен 1п.]Основы устройства космич
 еских аппаратов (317Бки)
UID:067e46e4-377f-41ad-8f7c-c6628bf208fa
END:VEVENT
END:VCALENDAR
