﻿BEGIN:VCALENDAR
CALSCALE:GREGORIAN
METHOD:PUBLISH
PRODID:-//MAI-dep406//MAI Dep406 1.01//RU
VERSION:2.0
X-WR-TIMEZONE:Europe/Moscow
BEGIN:VTIMEZONE
TZID:Europe/Moscow
X-LIC-LOCATION:Europe/Moscow
BEGIN:STANDARD
DTSTART;VALUE=DATE:19700101
TZNAME:GMT+3
TZOFFSETTO:+0300
END:STANDARD
END:VTIMEZONE
BEGIN:VEVENT
ATTENDEE;CN=М6О-221БВ-24:https://public.mai.ru/schedule/data/2f4f2cd81c
 3a9ce307de3b351b266a4b.json
DESCRIPTION:Группы: М6О-221БВ-24
DTSTAMP:20260420T083709Z
DTSTART;TZID=Europe/Moscow:20260211T130000
DURATION:PT3H15M
LOCATION:2-003(2В)
RRULE:FREQ=DAILY;INTERVAL=14;COUNT=9
SEQUENCE:0
SUMMARY:[ЛК 2п.]Термодинамика и теплопередача
  (221БВ)
UID:38f3ab9a-fe4d-4aa6-bc80-3b5b5b8cf284
END:VEVENT
BEGIN:VEVENT
ATTENDEE;CN=М6О-221БВ-24:https://public.mai.ru/schedule/data/2f4f2cd81c
 3a9ce307de3b351b266a4b.json
DESCRIPTION:Группы: М6О-221БВ-24
DTSTAMP:20260420T083709Z
DTSTART;TZID=Europe/Moscow:20260214T130000
DURATION:PT3H15M
LOCATION:2-104(2В)
RRULE:FREQ=DAILY;INTERVAL=14;COUNT=7
SEQUENCE:0
SUMMARY:[ЛК 2п.]Термодинамика и теплопередача
  (221БВ)
UID:b121ef46-08c5-4504-961f-fde0fe65330e
END:VEVENT
BEGIN:VEVENT
ATTENDEE;CN=М6О-221БВ-24:https://public.mai.ru/schedule/data/2f4f2cd81c
 3a9ce307de3b351b266a4b.json
DESCRIPTION:Группы: М6О-221БВ-24
DTSTAMP:20260420T083709Z
DTSTART;TZID=Europe/Moscow:20260523T130000
DURATION:PT3H15M
LOCATION:2-002(2В)
RRULE:FREQ=DAILY;INTERVAL=14;COUNT=2
SEQUENCE:0
SUMMARY:[ЛР 2п.]Термодинамика и теплопередача
  (221БВ)
UID:66093d70-e2ac-4197-9b97-667c20865235
END:VEVENT
BEGIN:VEVENT
ATTENDEE;CN=М6О-221БВ-24:https://public.mai.ru/schedule/data/2f4f2cd81c
 3a9ce307de3b351b266a4b.json
DESCRIPTION:Группы: М6О-221БВ-24
DTSTAMP:20260420T083709Z
DTSTART;TZID=Europe/Moscow:20260606T130000
DURATION:PT3H15M
LOCATION:2-002(2В)
RRULE:FREQ=DAILY;INTERVAL=14;COUNT=1
SEQUENCE:0
SUMMARY:[ЛР 2п.]Термодинамика и теплопередача
  (221БВ)
UID:257b562e-6c25-4bab-a292-a748f8bcfd51
END:VEVENT
BEGIN:VEVENT
ATTENDEE;CN=М14О-205БВ-24:https://public.mai.ru/schedule/data/aed980cd2
 37d2bc26628ab14267422b8.json
DESCRIPTION:Группы: М14О-205БВ-24
DTSTAMP:20260420T083709Z
DTSTART;TZID=Europe/Moscow:20260217T130000
DURATION:PT3H15M
LOCATION:3-109
RRULE:FREQ=DAILY;INTERVAL=7;COUNT=16
SEQUENCE:0
SUMMARY:[ПЗ 2п.]Термодинамика и теплопередача
  (205БВ)
UID:bd660514-e904-4315-8239-5fcaaa568812
END:VEVENT
BEGIN:VEVENT
ATTENDEE;CN=М2О-104СВ-25:https://public.mai.ru/schedule/data/323955cd50
 ea4fa76e57ca9fcda26258.json
DESCRIPTION:Группы: М2О-104СВ-25
DTSTAMP:20260420T083709Z
DTSTART;TZID=Europe/Moscow:20260218T163000
DURATION:PT1H30M
LOCATION:2-002(2В)
RRULE:FREQ=DAILY;INTERVAL=14;COUNT=8
SEQUENCE:0
SUMMARY:[ЛК 1п.]Методы проектирования теплооб
 менных поверхностей (104СВ)
UID:7698687c-24d6-4342-b215-18d8a9b88f86
END:VEVENT
BEGIN:VEVENT
ATTENDEE;CN=М14О-206БВ-24:https://public.mai.ru/schedule/data/e95e6c838
 1c42b0e9c1ca22347fc37c5.json
DESCRIPTION:Группы: М14О-206БВ-24
DTSTAMP:20260420T083709Z
DTSTART;TZID=Europe/Moscow:20260224T181500
DURATION:PT1H30M
LOCATION:2-003(2В)
RRULE:FREQ=DAILY;INTERVAL=14;COUNT=6
SEQUENCE:0
SUMMARY:[ПЗ 1п.]Термодинамика и теплопередача
  (206БВ)
UID:87d16867-e080-4e21-af9c-454f24e9e2b7
END:VEVENT
BEGIN:VEVENT
ATTENDEE;CN=М14О-204БВ-24:https://public.mai.ru/schedule/data/8cd81bfa8
 e94f8d250254f6655ece46d.json
DESCRIPTION:Группы: М14О-204БВ-24
DTSTAMP:20260420T083709Z
DTSTART;TZID=Europe/Moscow:20260407T144500
DURATION:PT1H30M
LOCATION:2-004(2В)
RRULE:FREQ=DAILY;INTERVAL=14;COUNT=3
SEQUENCE:0
SUMMARY:[ЛР 1п.]Термодинамика и теплопередача
  (204БВ)
UID:8aaef8a2-c52f-4361-94a7-18ed4eb70110
END:VEVENT
END:VCALENDAR
