﻿BEGIN:VCALENDAR
CALSCALE:GREGORIAN
METHOD:PUBLISH
PRODID:-//MAI-dep406//MAI Dep406 1.01//RU
VERSION:2.0
X-WR-TIMEZONE:Europe/Moscow
BEGIN:VTIMEZONE
TZID:Europe/Moscow
X-LIC-LOCATION:Europe/Moscow
BEGIN:STANDARD
DTSTART;VALUE=DATE:19700101
TZNAME:GMT+3
TZOFFSETTO:+0300
END:STANDARD
END:VTIMEZONE
BEGIN:VEVENT
ATTENDEE;CN=М1В-202БВк-24:https://public.mai.ru/schedule/data/2972ae06
 c12ca62fcf4b6a542d33c8cf.json
DESCRIPTION:Группы: М1В-202БВк-24
DTSTAMP:20260422T085446Z
DTSTART;TZID=Europe/Moscow:20260209T181500
DURATION:PT3H15M
LOCATION:3-115
RRULE:FREQ=DAILY;INTERVAL=7;COUNT=3
SEQUENCE:0
SUMMARY:[ЛК\,ПЗ 2п.]Теоретическая механика (202Б
 Вк)
UID:62dbee36-7932-420b-aaf1-795fde48738d
END:VEVENT
BEGIN:VEVENT
ATTENDEE;CN=М1В-202БВк-24:https://public.mai.ru/schedule/data/2972ae06
 c12ca62fcf4b6a542d33c8cf.json
DESCRIPTION:Группы: М1В-202БВк-24
DTSTAMP:20260422T085446Z
DTSTART;TZID=Europe/Moscow:20260316T181500
DURATION:PT3H15M
LOCATION:3-115
RRULE:FREQ=DAILY;INTERVAL=7;COUNT=7
SEQUENCE:0
SUMMARY:[ЛК\,ПЗ 2п.]Теоретическая механика (202Б
 Вк)
UID:fa1e330f-1ac1-4cea-92c4-6c4d5f5470ef
END:VEVENT
BEGIN:VEVENT
ATTENDEE;CN=М3О-141БВ-25:https://public.mai.ru/schedule/data/8939572c92
 46e1511f1c5c7f91072fbe.json
DESCRIPTION:Группы: М3О-141БВ-25
DTSTAMP:20260422T085446Z
DTSTART;TZID=Europe/Moscow:20260211T130000
DURATION:PT1H30M
LOCATION:ГУК Б-446
RRULE:FREQ=DAILY;INTERVAL=7;COUNT=12
SEQUENCE:0
SUMMARY:[ПЗ 1п.]Теоретическая механика (141БВ)
UID:4f6bd2fb-26b0-40f1-a7b1-772c846b2ab7
END:VEVENT
BEGIN:VEVENT
ATTENDEE;CN=М3О-145БВ-25:https://public.mai.ru/schedule/data/95a64510d6
 dfcd2cdbeb69deddd5c92e.json
ATTENDEE;CN=М3О-143БВ-25:https://public.mai.ru/schedule/data/ead81457d2
 8a17d9709fe2641fd56792.json
ATTENDEE;CN=М3О-146БВ-25:https://public.mai.ru/schedule/data/1864e2bbea
 9c7ca26b7dbbc9a29bc440.json
ATTENDEE;CN=М3О-141БВ-25:https://public.mai.ru/schedule/data/8939572c92
 46e1511f1c5c7f91072fbe.json
DESCRIPTION:Группы: М3О-145БВ-25\,М3О-143БВ-25\,М3О-146БВ
 -25\,М3О-141БВ-25
DTSTAMP:20260422T085446Z
DTSTART;TZID=Europe/Moscow:20260211T163000
DURATION:PT1H30M
LOCATION:ГУК Б-460
RRULE:FREQ=DAILY;INTERVAL=7;COUNT=16
SEQUENCE:0
SUMMARY:[ЛК 1п.]Теоретическая механика (145БВ\,14
 3БВ\,146БВ\,141БВ)
UID:c65ef6ba-8d52-47b2-9611-5b07dbcf733e
END:VEVENT
BEGIN:VEVENT
ATTENDEE;CN=М2В-105БВк-25:https://public.mai.ru/schedule/data/ae037675
 67033c45d2e685afba123ce5.json
ATTENDEE;CN=М7В-102БВк-25:https://public.mai.ru/schedule/data/b1495c65
 90b43eafd92c012b028eb039.json
DESCRIPTION:Группы: М2В-105БВк-25\,М7В-102БВк-25
DTSTAMP:20260422T085446Z
DTSTART;TZID=Europe/Moscow:20260211T181500
DURATION:PT3H15M
LOCATION:ГУК Б-635
RRULE:FREQ=DAILY;INTERVAL=14;COUNT=9
SEQUENCE:0
SUMMARY:[ЛК 2п.]Теоретическая механика (105БВк\,
 102БВк)
UID:44923877-8b71-45da-b408-c8b9bcd7252b
END:VEVENT
BEGIN:VEVENT
ATTENDEE;CN=М3О-217БВ-24:https://public.mai.ru/schedule/data/bbd1e4ca7d
 f746e4d762ee99972d95ea.json
ATTENDEE;CN=М3О-216БВ-24:https://public.mai.ru/schedule/data/2a3b923ede
 87c952e4a45cc56ea746d7.json
DESCRIPTION:Группы: М3О-217БВ-24\,М3О-216БВ-24
DTSTAMP:20260422T085446Z
DTSTART;TZID=Europe/Moscow:20260213T130000
DURATION:PT1H30M
LOCATION:3-435
RRULE:FREQ=DAILY;INTERVAL=0;COUNT=1
SEQUENCE:0
SUMMARY:[ЛК 1п.]Теоретическая механика (217БВ\,21
 6БВ)
UID:e710f828-0a86-49b3-8ac7-e390a09d9772
END:VEVENT
BEGIN:VEVENT
ATTENDEE;CN=М1О-123Бки-25:https://public.mai.ru/schedule/data/ddc90e9a
 19dde4b79bd2b9dd1b1034d0.json
ATTENDEE;CN=М6О-126БВ-25:https://public.mai.ru/schedule/data/aebd329002
 8ca3747a8c94b36f91d2eb.json
DESCRIPTION:Группы: М1О-123Бки-25\,М6О-126БВ-25
DTSTAMP:20260422T085446Z
DTSTART;TZID=Europe/Moscow:20260214T090000
DURATION:PT3H15M
LOCATION:7-416
RRULE:FREQ=DAILY;INTERVAL=14;COUNT=7
SEQUENCE:0
SUMMARY:[ЛК 2п.]Теоретическая механика (123Бки\,
 126БВ)
UID:eb7e4338-64be-4216-906a-c5e42a693af3
END:VEVENT
BEGIN:VEVENT
ATTENDEE;CN=М6О-126БВ-25:https://public.mai.ru/schedule/data/aebd329002
 8ca3747a8c94b36f91d2eb.json
DESCRIPTION:Группы: М6О-126БВ-25
DTSTAMP:20260422T085446Z
DTSTART;TZID=Europe/Moscow:20260530T090000
DURATION:PT3H15M
LOCATION:ГУК А-626
RRULE:FREQ=DAILY;INTERVAL=14;COUNT=1
SEQUENCE:0
SUMMARY:[ЛР 2п.]Теоретическая механика (126БВ)
UID:d2b312b7-bce1-4f68-af6c-152de82ccbf7
END:VEVENT
BEGIN:VEVENT
ATTENDEE;CN=М3О-115БВ-25:https://public.mai.ru/schedule/data/3784e0547a
 983be48343d5c6fcc6f57e.json
DESCRIPTION:Группы: М3О-115БВ-25
DTSTAMP:20260422T085446Z
DTSTART;TZID=Europe/Moscow:20260216T144500
DURATION:PT1H30M
LOCATION:ГУК А-626
RRULE:FREQ=DAILY;INTERVAL=14;COUNT=4
SEQUENCE:0
SUMMARY:[ПЗ 1п.]Теоретическая механика (115БВ)
UID:234b0c5b-b5b9-4270-b7f9-8e49127c4494
END:VEVENT
BEGIN:VEVENT
ATTENDEE;CN=М3О-115БВ-25:https://public.mai.ru/schedule/data/3784e0547a
 983be48343d5c6fcc6f57e.json
DESCRIPTION:Группы: М3О-115БВ-25
DTSTAMP:20260422T085446Z
DTSTART;TZID=Europe/Moscow:20260330T144500
DURATION:PT1H30M
LOCATION:ГУК А-626
RRULE:FREQ=DAILY;INTERVAL=14;COUNT=2
SEQUENCE:0
SUMMARY:[ПЗ 1п.]Теоретическая механика (115БВ)
UID:2432f1ad-9987-4f02-aa86-d8a13a4a4def
END:VEVENT
BEGIN:VEVENT
ATTENDEE;CN=М3О-115БВ-25:https://public.mai.ru/schedule/data/3784e0547a
 983be48343d5c6fcc6f57e.json
DESCRIPTION:Группы: М3О-115БВ-25
DTSTAMP:20260422T085446Z
DTSTART;TZID=Europe/Moscow:20260413T144500
DURATION:PT1H30M
LOCATION:ГУК А-626
RRULE:FREQ=DAILY;INTERVAL=14;COUNT=2
SEQUENCE:0
SUMMARY:[ПЗ 1п.]Теоретическая механика (115БВ)
UID:b991d027-418b-489a-8a2f-9c0b4b1fcc28
END:VEVENT
BEGIN:VEVENT
ATTENDEE;CN=М3О-115БВ-25:https://public.mai.ru/schedule/data/3784e0547a
 983be48343d5c6fcc6f57e.json
DESCRIPTION:Группы: М3О-115БВ-25
DTSTAMP:20260422T085446Z
DTSTART;TZID=Europe/Moscow:20260427T144500
DURATION:PT1H30M
LOCATION:ГУК А-626
RRULE:FREQ=DAILY;INTERVAL=14;COUNT=2
SEQUENCE:0
SUMMARY:[ПЗ 1п.]Теоретическая механика (115БВ)
UID:ceba9459-1713-482e-9dd6-22b250820eec
END:VEVENT
BEGIN:VEVENT
ATTENDEE;CN=М3О-115БВ-25:https://public.mai.ru/schedule/data/3784e0547a
 983be48343d5c6fcc6f57e.json
DESCRIPTION:Группы: М3О-115БВ-25
DTSTAMP:20260422T085446Z
DTSTART;TZID=Europe/Moscow:20260511T144500
DURATION:PT1H30M
LOCATION:ГУК А-626
RRULE:FREQ=DAILY;INTERVAL=14;COUNT=1
SEQUENCE:0
SUMMARY:[ПЗ 1п.]Теоретическая механика (115БВ)
UID:a6da1bd2-1d28-4a83-b446-847826ad8abe
END:VEVENT
BEGIN:VEVENT
ATTENDEE;CN=М7О-111БВ-25:https://public.mai.ru/schedule/data/40596f4435
 456b19244cc460448ccb74.json
DESCRIPTION:Группы: М7О-111БВ-25
DTSTAMP:20260422T085446Z
DTSTART;TZID=Europe/Moscow:20260216T163000
DURATION:PT1H30M
LOCATION:3-127
RRULE:FREQ=DAILY;INTERVAL=14;COUNT=4
SEQUENCE:0
SUMMARY:[ПЗ 1п.]Теоретическая механика (111БВ)
UID:ce1ea095-da31-4f57-a46b-acfc732fd32b
END:VEVENT
BEGIN:VEVENT
ATTENDEE;CN=М7О-111БВ-25:https://public.mai.ru/schedule/data/40596f4435
 456b19244cc460448ccb74.json
DESCRIPTION:Группы: М7О-111БВ-25
DTSTAMP:20260422T085446Z
DTSTART;TZID=Europe/Moscow:20260330T163000
DURATION:PT1H30M
LOCATION:3-127
RRULE:FREQ=DAILY;INTERVAL=14;COUNT=2
SEQUENCE:0
SUMMARY:[ПЗ 1п.]Теоретическая механика (111БВ)
UID:14a35475-61b1-47a9-905c-f4ba0d75b426
END:VEVENT
BEGIN:VEVENT
ATTENDEE;CN=М7О-111БВ-25:https://public.mai.ru/schedule/data/40596f4435
 456b19244cc460448ccb74.json
DESCRIPTION:Группы: М7О-111БВ-25
DTSTAMP:20260422T085446Z
DTSTART;TZID=Europe/Moscow:20260413T163000
DURATION:PT1H30M
LOCATION:3-127
RRULE:FREQ=DAILY;INTERVAL=14;COUNT=2
SEQUENCE:0
SUMMARY:[ПЗ 1п.]Теоретическая механика (111БВ)
UID:e1f48f41-7b58-4cda-8fab-e4ffe20d6721
END:VEVENT
BEGIN:VEVENT
ATTENDEE;CN=М7О-111БВ-25:https://public.mai.ru/schedule/data/40596f4435
 456b19244cc460448ccb74.json
DESCRIPTION:Группы: М7О-111БВ-25
DTSTAMP:20260422T085446Z
DTSTART;TZID=Europe/Moscow:20260427T163000
DURATION:PT1H30M
LOCATION:3-127
RRULE:FREQ=DAILY;INTERVAL=14;COUNT=2
SEQUENCE:0
SUMMARY:[ПЗ 1п.]Теоретическая механика (111БВ)
UID:ac96a2ab-4d4c-4fff-881e-bd00a73d191c
END:VEVENT
BEGIN:VEVENT
ATTENDEE;CN=М7О-111БВ-25:https://public.mai.ru/schedule/data/40596f4435
 456b19244cc460448ccb74.json
DESCRIPTION:Группы: М7О-111БВ-25
DTSTAMP:20260422T085446Z
DTSTART;TZID=Europe/Moscow:20260511T163000
DURATION:PT1H30M
LOCATION:3-127
RRULE:FREQ=DAILY;INTERVAL=14;COUNT=2
SEQUENCE:0
SUMMARY:[ПЗ 1п.]Теоретическая механика (111БВ)
UID:eeb19d35-077b-48dd-918b-1c2b93b16102
END:VEVENT
BEGIN:VEVENT
ATTENDEE;CN=М3О-217БВ-24:https://public.mai.ru/schedule/data/bbd1e4ca7d
 f746e4d762ee99972d95ea.json
ATTENDEE;CN=М3О-216БВ-24:https://public.mai.ru/schedule/data/2a3b923ede
 87c952e4a45cc56ea746d7.json
DESCRIPTION:Группы: М3О-217БВ-24\,М3О-216БВ-24
DTSTAMP:20260422T085446Z
DTSTART;TZID=Europe/Moscow:20260220T104500
DURATION:PT1H30M
LOCATION:3-404
RRULE:FREQ=DAILY;INTERVAL=28;COUNT=3
SEQUENCE:0
SUMMARY:[ЛК 1п.]Теоретическая механика (217БВ\,21
 6БВ)
UID:ba122134-debc-4527-a749-c798050bd705
END:VEVENT
BEGIN:VEVENT
ATTENDEE;CN=М3О-217БВ-24:https://public.mai.ru/schedule/data/bbd1e4ca7d
 f746e4d762ee99972d95ea.json
ATTENDEE;CN=М3О-216БВ-24:https://public.mai.ru/schedule/data/2a3b923ede
 87c952e4a45cc56ea746d7.json
DESCRIPTION:Группы: М3О-217БВ-24\,М3О-216БВ-24
DTSTAMP:20260422T085446Z
DTSTART;TZID=Europe/Moscow:20260417T104500
DURATION:PT1H30M
LOCATION:3-404
RRULE:FREQ=DAILY;INTERVAL=28;COUNT=3
SEQUENCE:0
SUMMARY:[ЛК 1п.]Теоретическая механика (217БВ\,21
 6БВ)
UID:59e6cd15-5d25-48be-bbd9-0bf9a463e6b1
END:VEVENT
BEGIN:VEVENT
ATTENDEE;CN=Т11О-203БВ-24:https://public.mai.ru/schedule/data/ea459237c
 ce1e4530cb3a47d05228578.json
DESCRIPTION:Группы: Т11О-203БВ-24
DTSTAMP:20260422T085446Z
DTSTART;TZID=Europe/Moscow:20260221T090000
DURATION:PT7H15M
LOCATION:3-415
RRULE:FREQ=DAILY;INTERVAL=14;COUNT=6
SEQUENCE:0
SUMMARY:[ЛК\,ПЗ 4п.]Теория функций комплексног
 о переменного (203БВ)
UID:9b53e215-ded9-4471-9627-84eaa789d6f2
END:VEVENT
BEGIN:VEVENT
ATTENDEE;CN=М1В-202БВк-24:https://public.mai.ru/schedule/data/2972ae06
 c12ca62fcf4b6a542d33c8cf.json
DESCRIPTION:Группы: М1В-202БВк-24
DTSTAMP:20260422T085446Z
DTSTART;TZID=Europe/Moscow:20260619T163000
DURATION:PT3H15M
LOCATION:ГУК Б-729
RRULE:FREQ=DAILY;INTERVAL=0;COUNT=1
SEQUENCE:0
SUMMARY:[Экзамен 2п.]Теоретическая механика (2
 02БВк)
UID:2370c180-340e-48e4-92a0-b6dda66e7b74
END:VEVENT
END:VCALENDAR
