﻿BEGIN:VCALENDAR
CALSCALE:GREGORIAN
METHOD:PUBLISH
PRODID:-//MAI-dep406//MAI Dep406 1.01//RU
VERSION:2.0
X-WR-TIMEZONE:Europe/Moscow
BEGIN:VTIMEZONE
TZID:Europe/Moscow
X-LIC-LOCATION:Europe/Moscow
BEGIN:STANDARD
DTSTART;VALUE=DATE:19700101
TZNAME:GMT+3
TZOFFSETTO:+0300
END:STANDARD
END:VTIMEZONE
BEGIN:VEVENT
ATTENDEE;CN=М3О-206БВ-24:https://public.mai.ru/schedule/data/d6a5089020
 5bbb718f50a8c6966fda25.json
DESCRIPTION:Группы: М3О-206БВ-24
DTSTAMP:20260420T054524Z
DTSTART;TZID=Europe/Moscow:20260214T104500
DURATION:PT1H30M
LOCATION:57Г-302
RRULE:FREQ=DAILY;INTERVAL=105;COUNT=3
SEQUENCE:0
SUMMARY:[ЛК 1п.]Техническая электроника (206БВ)
UID:7c8c07fc-3846-47fa-a71c-761d46884f77
END:VEVENT
BEGIN:VEVENT
ATTENDEE;CN=М3О-206БВ-24:https://public.mai.ru/schedule/data/d6a5089020
 5bbb718f50a8c6966fda25.json
DESCRIPTION:Группы: М3О-206БВ-24
DTSTAMP:20260420T054524Z
DTSTART;TZID=Europe/Moscow:20260221T090000
DURATION:PT3H15M
LOCATION:57Г-302
RRULE:FREQ=DAILY;INTERVAL=7;COUNT=12
SEQUENCE:0
SUMMARY:[ПЗ\,ЛК 2п.]Техническая электроника (206
 БВ)
UID:d3538ca5-6bd4-4b88-b13c-303560614c73
END:VEVENT
BEGIN:VEVENT
ATTENDEE;CN=М3О-206БВ-24:https://public.mai.ru/schedule/data/d6a5089020
 5bbb718f50a8c6966fda25.json
DESCRIPTION:Группы: М3О-206БВ-24
DTSTAMP:20260420T054524Z
DTSTART;TZID=Europe/Moscow:20260523T090000
DURATION:PT3H15M
LOCATION:57Г-302
RRULE:FREQ=DAILY;INTERVAL=7;COUNT=2
SEQUENCE:0
SUMMARY:[ПЗ\,ЛК 2п.]Техническая электроника (206
 БВ)
UID:ecf75aeb-a2d6-419d-aad8-d2e32e122bfd
END:VEVENT
END:VCALENDAR
