﻿BEGIN:VCALENDAR
CALSCALE:GREGORIAN
METHOD:PUBLISH
PRODID:-//MAI-dep406//MAI Dep406 1.01//RU
VERSION:2.0
X-WR-TIMEZONE:Europe/Moscow
BEGIN:VTIMEZONE
TZID:Europe/Moscow
X-LIC-LOCATION:Europe/Moscow
BEGIN:STANDARD
DTSTART;VALUE=DATE:19700101
TZNAME:GMT+3
TZOFFSETTO:+0300
END:STANDARD
END:VTIMEZONE
BEGIN:VEVENT
ATTENDEE;CN=М1О-115СВ-25:https://public.mai.ru/schedule/data/bbb253fb9a
 62a5e83210964815a0f246.json
DESCRIPTION:Группы: М1О-115СВ-25
DTSTAMP:20260420T055456Z
DTSTART;TZID=Europe/Moscow:20260209T181500
DURATION:PT3H15M
LOCATION:7-326
RRULE:FREQ=DAILY;INTERVAL=7;COUNT=3
SEQUENCE:0
SUMMARY:[ЛР 2п.]Информационная поддержка жизн
 енного цикла изделия (115СВ)
UID:1b93da56-458f-4f0f-bf37-cfd31ed430e8
END:VEVENT
BEGIN:VEVENT
ATTENDEE;CN=М1О-115СВ-25:https://public.mai.ru/schedule/data/bbb253fb9a
 62a5e83210964815a0f246.json
DESCRIPTION:Группы: М1О-115СВ-25
DTSTAMP:20260420T055456Z
DTSTART;TZID=Europe/Moscow:20260316T181500
DURATION:PT3H15M
LOCATION:7-326
RRULE:FREQ=DAILY;INTERVAL=7;COUNT=5
SEQUENCE:0
SUMMARY:[ЛР 2п.]Информационная поддержка жизн
 енного цикла изделия (115СВ)
UID:be07a934-0fe6-4867-b7dc-b0dd5ea57b03
END:VEVENT
BEGIN:VEVENT
ATTENDEE;CN=М1О-115СВ-25:https://public.mai.ru/schedule/data/bbb253fb9a
 62a5e83210964815a0f246.json
DESCRIPTION:Группы: М1О-115СВ-25
DTSTAMP:20260420T055456Z
DTSTART;TZID=Europe/Moscow:20260504T181500
DURATION:PT3H15M
LOCATION:7-326
RRULE:FREQ=DAILY;INTERVAL=7;COUNT=2
SEQUENCE:0
SUMMARY:[ЛР 2п.]Информационная поддержка жизн
 енного цикла изделия (115СВ)
UID:daa076a2-3525-4380-a066-9a67e72494f1
END:VEVENT
BEGIN:VEVENT
ATTENDEE;CN=М1О-115СВ-25:https://public.mai.ru/schedule/data/bbb253fb9a
 62a5e83210964815a0f246.json
DESCRIPTION:Группы: М1О-115СВ-25
DTSTAMP:20260420T055456Z
DTSTART;TZID=Europe/Moscow:20260601T181500
DURATION:PT3H15M
LOCATION:7-326
RRULE:FREQ=DAILY;INTERVAL=7;COUNT=1
SEQUENCE:0
SUMMARY:[ЛР 2п.]Информационная поддержка жизн
 енного цикла изделия (115СВ)
UID:18795b33-56ec-40b6-9961-0e67b5097c6f
END:VEVENT
BEGIN:VEVENT
ATTENDEE;CN=М1О-506С-21:https://public.mai.ru/schedule/data/aeb9b6d64095
 28d3c8a892ed03aff2f8.json
DESCRIPTION:Группы: М1О-506С-21
DTSTAMP:20260420T055456Z
DTSTART;TZID=Europe/Moscow:20260211T090000
DURATION:PT1H30M
LOCATION:7-324
RRULE:FREQ=DAILY;INTERVAL=0;COUNT=1
SEQUENCE:0
SUMMARY:[ЛК 1п.]Информационная поддержка жизн
 енного цикла изделия (506С)
UID:1b78e271-9121-4200-ab44-443453410b88
END:VEVENT
END:VCALENDAR
