﻿BEGIN:VCALENDAR
CALSCALE:GREGORIAN
METHOD:PUBLISH
PRODID:-//MAI-dep406//MAI Dep406 1.01//RU
VERSION:2.0
X-WR-TIMEZONE:Europe/Moscow
BEGIN:VTIMEZONE
TZID:Europe/Moscow
X-LIC-LOCATION:Europe/Moscow
BEGIN:STANDARD
DTSTART;VALUE=DATE:19700101
TZNAME:GMT+3
TZOFFSETTO:+0300
END:STANDARD
END:VTIMEZONE
BEGIN:VEVENT
ATTENDEE;CN=М6О-420С-22:https://public.mai.ru/schedule/data/9386bd38fb0b
 055232ab7f99429fac57.json
DESCRIPTION:Группы: М6О-420С-22
DTSTAMP:20260419T194148Z
DTSTART;TZID=Europe/Moscow:20260619T104500
DURATION:PT3H45M
LOCATION:--каф.914
RRULE:FREQ=DAILY;INTERVAL=0;COUNT=1
SEQUENCE:0
SUMMARY:[Экзамен 2п.]Проектирование конструк
 ций антенн (420С)
UID:8c584743-4ba2-4c70-a092-324218cd3f7c
END:VEVENT
END:VCALENDAR
