﻿BEGIN:VCALENDAR
CALSCALE:GREGORIAN
METHOD:PUBLISH
PRODID:-//MAI-dep406//MAI Dep406 1.01//RU
VERSION:2.0
X-WR-TIMEZONE:Europe/Moscow
BEGIN:VTIMEZONE
TZID:Europe/Moscow
X-LIC-LOCATION:Europe/Moscow
BEGIN:STANDARD
DTSTART;VALUE=DATE:19700101
TZNAME:GMT+3
TZOFFSETTO:+0300
END:STANDARD
END:VTIMEZONE
BEGIN:VEVENT
ATTENDEE;CN=М6О-104СВ-25:https://public.mai.ru/schedule/data/fe308d5088
 f3d87ebc160be4784b8759.json
DESCRIPTION:Группы: М6О-104СВ-25
DTSTAMP:20260421T101548Z
DTSTART;TZID=Europe/Moscow:20260213T181500
DURATION:PT3H15M
LOCATION:24-502
RRULE:FREQ=DAILY;INTERVAL=14;COUNT=3
SEQUENCE:0
SUMMARY:[ЛК 2п.]Механика композиционных матер
 иалов и конструкций (104СВ)
UID:4f88e230-e9d6-4e9e-a417-4dab564316ec
END:VEVENT
BEGIN:VEVENT
ATTENDEE;CN=М6О-104СВ-25:https://public.mai.ru/schedule/data/fe308d5088
 f3d87ebc160be4784b8759.json
DESCRIPTION:Группы: М6О-104СВ-25
DTSTAMP:20260421T101548Z
DTSTART;TZID=Europe/Moscow:20260313T181500
DURATION:PT3H15M
LOCATION:24-502
RRULE:FREQ=DAILY;INTERVAL=14;COUNT=2
SEQUENCE:0
SUMMARY:[ЛК 2п.]Механика композиционных матер
 иалов и конструкций (104СВ)
UID:88ba0d50-336f-4398-92b6-958026056f59
END:VEVENT
BEGIN:VEVENT
ATTENDEE;CN=М6О-104СВ-25:https://public.mai.ru/schedule/data/fe308d5088
 f3d87ebc160be4784b8759.json
DESCRIPTION:Группы: М6О-104СВ-25
DTSTAMP:20260421T101548Z
DTSTART;TZID=Europe/Moscow:20260327T181500
DURATION:PT3H15M
LOCATION:24-502
RRULE:FREQ=DAILY;INTERVAL=14;COUNT=2
SEQUENCE:0
SUMMARY:[ЛК 2п.]Механика композиционных матер
 иалов и конструкций (104СВ)
UID:d1e59232-8bcd-4212-873c-1473168db82f
END:VEVENT
BEGIN:VEVENT
ATTENDEE;CN=М6О-104СВ-25:https://public.mai.ru/schedule/data/fe308d5088
 f3d87ebc160be4784b8759.json
DESCRIPTION:Группы: М6О-104СВ-25
DTSTAMP:20260421T101548Z
DTSTART;TZID=Europe/Moscow:20260410T181500
DURATION:PT3H15M
LOCATION:24-502
RRULE:FREQ=DAILY;INTERVAL=14;COUNT=2
SEQUENCE:0
SUMMARY:[ЛК 2п.]Механика композиционных матер
 иалов и конструкций (104СВ)
UID:b0ded576-5ea9-4ebb-a68a-9e8d20333d47
END:VEVENT
BEGIN:VEVENT
ATTENDEE;CN=М6О-104СВ-25:https://public.mai.ru/schedule/data/fe308d5088
 f3d87ebc160be4784b8759.json
DESCRIPTION:Группы: М6О-104СВ-25
DTSTAMP:20260421T101548Z
DTSTART;TZID=Europe/Moscow:20260424T181500
DURATION:PT3H15M
LOCATION:24-502
RRULE:FREQ=DAILY;INTERVAL=14;COUNT=2
SEQUENCE:0
SUMMARY:[ЛК 2п.]Механика композиционных матер
 иалов и конструкций (104СВ)
UID:81402c36-6c87-4157-80a0-64ed85a7f09f
END:VEVENT
BEGIN:VEVENT
ATTENDEE;CN=М6О-104СВ-25:https://public.mai.ru/schedule/data/fe308d5088
 f3d87ebc160be4784b8759.json
DESCRIPTION:Группы: М6О-104СВ-25
DTSTAMP:20260421T101548Z
DTSTART;TZID=Europe/Moscow:20260605T181500
DURATION:PT3H15M
LOCATION:24-502
RRULE:FREQ=DAILY;INTERVAL=14;COUNT=1
SEQUENCE:0
SUMMARY:[ЛК 2п.]Механика композиционных матер
 иалов и конструкций (104СВ)
UID:43529596-4eca-4506-927c-a080be4301b5
END:VEVENT
END:VCALENDAR
