﻿BEGIN:VCALENDAR
CALSCALE:GREGORIAN
METHOD:PUBLISH
PRODID:-//MAI-dep406//MAI Dep406 1.01//RU
VERSION:2.0
X-WR-TIMEZONE:Europe/Moscow
BEGIN:VTIMEZONE
TZID:Europe/Moscow
X-LIC-LOCATION:Europe/Moscow
BEGIN:STANDARD
DTSTART;VALUE=DATE:19700101
TZNAME:GMT+3
TZOFFSETTO:+0300
END:STANDARD
END:VTIMEZONE
BEGIN:VEVENT
ATTENDEE;CN=М2О-406Б-22:https://public.mai.ru/schedule/data/a98183f15e4a
 97cf4961d240f02fd63d.json
DESCRIPTION:Группы: М2О-406Б-22
DTSTAMP:20260421T174811Z
DTSTART;TZID=Europe/Moscow:20260211T144500
DURATION:PT3H15M
LOCATION:2-203(2В)
RRULE:FREQ=DAILY;INTERVAL=7;COUNT=2
SEQUENCE:0
SUMMARY:[ЛК 2п.]Основы акустики и виброакусти
 ки (406Б)
UID:8fd0aaec-d2aa-44b6-9e39-03dde59c537b
END:VEVENT
BEGIN:VEVENT
ATTENDEE;CN=М2О-106СВ-25:https://public.mai.ru/schedule/data/2efb0b1b32
 0711c6b8c0f706586f5963.json
DESCRIPTION:Группы: М2О-106СВ-25
DTSTAMP:20260421T174811Z
DTSTART;TZID=Europe/Moscow:20260217T181500
DURATION:PT3H15M
LOCATION:2-203(2В)
RRULE:FREQ=DAILY;INTERVAL=14;COUNT=8
SEQUENCE:0
SUMMARY:[ЛК 2п.]Прикладная гидрогазодинамика 
 (106СВ)
UID:24acb2d8-d618-4fc9-9ba5-3bfdbb7753e3
END:VEVENT
BEGIN:VEVENT
ATTENDEE;CN=М2О-406Б-22:https://public.mai.ru/schedule/data/a98183f15e4a
 97cf4961d240f02fd63d.json
DESCRIPTION:Группы: М2О-406Б-22
DTSTAMP:20260421T174811Z
DTSTART;TZID=Europe/Moscow:20260224T130000
DURATION:PT3H15M
LOCATION:2-203(2В)
RRULE:FREQ=DAILY;INTERVAL=7;COUNT=3
SEQUENCE:0
SUMMARY:[ЛК\,ПЗ 2п.]Основы акустики и виброаку
 стики (406Б)
UID:4d92c18d-f3c4-4c70-84c7-437166dbd15e
END:VEVENT
BEGIN:VEVENT
ATTENDEE;CN=М2О-406Б-22:https://public.mai.ru/schedule/data/a98183f15e4a
 97cf4961d240f02fd63d.json
DESCRIPTION:Группы: М2О-406Б-22
DTSTAMP:20260421T174811Z
DTSTART;TZID=Europe/Moscow:20260324T130000
DURATION:PT3H15M
LOCATION:2-203(2В)
RRULE:FREQ=DAILY;INTERVAL=7;COUNT=8
SEQUENCE:0
SUMMARY:[ЛК\,ПЗ 2п.]Основы акустики и виброаку
 стики (406Б)
UID:e2889a12-1604-4159-9eda-f740061f126e
END:VEVENT
BEGIN:VEVENT
ATTENDEE;CN=М2О-206СВ-24:https://public.mai.ru/schedule/data/1c1a6a1a04
 995a9ba82482be94e39933.json
DESCRIPTION:Группы: М2О-206СВ-24
DTSTAMP:20260421T174811Z
DTSTART;TZID=Europe/Moscow:20260225T163000
DURATION:PT5H
LOCATION:2-203(2В)
RRULE:FREQ=DAILY;INTERVAL=7;COUNT=11
SEQUENCE:0
SUMMARY:[ЛК\,ПЗ 3п.]Акустика авиационной и рак
 етно-космической техники (206СВ)
UID:20b371ef-2494-41e6-b323-883de552e830
END:VEVENT
BEGIN:VEVENT
ATTENDEE;CN=М2О-106СВ-25:https://public.mai.ru/schedule/data/2efb0b1b32
 0711c6b8c0f706586f5963.json
DESCRIPTION:Группы: М2О-106СВ-25
DTSTAMP:20260421T174811Z
DTSTART;TZID=Europe/Moscow:20260226T181500
DURATION:PT3H15M
LOCATION:2-203(2В)
RRULE:FREQ=DAILY;INTERVAL=14;COUNT=8
SEQUENCE:0
SUMMARY:[ПЗ 2п.]Прикладная гидрогазодинамика 
 (106СВ)
UID:e603c898-a614-4f76-89e4-90a8ced47dc8
END:VEVENT
BEGIN:VEVENT
ATTENDEE;CN=М2О-106СВ-25:https://public.mai.ru/schedule/data/2efb0b1b32
 0711c6b8c0f706586f5963.json
DESCRIPTION:Группы: М2О-106СВ-25
DTSTAMP:20260421T174811Z
DTSTART;TZID=Europe/Moscow:20260623T163000
DURATION:PT3H15M
LOCATION:2-203(2В)
RRULE:FREQ=DAILY;INTERVAL=0;COUNT=1
SEQUENCE:0
SUMMARY:[Экзамен 2п.]Прикладная гидрогазодин
 амика (106СВ)
UID:10b05f8f-fb9e-45aa-b938-b0f0c727031b
END:VEVENT
END:VCALENDAR
