﻿BEGIN:VCALENDAR
CALSCALE:GREGORIAN
METHOD:PUBLISH
PRODID:-//MAI-dep406//MAI Dep406 1.01//RU
VERSION:2.0
X-WR-TIMEZONE:Europe/Moscow
BEGIN:VTIMEZONE
TZID:Europe/Moscow
X-LIC-LOCATION:Europe/Moscow
BEGIN:STANDARD
DTSTART;VALUE=DATE:19700101
TZNAME:GMT+3
TZOFFSETTO:+0300
END:STANDARD
END:VTIMEZONE
BEGIN:VEVENT
ATTENDEE;CN=М3О-305Б-23:https://public.mai.ru/schedule/data/94c56bd55b9f
 a16b516e7bdd9f2d47a9.json
DESCRIPTION:Группы: М3О-305Б-23
DTSTAMP:20260420T020931Z
DTSTART;TZID=Europe/Moscow:20260209T144500
DURATION:PT1H30M
LOCATION:57Г-303
RRULE:FREQ=DAILY;INTERVAL=0;COUNT=1
SEQUENCE:0
SUMMARY:[ЛК 1п.]Источники вторичного электроп
 итания (305Б)
UID:fee1676c-2a6b-4a52-93f0-ac738fe53a2e
END:VEVENT
BEGIN:VEVENT
ATTENDEE;CN=М3О-305Б-23:https://public.mai.ru/schedule/data/94c56bd55b9f
 a16b516e7bdd9f2d47a9.json
DESCRIPTION:Группы: М3О-305Б-23
DTSTAMP:20260420T020931Z
DTSTART;TZID=Europe/Moscow:20260216T130000
DURATION:PT3H15M
LOCATION:57Г-303
RRULE:FREQ=DAILY;INTERVAL=14;COUNT=4
SEQUENCE:0
SUMMARY:[ЛК 2п.]Источники вторичного электроп
 итания (305Б)
UID:a4cd110d-0128-4a4a-b77d-4b42f5d1ad39
END:VEVENT
BEGIN:VEVENT
ATTENDEE;CN=М3О-305Б-23:https://public.mai.ru/schedule/data/94c56bd55b9f
 a16b516e7bdd9f2d47a9.json
DESCRIPTION:Группы: М3О-305Б-23
DTSTAMP:20260420T020931Z
DTSTART;TZID=Europe/Moscow:20260330T130000
DURATION:PT3H15M
LOCATION:57Г-303
RRULE:FREQ=DAILY;INTERVAL=14;COUNT=2
SEQUENCE:0
SUMMARY:[ЛК 2п.]Источники вторичного электроп
 итания (305Б)
UID:c5e76246-6c03-4e7a-aeab-82113e9b0795
END:VEVENT
BEGIN:VEVENT
ATTENDEE;CN=М3О-305Б-23:https://public.mai.ru/schedule/data/94c56bd55b9f
 a16b516e7bdd9f2d47a9.json
DESCRIPTION:Группы: М3О-305Б-23
DTSTAMP:20260420T020931Z
DTSTART;TZID=Europe/Moscow:20260413T130000
DURATION:PT3H15M
LOCATION:57Г-303
RRULE:FREQ=DAILY;INTERVAL=14;COUNT=2
SEQUENCE:0
SUMMARY:[ЛК 2п.]Источники вторичного электроп
 итания (305Б)
UID:244bf209-7819-4cf9-b149-9adad7300382
END:VEVENT
BEGIN:VEVENT
ATTENDEE;CN=М3О-305Б-23:https://public.mai.ru/schedule/data/94c56bd55b9f
 a16b516e7bdd9f2d47a9.json
DESCRIPTION:Группы: М3О-305Б-23
DTSTAMP:20260420T020931Z
DTSTART;TZID=Europe/Moscow:20260427T130000
DURATION:PT3H15M
LOCATION:57Г-303
RRULE:FREQ=DAILY;INTERVAL=14;COUNT=2
SEQUENCE:0
SUMMARY:[ЛР 2п.]Источники вторичного электроп
 итания (305Б)
UID:d5f096a0-81d4-4846-af24-160376ab6b56
END:VEVENT
BEGIN:VEVENT
ATTENDEE;CN=М3О-305Б-23:https://public.mai.ru/schedule/data/94c56bd55b9f
 a16b516e7bdd9f2d47a9.json
DESCRIPTION:Группы: М3О-305Б-23
DTSTAMP:20260420T020931Z
DTSTART;TZID=Europe/Moscow:20260511T130000
DURATION:PT3H15M
LOCATION:57Г-303
RRULE:FREQ=DAILY;INTERVAL=14;COUNT=2
SEQUENCE:0
SUMMARY:[ЛР 2п.]Источники вторичного электроп
 итания (305Б)
UID:c375b3e0-804c-4f92-8873-d4463c0200a9
END:VEVENT
BEGIN:VEVENT
ATTENDEE;CN=М3О-305Б-23:https://public.mai.ru/schedule/data/94c56bd55b9f
 a16b516e7bdd9f2d47a9.json
DESCRIPTION:Группы: М3О-305Б-23
DTSTAMP:20260420T020931Z
DTSTART;TZID=Europe/Moscow:20260616T090000
DURATION:PT3H15M
LOCATION:57Г-302
RRULE:FREQ=DAILY;INTERVAL=0;COUNT=1
SEQUENCE:0
SUMMARY:[Экзамен 2п.]Источники вторичного эле
 ктропитания (305Б)
UID:846f298f-ded9-4096-8105-9962bb9c33b9
END:VEVENT
END:VCALENDAR
