﻿BEGIN:VCALENDAR
CALSCALE:GREGORIAN
METHOD:PUBLISH
PRODID:-//MAI-dep406//MAI Dep406 1.01//RU
VERSION:2.0
X-WR-TIMEZONE:Europe/Moscow
BEGIN:VTIMEZONE
TZID:Europe/Moscow
X-LIC-LOCATION:Europe/Moscow
BEGIN:STANDARD
DTSTART;VALUE=DATE:19700101
TZNAME:GMT+3
TZOFFSETTO:+0300
END:STANDARD
END:VTIMEZONE
BEGIN:VEVENT
ATTENDEE;CN=М2О-307БВ-23:https://public.mai.ru/schedule/data/4cb38f8bc3
 780ab83ce509674b5fe7c8.json
DESCRIPTION:Группы: М2О-307БВ-23
DTSTAMP:20260420T185206Z
DTSTART;TZID=Europe/Moscow:20260209T163000
DURATION:PT3H15M
LOCATION:2-201(2В)
RRULE:FREQ=DAILY;INTERVAL=7;COUNT=3
SEQUENCE:0
SUMMARY:[ПЗ 2п.]Основы CAE технологий. Тепловые 
 и газодинамические расчеты (307БВ)
UID:2fb5cefb-a63a-4d02-859e-1d1a194fb1e1
END:VEVENT
BEGIN:VEVENT
ATTENDEE;CN=М2О-307БВ-23:https://public.mai.ru/schedule/data/4cb38f8bc3
 780ab83ce509674b5fe7c8.json
DESCRIPTION:Группы: М2О-307БВ-23
DTSTAMP:20260420T185206Z
DTSTART;TZID=Europe/Moscow:20260316T163000
DURATION:PT1H30M
LOCATION:2-101(2В)
RRULE:FREQ=DAILY;INTERVAL=7;COUNT=12
SEQUENCE:0
SUMMARY:[ПЗ 1п.]Основы CAE технологий. Тепловые 
 и газодинамические расчеты (307БВ)
UID:4fd3ecae-b313-4c3d-aa98-35ef71f1ecbd
END:VEVENT
BEGIN:VEVENT
ATTENDEE;CN=М2О-303БВ-23:https://public.mai.ru/schedule/data/ce2aebd86a
 2a90ef778431425c300a74.json
DESCRIPTION:Группы: М2О-303БВ-23
DTSTAMP:20260420T185206Z
DTSTART;TZID=Europe/Moscow:20260228T090000
DURATION:PT3H15M
LOCATION:2-101(2В)
RRULE:FREQ=DAILY;INTERVAL=7;COUNT=10
SEQUENCE:0
SUMMARY:[ПЗ 2п.]Основы CAE технологий. Тепловые 
 и газодинамические расчеты (303БВ)
UID:7af13e71-eab9-428e-be00-0493785ae994
END:VEVENT
BEGIN:VEVENT
ATTENDEE;CN=М2О-303БВ-23:https://public.mai.ru/schedule/data/ce2aebd86a
 2a90ef778431425c300a74.json
DESCRIPTION:Группы: М2О-303БВ-23
DTSTAMP:20260420T185206Z
DTSTART;TZID=Europe/Moscow:20260606T090000
DURATION:PT3H15M
LOCATION:2-101(2В)
RRULE:FREQ=DAILY;INTERVAL=7;COUNT=1
SEQUENCE:0
SUMMARY:[ПЗ 2п.]Основы CAE технологий. Тепловые 
 и газодинамические расчеты (303БВ)
UID:d22ea651-9c2d-41ae-9f33-5b36be936842
END:VEVENT
END:VCALENDAR
