﻿BEGIN:VCALENDAR
CALSCALE:GREGORIAN
METHOD:PUBLISH
PRODID:-//MAI-dep406//MAI Dep406 1.01//RU
VERSION:2.0
X-WR-TIMEZONE:Europe/Moscow
BEGIN:VTIMEZONE
TZID:Europe/Moscow
X-LIC-LOCATION:Europe/Moscow
BEGIN:STANDARD
DTSTART;VALUE=DATE:19700101
TZNAME:GMT+3
TZOFFSETTO:+0300
END:STANDARD
END:VTIMEZONE
BEGIN:VEVENT
ATTENDEE;CN=М1О-319Бки-23:https://public.mai.ru/schedule/data/2c796335
 e5878208d58caec0f0f41039.json
DESCRIPTION:Группы: М1О-319Бки-23
DTSTAMP:20260420T101710Z
DTSTART;TZID=Europe/Moscow:20260209T130000
DURATION:PT3H15M
LOCATION:ГУК Б-342
RRULE:FREQ=DAILY;INTERVAL=42;COUNT=3
SEQUENCE:0
SUMMARY:[ЛР 2п.]Лабораторный практикум по дин
 амике и управлению полетом (319Бки)
UID:f263feec-e45b-4490-8f10-6813742259de
END:VEVENT
BEGIN:VEVENT
ATTENDEE;CN=М1О-319Бки-23:https://public.mai.ru/schedule/data/2c796335
 e5878208d58caec0f0f41039.json
DESCRIPTION:Группы: М1О-319Бки-23
DTSTAMP:20260420T101710Z
DTSTART;TZID=Europe/Moscow:20260420T130000
DURATION:PT3H15M
LOCATION:ГУК Б-342
RRULE:FREQ=DAILY;INTERVAL=42;COUNT=2
SEQUENCE:0
SUMMARY:[ЛР 2п.]Лабораторный практикум по дин
 амике и управлению полетом (319Бки)
UID:0d30fcd6-ff76-4564-a34a-7d0dcb8764df
END:VEVENT
BEGIN:VEVENT
ATTENDEE;CN=М1О-319Бки-23:https://public.mai.ru/schedule/data/2c796335
 e5878208d58caec0f0f41039.json
DESCRIPTION:Группы: М1О-319Бки-23
DTSTAMP:20260420T101710Z
DTSTART;TZID=Europe/Moscow:20260518T130000
DURATION:PT3H15M
LOCATION:ГУК Б-342
RRULE:FREQ=DAILY;INTERVAL=42;COUNT=2
SEQUENCE:0
SUMMARY:[ЛР 2п.]Лабораторный практикум по дин
 амике и управлению полетом (319Бки)
UID:81c8d3c0-dcc0-440d-a5a0-815c71f476d3
END:VEVENT
BEGIN:VEVENT
ATTENDEE;CN=МУО-401С-22:https://public.mai.ru/schedule/data/0236a4f158c
 864c5fde010153d428b6d.json
DESCRIPTION:Группы: МУО-401С-22
DTSTAMP:20260420T101710Z
DTSTART;TZID=Europe/Moscow:20260209T163000
DURATION:PT3H15M
LOCATION:ГУК Б-342
RRULE:FREQ=DAILY;INTERVAL=42;COUNT=3
SEQUENCE:0
SUMMARY:[ЛР 2п.]Лабораторный практикум по дин
 амике и управлению полетом (401С)
UID:c522c3eb-2e05-465a-972e-c7898546bc1e
END:VEVENT
BEGIN:VEVENT
ATTENDEE;CN=МУО-401С-22:https://public.mai.ru/schedule/data/0236a4f158c
 864c5fde010153d428b6d.json
DESCRIPTION:Группы: МУО-401С-22
DTSTAMP:20260420T101710Z
DTSTART;TZID=Europe/Moscow:20260420T163000
DURATION:PT3H15M
LOCATION:ГУК Б-342
RRULE:FREQ=DAILY;INTERVAL=42;COUNT=2
SEQUENCE:0
SUMMARY:[ЛР 2п.]Лабораторный практикум по дин
 амике и управлению полетом (401С)
UID:55a7263f-a79b-432e-bfd7-e74b0c55bf20
END:VEVENT
BEGIN:VEVENT
ATTENDEE;CN=МУО-401С-22:https://public.mai.ru/schedule/data/0236a4f158c
 864c5fde010153d428b6d.json
DESCRIPTION:Группы: МУО-401С-22
DTSTAMP:20260420T101710Z
DTSTART;TZID=Europe/Moscow:20260518T163000
DURATION:PT3H15M
LOCATION:ГУК Б-342
RRULE:FREQ=DAILY;INTERVAL=42;COUNT=2
SEQUENCE:0
SUMMARY:[ЛР 2п.]Лабораторный практикум по дин
 амике и управлению полетом (401С)
UID:b38876a1-1dfa-4399-81e3-425856b07d4b
END:VEVENT
BEGIN:VEVENT
ATTENDEE;CN=М1О-407С-22:https://public.mai.ru/schedule/data/994f1aeb8b34
 e2ce7dfb7d77a60ce129.json
DESCRIPTION:Группы: М1О-407С-22
DTSTAMP:20260420T101710Z
DTSTART;TZID=Europe/Moscow:20260210T130000
DURATION:PT3H15M
LOCATION:ГУК Б-342
RRULE:FREQ=DAILY;INTERVAL=7;COUNT=16
SEQUENCE:0
SUMMARY:[ЛР 2п.]Лабораторный практикум по дин
 амике и управлению полетом (407С)
UID:83666e6e-5d16-4dff-beb0-7849949f3339
END:VEVENT
BEGIN:VEVENT
ATTENDEE;CN=М1О-114БВ-25:https://public.mai.ru/schedule/data/fa9cae3d1e
 0c86dac1188797187c95f5.json
DESCRIPTION:Группы: М1О-114БВ-25
DTSTAMP:20260420T101710Z
DTSTART;TZID=Europe/Moscow:20260211T090000
DURATION:PT3H15M
LOCATION:7-409
RRULE:FREQ=DAILY;INTERVAL=7;COUNT=12
SEQUENCE:0
SUMMARY:[ЛК 2п.]Дополнительные главы алгоритм
 ических языков и программирования (114БВ)
UID:e1120a87-02af-491d-8bd5-fdba43a72d41
END:VEVENT
BEGIN:VEVENT
ATTENDEE;CN=М1О-405С-22:https://public.mai.ru/schedule/data/58b8cc2fe884
 05b3a45d64d393bf36bf.json
DESCRIPTION:Группы: М1О-405С-22
DTSTAMP:20260420T101710Z
DTSTART;TZID=Europe/Moscow:20260213T163000
DURATION:PT3H15M
LOCATION:ГУК Б-342
RRULE:FREQ=DAILY;INTERVAL=14;COUNT=7
SEQUENCE:0
SUMMARY:[ЛР 2п.]Лабораторный практикум по дин
 амике и управлению полетом (405С)
UID:38243ae8-34b7-4f97-87de-263718b8b512
END:VEVENT
BEGIN:VEVENT
ATTENDEE;CN=М7О-411С-22:https://public.mai.ru/schedule/data/58efc62cf259
 497391bfd1263e61d0d8.json
DESCRIPTION:Группы: М7О-411С-22
DTSTAMP:20260420T101710Z
DTSTART;TZID=Europe/Moscow:20260216T104500
DURATION:PT3H45M
LOCATION:ГУК Б-342
RRULE:FREQ=DAILY;INTERVAL=14;COUNT=8
SEQUENCE:0
SUMMARY:[ЛР 2п.]Лабораторный практикум по дин
 амике и управлению полетом (411С)
UID:1e20b70d-a365-4c6d-acb0-363151cefb80
END:VEVENT
BEGIN:VEVENT
ATTENDEE;CN=М14О-301БВ-23:https://public.mai.ru/schedule/data/21a6537eb
 0c70b17f2ddf23fa9bff263.json
DESCRIPTION:Группы: М14О-301БВ-23
DTSTAMP:20260420T101710Z
DTSTART;TZID=Europe/Moscow:20260217T163000
DURATION:PT3H15M
LOCATION:ГУК Б-342
RRULE:FREQ=DAILY;INTERVAL=14;COUNT=8
SEQUENCE:0
SUMMARY:[ЛР 2п.]Лабораторный практикум по дин
 амике и управлению полетом (301БВ)
UID:ac10e922-2751-4344-b5cc-127b772d2dc8
END:VEVENT
BEGIN:VEVENT
ATTENDEE;CN=М1О-403С-22:https://public.mai.ru/schedule/data/f134c377f52c
 afa0c13ca428a48de479.json
DESCRIPTION:Группы: М1О-403С-22
DTSTAMP:20260420T101710Z
DTSTART;TZID=Europe/Moscow:20260220T090000
DURATION:PT3H15M
LOCATION:ГУК Б-342
RRULE:FREQ=DAILY;INTERVAL=14;COUNT=6
SEQUENCE:0
SUMMARY:[ЛР 2п.]Лабораторный практикум по дин
 амике и управлению полетом (403С)
UID:1a80f15e-70ce-4536-995f-a10e07313128
END:VEVENT
BEGIN:VEVENT
ATTENDEE;CN=М1О-403С-22:https://public.mai.ru/schedule/data/f134c377f52c
 afa0c13ca428a48de479.json
DESCRIPTION:Группы: М1О-403С-22
DTSTAMP:20260420T101710Z
DTSTART;TZID=Europe/Moscow:20260529T090000
DURATION:PT3H15M
LOCATION:ГУК Б-342
RRULE:FREQ=DAILY;INTERVAL=14;COUNT=1
SEQUENCE:0
SUMMARY:[ЛР 2п.]Лабораторный практикум по дин
 амике и управлению полетом (403С)
UID:fb1cff01-2989-4501-903b-51723cbf8168
END:VEVENT
BEGIN:VEVENT
ATTENDEE;CN=М1О-402С-22:https://public.mai.ru/schedule/data/5e60f20c2561
 a91691c2409cbc158d81.json
DESCRIPTION:Группы: М1О-402С-22
DTSTAMP:20260420T101710Z
DTSTART;TZID=Europe/Moscow:20260220T130000
DURATION:PT3H15M
LOCATION:ГУК Б-342
RRULE:FREQ=DAILY;INTERVAL=14;COUNT=6
SEQUENCE:0
SUMMARY:[ЛР 2п.]Лабораторный практикум по дин
 амике и управлению полетом (402С)
UID:acfe2a2c-704d-4bc1-a03b-1495a36dc412
END:VEVENT
BEGIN:VEVENT
ATTENDEE;CN=М1О-402С-22:https://public.mai.ru/schedule/data/5e60f20c2561
 a91691c2409cbc158d81.json
DESCRIPTION:Группы: М1О-402С-22
DTSTAMP:20260420T101710Z
DTSTART;TZID=Europe/Moscow:20260529T130000
DURATION:PT3H15M
LOCATION:ГУК Б-342
RRULE:FREQ=DAILY;INTERVAL=14;COUNT=1
SEQUENCE:0
SUMMARY:[ЛР 2п.]Лабораторный практикум по дин
 амике и управлению полетом (402С)
UID:d3577262-8b59-47fb-a88f-14351a997908
END:VEVENT
BEGIN:VEVENT
ATTENDEE;CN=М7О-212БВ-24:https://public.mai.ru/schedule/data/5d9d2b90a5
 7fdd9b67d7f1403b1fb9b4.json
DESCRIPTION:Группы: М7О-212БВ-24
DTSTAMP:20260420T101710Z
DTSTART;TZID=Europe/Moscow:20260413T163000
DURATION:PT3H15M
LOCATION:7-415
RRULE:FREQ=DAILY;INTERVAL=14;COUNT=4
SEQUENCE:0
SUMMARY:[ЛР 2п.]Аэродинамика и динамика полет
 а (212БВ)
UID:7dafa700-52e9-440e-97b2-79a3918c6ff3
END:VEVENT
BEGIN:VEVENT
ATTENDEE;CN=М7О-206БВ-24:https://public.mai.ru/schedule/data/2be628b1f1
 f6399f7cdd97ba936d76f1.json
DESCRIPTION:Группы: М7О-206БВ-24
DTSTAMP:20260420T101710Z
DTSTART;TZID=Europe/Moscow:20260425T090000
DURATION:PT7H15M
LOCATION:7-413\; 7-415
RRULE:FREQ=DAILY;INTERVAL=0;COUNT=1
SEQUENCE:0
SUMMARY:[ЛР 4п.]Аэродинамика и динамика полет
 а (206БВ)
UID:acb07c7e-3740-4d4f-ad43-3fb85ede1701
END:VEVENT
BEGIN:VEVENT
ATTENDEE;CN=М7О-206БВ-24:https://public.mai.ru/schedule/data/2be628b1f1
 f6399f7cdd97ba936d76f1.json
DESCRIPTION:Группы: М7О-206БВ-24
DTSTAMP:20260420T101710Z
DTSTART;TZID=Europe/Moscow:20260523T130000
DURATION:PT3H15M
LOCATION:7-415
RRULE:FREQ=DAILY;INTERVAL=14;COUNT=2
SEQUENCE:0
SUMMARY:[ЛР 2п.]Аэродинамика и динамика полет
 а (206БВ)
UID:47e9fc12-1cae-4080-a773-9b0f20fadcac
END:VEVENT
BEGIN:VEVENT
ATTENDEE;CN=М1О-319Бки-23:https://public.mai.ru/schedule/data/2c796335
 e5878208d58caec0f0f41039.json
ATTENDEE;CN=М7О-411С-22:https://public.mai.ru/schedule/data/58efc62cf259
 497391bfd1263e61d0d8.json
DESCRIPTION:Группы: М1О-319Бки-23\,М7О-411С-22
DTSTAMP:20260420T101710Z
DTSTART;TZID=Europe/Moscow:20260601T144500
DURATION:PT1H30M
LOCATION:ГУК Б-342\; 24-512
RRULE:FREQ=DAILY;INTERVAL=0;COUNT=1
SEQUENCE:0
SUMMARY:[ЛР\,ПЗ 1п.]Лабораторный практикум по 
 динамике и управлению полетом (319Бки\,411С)
UID:58095e11-c76b-4a89-b922-2414ab3af2ff
END:VEVENT
END:VCALENDAR
