﻿BEGIN:VCALENDAR
CALSCALE:GREGORIAN
METHOD:PUBLISH
PRODID:-//MAI-dep406//MAI Dep406 1.01//RU
VERSION:2.0
X-WR-TIMEZONE:Europe/Moscow
BEGIN:VTIMEZONE
TZID:Europe/Moscow
X-LIC-LOCATION:Europe/Moscow
BEGIN:STANDARD
DTSTART;VALUE=DATE:19700101
TZNAME:GMT+3
TZOFFSETTO:+0300
END:STANDARD
END:VTIMEZONE
BEGIN:VEVENT
ATTENDEE;CN=М6О-123БВ-25:https://public.mai.ru/schedule/data/7753dadcdd
 63dfd651e17975c4f12881.json
ATTENDEE;CN=М6О-126БВ-25:https://public.mai.ru/schedule/data/aebd329002
 8ca3747a8c94b36f91d2eb.json
ATTENDEE;CN=М6О-122БВ-25:https://public.mai.ru/schedule/data/7661181eef
 0694af0f047659f6487041.json
ATTENDEE;CN=М6О-107БВ-25:https://public.mai.ru/schedule/data/c37237c272
 d63cb15f489050c3bc8975.json
ATTENDEE;CN=М7О-113БВ-25:https://public.mai.ru/schedule/data/95abed69d9
 4e176e7ebbcc68688c254a.json
DESCRIPTION:Группы: М6О-123БВ-25\,М6О-126БВ-25\,М6О-122БВ
 -25\,М6О-107БВ-25\,М7О-113БВ-25
DTSTAMP:20260419T172707Z
DTSTART;TZID=Europe/Moscow:20260213T163000
DURATION:PT1H30M
LOCATION:Орш. В-101
RRULE:FREQ=DAILY;INTERVAL=7;COUNT=12
SEQUENCE:0
SUMMARY:[ЛК 1п.]Экономическая теория (123БВ\,126Б
 В\,122БВ\,107БВ\,113БВ)
UID:a294a094-c56d-44b8-93cf-fac2652407d4
END:VEVENT
BEGIN:VEVENT
ATTENDEE;CN=М6О-123БВ-25:https://public.mai.ru/schedule/data/7753dadcdd
 63dfd651e17975c4f12881.json
ATTENDEE;CN=М6О-126БВ-25:https://public.mai.ru/schedule/data/aebd329002
 8ca3747a8c94b36f91d2eb.json
ATTENDEE;CN=М6О-122БВ-25:https://public.mai.ru/schedule/data/7661181eef
 0694af0f047659f6487041.json
ATTENDEE;CN=М6О-107БВ-25:https://public.mai.ru/schedule/data/c37237c272
 d63cb15f489050c3bc8975.json
ATTENDEE;CN=М7О-113БВ-25:https://public.mai.ru/schedule/data/95abed69d9
 4e176e7ebbcc68688c254a.json
DESCRIPTION:Группы: М6О-123БВ-25\,М6О-126БВ-25\,М6О-122БВ
 -25\,М6О-107БВ-25\,М7О-113БВ-25
DTSTAMP:20260419T172707Z
DTSTART;TZID=Europe/Moscow:20260522T163000
DURATION:PT1H30M
LOCATION:Орш. В-101
RRULE:FREQ=DAILY;INTERVAL=7;COUNT=2
SEQUENCE:0
SUMMARY:[ЛК 1п.]Экономическая теория (123БВ\,126Б
 В\,122БВ\,107БВ\,113БВ)
UID:8dbc9695-16d5-48b8-8994-4e76dc2bda02
END:VEVENT
BEGIN:VEVENT
ATTENDEE;CN=М6О-107БВ-25:https://public.mai.ru/schedule/data/c37237c272
 d63cb15f489050c3bc8975.json
DESCRIPTION:Группы: М6О-107БВ-25
DTSTAMP:20260419T172707Z
DTSTART;TZID=Europe/Moscow:20260213T181500
DURATION:PT1H30M
LOCATION:Орш. В-506
RRULE:FREQ=DAILY;INTERVAL=14;COUNT=7
SEQUENCE:0
SUMMARY:[ПЗ 1п.]Экономическая теория (107БВ)
UID:97cdc434-37f2-4b81-8e2e-fd790052dcdb
END:VEVENT
BEGIN:VEVENT
ATTENDEE;CN=М6О-126БВ-25:https://public.mai.ru/schedule/data/aebd329002
 8ca3747a8c94b36f91d2eb.json
DESCRIPTION:Группы: М6О-126БВ-25
DTSTAMP:20260419T172707Z
DTSTART;TZID=Europe/Moscow:20260216T104500
DURATION:PT1H30M
LOCATION:Орш. В-506
RRULE:FREQ=DAILY;INTERVAL=14;COUNT=8
SEQUENCE:0
SUMMARY:[ПЗ 1п.]Экономическая теория (126БВ)
UID:86849529-c858-4dfe-a349-3882fef50345
END:VEVENT
BEGIN:VEVENT
ATTENDEE;CN=М6О-123БВ-25:https://public.mai.ru/schedule/data/7753dadcdd
 63dfd651e17975c4f12881.json
DESCRIPTION:Группы: М6О-123БВ-25
DTSTAMP:20260419T172707Z
DTSTART;TZID=Europe/Moscow:20260217T104500
DURATION:PT1H30M
LOCATION:Орш. В-506
RRULE:FREQ=DAILY;INTERVAL=14;COUNT=8
SEQUENCE:0
SUMMARY:[ПЗ 1п.]Экономическая теория (123БВ)
UID:a90176ca-5af2-45f0-9389-c2dc4e745f6f
END:VEVENT
BEGIN:VEVENT
ATTENDEE;CN=М3О-101БВ-25:https://public.mai.ru/schedule/data/0604483b27
 f2dd106a9a50f84d84b1e6.json
ATTENDEE;CN=М3О-106БВ-25:https://public.mai.ru/schedule/data/8f5d54e328
 ea3685b69f89162c857ea8.json
ATTENDEE;CN=М3О-115БВ-25:https://public.mai.ru/schedule/data/3784e0547a
 983be48343d5c6fcc6f57e.json
ATTENDEE;CN=М3О-126БВ-25:https://public.mai.ru/schedule/data/59597a8427
 6916d425900b87ae2c4428.json
DESCRIPTION:Группы: М3О-101БВ-25\,М3О-106БВ-25\,М3О-115БВ
 -25\,М3О-126БВ-25
DTSTAMP:20260419T172707Z
DTSTART;TZID=Europe/Moscow:20260217T163000
DURATION:PT1H30M
LOCATION:Орш. В-501
RRULE:FREQ=DAILY;INTERVAL=7;COUNT=16
SEQUENCE:0
SUMMARY:[ЛК 1п.]Экономическая теория (101БВ\,106Б
 В\,115БВ\,126БВ)
UID:eed1f743-f164-4768-8e5d-a812b3c07fea
END:VEVENT
BEGIN:VEVENT
ATTENDEE;CN=М5В-307Бк-23:https://public.mai.ru/schedule/data/1c1ab071ab
 2893faae06afd9457452c3.json
DESCRIPTION:Группы: М5В-307Бк-23
DTSTAMP:20260419T172707Z
DTSTART;TZID=Europe/Moscow:20260219T181500
DURATION:PT3H15M
LOCATION:Орш. В-505
RRULE:FREQ=DAILY;INTERVAL=7;COUNT=6
SEQUENCE:0
SUMMARY:[ЛК\,ПЗ 2п.]Деловая этика (307Бк)
UID:58c65510-0655-4503-8457-5bcd0a490162
END:VEVENT
BEGIN:VEVENT
ATTENDEE;CN=М3О-115БВ-25:https://public.mai.ru/schedule/data/3784e0547a
 983be48343d5c6fcc6f57e.json
DESCRIPTION:Группы: М3О-115БВ-25
DTSTAMP:20260419T172707Z
DTSTART;TZID=Europe/Moscow:20260220T130000
DURATION:PT1H30M
LOCATION:Орш. В-506
RRULE:FREQ=DAILY;INTERVAL=7;COUNT=11
SEQUENCE:0
SUMMARY:[ПЗ 1п.]Экономическая теория (115БВ)
UID:8551bd0f-0247-47f0-8e1e-02903e1f2571
END:VEVENT
BEGIN:VEVENT
ATTENDEE;CN=М3О-115БВ-25:https://public.mai.ru/schedule/data/3784e0547a
 983be48343d5c6fcc6f57e.json
DESCRIPTION:Группы: М3О-115БВ-25
DTSTAMP:20260419T172707Z
DTSTART;TZID=Europe/Moscow:20260515T130000
DURATION:PT1H30M
LOCATION:Орш. В-506
RRULE:FREQ=DAILY;INTERVAL=7;COUNT=4
SEQUENCE:0
SUMMARY:[ПЗ 1п.]Экономическая теория (115БВ)
UID:004f98cc-077d-4654-925f-65328041027e
END:VEVENT
BEGIN:VEVENT
ATTENDEE;CN=М3О-101БВ-25:https://public.mai.ru/schedule/data/0604483b27
 f2dd106a9a50f84d84b1e6.json
DESCRIPTION:Группы: М3О-101БВ-25
DTSTAMP:20260419T172707Z
DTSTART;TZID=Europe/Moscow:20260220T144500
DURATION:PT1H30M
LOCATION:Орш. В-506
RRULE:FREQ=DAILY;INTERVAL=7;COUNT=11
SEQUENCE:0
SUMMARY:[ПЗ 1п.]Экономическая теория (101БВ)
UID:9b7f38d9-1630-4f26-8d7a-451296f28f9f
END:VEVENT
BEGIN:VEVENT
ATTENDEE;CN=М3О-101БВ-25:https://public.mai.ru/schedule/data/0604483b27
 f2dd106a9a50f84d84b1e6.json
DESCRIPTION:Группы: М3О-101БВ-25
DTSTAMP:20260419T172707Z
DTSTART;TZID=Europe/Moscow:20260515T144500
DURATION:PT1H30M
LOCATION:Орш. В-506
RRULE:FREQ=DAILY;INTERVAL=7;COUNT=4
SEQUENCE:0
SUMMARY:[ПЗ 1п.]Экономическая теория (101БВ)
UID:accce09b-5303-4859-8ad0-3306ce6f72a9
END:VEVENT
BEGIN:VEVENT
ATTENDEE;CN=М5В-307Бк-23:https://public.mai.ru/schedule/data/1c1ab071ab
 2893faae06afd9457452c3.json
DESCRIPTION:Группы: М5В-307Бк-23
DTSTAMP:20260419T172707Z
DTSTART;TZID=Europe/Moscow:20260409T181500
DURATION:PT3H15M
LOCATION:Орш. В-505
RRULE:FREQ=DAILY;INTERVAL=7;COUNT=4
SEQUENCE:0
SUMMARY:[ЛК\,ПЗ 2п.]Стратегическое планирован
 ие (307Бк)
UID:bf63363b-c335-49e4-851e-79241e0e1e55
END:VEVENT
BEGIN:VEVENT
ATTENDEE;CN=М5В-307Бк-23:https://public.mai.ru/schedule/data/1c1ab071ab
 2893faae06afd9457452c3.json
DESCRIPTION:Группы: М5В-307Бк-23
DTSTAMP:20260419T172707Z
DTSTART;TZID=Europe/Moscow:20260514T181500
DURATION:PT3H15M
LOCATION:Орш. В-505
RRULE:FREQ=DAILY;INTERVAL=7;COUNT=2
SEQUENCE:0
SUMMARY:[ЛК\,ПЗ 2п.]Стратегическое планирован
 ие (307Бк)
UID:19d77e36-777f-475d-966e-e6e6b53216b6
END:VEVENT
END:VCALENDAR
