﻿BEGIN:VCALENDAR
CALSCALE:GREGORIAN
METHOD:PUBLISH
PRODID:-//MAI-dep406//MAI Dep406 1.01//RU
VERSION:2.0
X-WR-TIMEZONE:Europe/Moscow
BEGIN:VTIMEZONE
TZID:Europe/Moscow
X-LIC-LOCATION:Europe/Moscow
BEGIN:STANDARD
DTSTART;VALUE=DATE:19700101
TZNAME:GMT+3
TZOFFSETTO:+0300
END:STANDARD
END:VTIMEZONE
BEGIN:VEVENT
ATTENDEE;CN=Т12О-401С-22:https://public.mai.ru/schedule/data/33b6decf1f0
 a114678e5b597f6d61913.json
DESCRIPTION:Группы: Т12О-401С-22
DTSTAMP:20260420T024831Z
DTSTART;TZID=Europe/Moscow:20260209T104500
DURATION:PT3H45M
LOCATION:Берн. 14-ИЛА 05
RRULE:FREQ=DAILY;INTERVAL=7;COUNT=3
SEQUENCE:0
SUMMARY:[ЛК 2п.]Основы криогенной техники (401С)
UID:fe4de328-b7c2-4a79-bdce-7eed8f32a108
END:VEVENT
BEGIN:VEVENT
ATTENDEE;CN=Т12О-401С-22:https://public.mai.ru/schedule/data/33b6decf1f0
 a114678e5b597f6d61913.json
DESCRIPTION:Группы: Т12О-401С-22
DTSTAMP:20260420T024831Z
DTSTART;TZID=Europe/Moscow:20260316T104500
DURATION:PT3H45M
LOCATION:Берн. 14-ИЛА 10
RRULE:FREQ=DAILY;INTERVAL=7;COUNT=7
SEQUENCE:0
SUMMARY:[ПЗ 2п.]Основы криогенной техники (401С)
UID:c724b739-6b68-40ac-8a25-2fee3a829b0c
END:VEVENT
BEGIN:VEVENT
ATTENDEE;CN=М2О-303БВ-23:https://public.mai.ru/schedule/data/ce2aebd86a
 2a90ef778431425c300a74.json
DESCRIPTION:Группы: М2О-303БВ-23
DTSTAMP:20260420T024831Z
DTSTART;TZID=Europe/Moscow:20260211T104500
DURATION:PT1H30M
LOCATION:2-24(2Б)
RRULE:FREQ=DAILY;INTERVAL=7;COUNT=17
SEQUENCE:0
SUMMARY:[ПЗ 1п.]Проектная деятельность (303БВ)
UID:c24afe33-87ff-4d01-99d8-8f743d380453
END:VEVENT
BEGIN:VEVENT
ATTENDEE;CN=М2О-418Бки-22:https://public.mai.ru/schedule/data/60d3fe18
 db618a1e67e92d55fac9ecff.json
DESCRIPTION:Группы: М2О-418Бки-22
DTSTAMP:20260420T024831Z
DTSTART;TZID=Europe/Moscow:20260218T130000
DURATION:PT3H15M
LOCATION:2-24(2Б)
RRULE:FREQ=DAILY;INTERVAL=14;COUNT=4
SEQUENCE:0
SUMMARY:[ПЗ 2п.]Системы и агрегаты силовых уст
 ановок ЛА (418Бки)
UID:2079b757-0d03-4774-84ef-140aa164f4e3
END:VEVENT
BEGIN:VEVENT
ATTENDEE;CN=М2О-418Бки-22:https://public.mai.ru/schedule/data/60d3fe18
 db618a1e67e92d55fac9ecff.json
DESCRIPTION:Группы: М2О-418Бки-22
DTSTAMP:20260420T024831Z
DTSTART;TZID=Europe/Moscow:20260615T130000
DURATION:PT3H15M
LOCATION:2-24(2Б)
RRULE:FREQ=DAILY;INTERVAL=0;COUNT=1
SEQUENCE:0
SUMMARY:[Экзамен 2п.]Системы и агрегаты силов
 ых установок ЛА (418Бки)
UID:a52556b1-99aa-492a-abdf-694deb86140e
END:VEVENT
END:VCALENDAR
