﻿BEGIN:VCALENDAR
CALSCALE:GREGORIAN
METHOD:PUBLISH
PRODID:-//MAI-dep406//MAI Dep406 1.01//RU
VERSION:2.0
X-WR-TIMEZONE:Europe/Moscow
BEGIN:VTIMEZONE
TZID:Europe/Moscow
X-LIC-LOCATION:Europe/Moscow
BEGIN:STANDARD
DTSTART;VALUE=DATE:19700101
TZNAME:GMT+3
TZOFFSETTO:+0300
END:STANDARD
END:VTIMEZONE
BEGIN:VEVENT
ATTENDEE;CN=М1О-214Бки-24:https://public.mai.ru/schedule/data/60490a88
 cd8a8c2d612dce90d01a24f1.json
DESCRIPTION:Группы: М1О-214Бки-24
DTSTAMP:20260420T145558Z
DTSTART;TZID=Europe/Moscow:20260210T130000
DURATION:PT1H30M
LOCATION:3-127
RRULE:FREQ=DAILY;INTERVAL=7;COUNT=17
SEQUENCE:0
SUMMARY:[ПЗ 1п.]Уравнения математической физи
 ки (214Бки)
UID:7c382354-9ba0-4924-83bf-75aae679c52d
END:VEVENT
BEGIN:VEVENT
ATTENDEE;CN=М1О-215Бки-24:https://public.mai.ru/schedule/data/93601cf3
 86097912eaa6f85fcb5aec30.json
DESCRIPTION:Группы: М1О-215Бки-24
DTSTAMP:20260420T145558Z
DTSTART;TZID=Europe/Moscow:20260210T144500
DURATION:PT1H30M
LOCATION:3-127
RRULE:FREQ=DAILY;INTERVAL=7;COUNT=17
SEQUENCE:0
SUMMARY:[ПЗ 1п.]Уравнения математической физи
 ки (215Бки)
UID:5b02505f-35ad-4951-a9b9-6a0053d598aa
END:VEVENT
BEGIN:VEVENT
ATTENDEE;CN=М1О-215Бки-24:https://public.mai.ru/schedule/data/93601cf3
 86097912eaa6f85fcb5aec30.json
ATTENDEE;CN=М1О-214Бки-24:https://public.mai.ru/schedule/data/60490a88
 cd8a8c2d612dce90d01a24f1.json
DESCRIPTION:Группы: М1О-215Бки-24\,М1О-214Бки-24
DTSTAMP:20260420T145558Z
DTSTART;TZID=Europe/Moscow:20260212T104500
DURATION:PT1H30M
LOCATION:ГУК Б-738
RRULE:FREQ=DAILY;INTERVAL=14;COUNT=8
SEQUENCE:0
SUMMARY:[ЛК 1п.]Уравнения математической физи
 ки (215Бки\,214Бки)
UID:759b14c8-d33d-407d-af59-4c57daa0d5eb
END:VEVENT
END:VCALENDAR
