﻿BEGIN:VCALENDAR
CALSCALE:GREGORIAN
METHOD:PUBLISH
PRODID:-//MAI-dep406//MAI Dep406 1.01//RU
VERSION:2.0
X-WR-TIMEZONE:Europe/Moscow
BEGIN:VTIMEZONE
TZID:Europe/Moscow
X-LIC-LOCATION:Europe/Moscow
BEGIN:STANDARD
DTSTART;VALUE=DATE:19700101
TZNAME:GMT+3
TZOFFSETTO:+0300
END:STANDARD
END:VTIMEZONE
BEGIN:VEVENT
ATTENDEE;CN=М6О-304БВ-23:https://public.mai.ru/schedule/data/003f2ca421
 b610d53fa15224dc6bff7a.json
DESCRIPTION:Группы: М6О-304БВ-23
DTSTAMP:20260421T140534Z
DTSTART;TZID=Europe/Moscow:20260213T130000
DURATION:PT3H15M
LOCATION:24-410А
RRULE:FREQ=DAILY;INTERVAL=14;COUNT=9
SEQUENCE:0
SUMMARY:[ЛК\,ПЗ 2п.]Физическая химия (304БВ)
UID:e920b29d-bf43-4256-a004-65ee48bea7e3
END:VEVENT
BEGIN:VEVENT
ATTENDEE;CN=М6О-304БВ-23:https://public.mai.ru/schedule/data/003f2ca421
 b610d53fa15224dc6bff7a.json
DESCRIPTION:Группы: М6О-304БВ-23
DTSTAMP:20260421T140534Z
DTSTART;TZID=Europe/Moscow:20260502T090000
DURATION:PT3H15M
LOCATION:24-410А
RRULE:FREQ=DAILY;INTERVAL=14;COUNT=3
SEQUENCE:0
SUMMARY:[ЛР 2п.]Физическая химия (304БВ)
UID:a37e2d0c-7631-4dbd-935a-0774de1f2fcc
END:VEVENT
BEGIN:VEVENT
ATTENDEE;CN=М6О-304БВ-23:https://public.mai.ru/schedule/data/003f2ca421
 b610d53fa15224dc6bff7a.json
DESCRIPTION:Группы: М6О-304БВ-23
DTSTAMP:20260421T140534Z
DTSTART;TZID=Europe/Moscow:20260605T144500
DURATION:PT1H30M
LOCATION:24-410А
RRULE:FREQ=DAILY;INTERVAL=0;COUNT=1
SEQUENCE:0
SUMMARY:[ПЗ 1п.]Физическая химия (304БВ)
UID:7335e86c-4b09-4513-9c7c-3b72882ad13a
END:VEVENT
END:VCALENDAR
