﻿BEGIN:VCALENDAR
CALSCALE:GREGORIAN
METHOD:PUBLISH
PRODID:-//MAI-dep406//MAI Dep406 1.01//RU
VERSION:2.0
X-WR-TIMEZONE:Europe/Moscow
BEGIN:VTIMEZONE
TZID:Europe/Moscow
X-LIC-LOCATION:Europe/Moscow
BEGIN:STANDARD
DTSTART;VALUE=DATE:19700101
TZNAME:GMT+3
TZOFFSETTO:+0300
END:STANDARD
END:VTIMEZONE
BEGIN:VEVENT
ATTENDEE;CN=Скиданов Сергей Николаевич:https://publ
 ic.mai.ru/schedule/data/50de9b76-1d99-11e0-9baf-1c6f65450efa.json
DESCRIPTION:Преподаватель: Скиданов Сергей Ни
 колаевич
DTSTAMP:20260420T232146Z
DTSTART:20260210T181500Z
DURATION:PT3H15M
LOCATION:1-34
SEQUENCE:0
SUMMARY:[ЛК 2п.]Моделирование инженерных зада
 ч (Скиданов Сергей Николаевич)
UID:26c3d4bf-da26-48c5-80f7-3723844d500d
END:VEVENT
BEGIN:VEVENT
ATTENDEE;CN=Петровичев Владимир Иванович:https://
 public.mai.ru/schedule/data/494051a5-1d99-11e0-9baf-1c6f65450efa.json
DESCRIPTION:Преподаватель: Петровичев Владими
 р Иванович
DTSTAMP:20260420T232146Z
DTSTART:20260211T181500Z
DURATION:PT3H15M
LOCATION:1-14
SEQUENCE:0
SUMMARY:[ЛК\,ПЗ 2п.]Гидравлика (Петровичев Вла
 димир Иванович)
UID:0df891c0-7be4-473c-ad93-909d5695fd2b
END:VEVENT
BEGIN:VEVENT
ATTENDEE;CN=Красавин Егор Эдуардович:https://public.m
 ai.ru/schedule/data/bfffa1fe-0cfc-11ea-bdb2-485b3919ee6d.json
DESCRIPTION:Преподаватель: Красавин Егор Эдуа
 рдович
DTSTAMP:20260420T232146Z
DTSTART:20260212T181500Z
DURATION:PT3H15M
LOCATION:7-413
SEQUENCE:0
SUMMARY:[ЛК 2п.]Аэродинамика (Красавин Егор Эд
 уардович)
UID:d2ac7189-12b2-470e-ac8d-6aa99d709404
END:VEVENT
BEGIN:VEVENT
ATTENDEE;CN=Зуськова Варвара Николаевна:https://pu
 blic.mai.ru/schedule/data/a1837b64-2109-11ec-bbd9-ac1f6b64c5eb.json
DESCRIPTION:Преподаватель: Зуськова Варвара Н
 иколаевна
DTSTAMP:20260420T232146Z
DTSTART:20260216T181500Z
DURATION:PT3H15M
LOCATION:ГУК Б-662
SEQUENCE:0
SUMMARY:[ЛК 2п.]Теория машин и механизмов (Зус
 ькова Варвара Николаевна)
UID:4dc9a72f-41f9-4fec-ba49-0b1f3f22c769
END:VEVENT
BEGIN:VEVENT
ATTENDEE;CN=Петровичев Владимир Иванович:https://
 public.mai.ru/schedule/data/494051a5-1d99-11e0-9baf-1c6f65450efa.json
DESCRIPTION:Преподаватель: Петровичев Владими
 р Иванович
DTSTAMP:20260420T232146Z
DTSTART:20260218T181500Z
DURATION:PT3H15M
LOCATION:1-14
SEQUENCE:0
SUMMARY:[ЛК\,ПЗ 2п.]Гидравлика (Петровичев Вла
 димир Иванович)
UID:aa379036-a8f1-4689-9b9a-faef5643f24f
END:VEVENT
BEGIN:VEVENT
ATTENDEE;CN=Миронов Александр Андреевич:https://pu
 blic.mai.ru/schedule/data/677e7651-bcfe-11ed-bbf8-3cecef1c132f.json
DESCRIPTION:Преподаватель: Миронов Александр 
 Андреевич
DTSTAMP:20260420T232146Z
DTSTART:20260220T181500Z
DURATION:PT3H15M
LOCATION:7-406
SEQUENCE:0
SUMMARY:[ЛК 2п.]Конструкция самолетов (Мироно
 в Александр Андреевич)
UID:e050bcb3-24b0-4a33-b159-1e69993338fe
END:VEVENT
BEGIN:VEVENT
ATTENDEE;CN=Скиданов Сергей Николаевич:https://publ
 ic.mai.ru/schedule/data/50de9b76-1d99-11e0-9baf-1c6f65450efa.json
DESCRIPTION:Преподаватель: Скиданов Сергей Ни
 колаевич
DTSTAMP:20260420T232146Z
DTSTART:20260224T181500Z
DURATION:PT3H15M
LOCATION:1-34
SEQUENCE:0
SUMMARY:[ЛР 2п.]Моделирование инженерных зада
 ч (Скиданов Сергей Николаевич)
UID:17abedf5-144b-47b2-bb6f-ada6ff06fb92
END:VEVENT
BEGIN:VEVENT
ATTENDEE;CN=Петровичев Владимир Иванович:https://
 public.mai.ru/schedule/data/494051a5-1d99-11e0-9baf-1c6f65450efa.json
DESCRIPTION:Преподаватель: Петровичев Владими
 р Иванович
DTSTAMP:20260420T232146Z
DTSTART:20260225T181500Z
DURATION:PT3H15M
LOCATION:1-14
SEQUENCE:0
SUMMARY:[ЛК\,ПЗ 2п.]Гидравлика (Петровичев Вла
 димир Иванович)
UID:479e12b4-c992-4149-aaee-930030513c1a
END:VEVENT
BEGIN:VEVENT
ATTENDEE;CN=Красавин Егор Эдуардович:https://public.m
 ai.ru/schedule/data/bfffa1fe-0cfc-11ea-bdb2-485b3919ee6d.json
DESCRIPTION:Преподаватель: Красавин Егор Эдуа
 рдович
DTSTAMP:20260420T232146Z
DTSTART:20260226T181500Z
DURATION:PT3H15M
LOCATION:7-413
SEQUENCE:0
SUMMARY:[ЛК 2п.]Аэродинамика (Красавин Егор Эд
 уардович)
UID:804a9b82-0fdc-4e2b-9cb1-beadfba539d7
END:VEVENT
BEGIN:VEVENT
ATTENDEE;CN=Лысакова Елена Николаевна:https://public
 .mai.ru/schedule/data/8eb329f2-8655-11e2-91ec-3cd92bf20bfe.json
DESCRIPTION:Преподаватель: Лысакова Елена Ник
 олаевна
DTSTAMP:20260420T232146Z
DTSTART:20260227T181500Z
DURATION:PT3H15M
LOCATION:3-115
SEQUENCE:0
SUMMARY:[ЛК 2п.]Основы психологии (Лысакова Ел
 ена Николаевна)
UID:82946735-f63d-4557-b940-ee259d6502a7
END:VEVENT
BEGIN:VEVENT
ATTENDEE;CN=Зуськова Варвара Николаевна:https://pu
 blic.mai.ru/schedule/data/a1837b64-2109-11ec-bbd9-ac1f6b64c5eb.json
DESCRIPTION:Преподаватель: Зуськова Варвара Н
 иколаевна
DTSTAMP:20260420T232146Z
DTSTART:20260302T181500Z
DURATION:PT3H15M
LOCATION:ГУК Б-662
SEQUENCE:0
SUMMARY:[ЛК 2п.]Теория машин и механизмов (Зус
 ькова Варвара Николаевна)
UID:a700a833-ee12-401e-8ae2-457fabfeb6bc
END:VEVENT
BEGIN:VEVENT
ATTENDEE;CN=Петровичев Владимир Иванович:https://
 public.mai.ru/schedule/data/494051a5-1d99-11e0-9baf-1c6f65450efa.json
DESCRIPTION:Преподаватель: Петровичев Владими
 р Иванович
DTSTAMP:20260420T232146Z
DTSTART:20260304T181500Z
DURATION:PT3H15M
LOCATION:1-14
SEQUENCE:0
SUMMARY:[ЛК\,ПЗ 2п.]Гидравлика (Петровичев Вла
 димир Иванович)
UID:7a669cc8-c173-479e-8e09-c067a6bf3806
END:VEVENT
BEGIN:VEVENT
DESCRIPTION:Преподаватель: 
DTSTAMP:20260420T232146Z
DTSTART:20260305T181500Z
DURATION:PT3H15M
LOCATION:4-100
SEQUENCE:0
SUMMARY:[ЛР 2п.]Аэродинамика ()
UID:d269e796-95b6-4356-bd22-dca132f775d9
END:VEVENT
BEGIN:VEVENT
ATTENDEE;CN=Миронов Александр Андреевич:https://pu
 blic.mai.ru/schedule/data/677e7651-bcfe-11ed-bbf8-3cecef1c132f.json
DESCRIPTION:Преподаватель: Миронов Александр 
 Андреевич
DTSTAMP:20260420T232146Z
DTSTART:20260306T181500Z
DURATION:PT3H15M
LOCATION:7-406
SEQUENCE:0
SUMMARY:[ЛК 2п.]Конструкция самолетов (Мироно
 в Александр Андреевич)
UID:dfbbac9c-eeb7-41eb-8793-700e462b212e
END:VEVENT
BEGIN:VEVENT
ATTENDEE;CN=Скиданов Сергей Николаевич:https://publ
 ic.mai.ru/schedule/data/50de9b76-1d99-11e0-9baf-1c6f65450efa.json
DESCRIPTION:Преподаватель: Скиданов Сергей Ни
 колаевич
DTSTAMP:20260420T232146Z
DTSTART:20260310T181500Z
DURATION:PT3H15M
LOCATION:1-34
SEQUENCE:0
SUMMARY:[ЛР 2п.]Моделирование инженерных зада
 ч (Скиданов Сергей Николаевич)
UID:960a319e-aeae-4582-b39b-28dd7f12f431
END:VEVENT
BEGIN:VEVENT
ATTENDEE;CN=Петровичев Владимир Иванович:https://
 public.mai.ru/schedule/data/494051a5-1d99-11e0-9baf-1c6f65450efa.json
DESCRIPTION:Преподаватель: Петровичев Владими
 р Иванович
DTSTAMP:20260420T232146Z
DTSTART:20260311T181500Z
DURATION:PT3H15M
LOCATION:1-14
SEQUENCE:0
SUMMARY:[ЛК\,ПЗ 2п.]Гидравлика (Петровичев Вла
 димир Иванович)
UID:cc20e608-7395-407f-9ef1-3b44f1a1e355
END:VEVENT
BEGIN:VEVENT
ATTENDEE;CN=Красавин Егор Эдуардович:https://public.m
 ai.ru/schedule/data/bfffa1fe-0cfc-11ea-bdb2-485b3919ee6d.json
DESCRIPTION:Преподаватель: Красавин Егор Эдуа
 рдович
DTSTAMP:20260420T232146Z
DTSTART:20260312T181500Z
DURATION:PT3H15M
LOCATION:7-413
SEQUENCE:0
SUMMARY:[ЛК 2п.]Аэродинамика (Красавин Егор Эд
 уардович)
UID:a659caef-4ad2-42d8-b926-44af7529cc89
END:VEVENT
BEGIN:VEVENT
ATTENDEE;CN=Лысакова Елена Николаевна:https://public
 .mai.ru/schedule/data/8eb329f2-8655-11e2-91ec-3cd92bf20bfe.json
DESCRIPTION:Преподаватель: Лысакова Елена Ник
 олаевна
DTSTAMP:20260420T232146Z
DTSTART:20260313T181500Z
DURATION:PT3H15M
LOCATION:3-115
SEQUENCE:0
SUMMARY:[ЛК 2п.]Основы психологии (Лысакова Ел
 ена Николаевна)
UID:047b80ab-2fc2-4f16-9b86-0f0d2e6bfed6
END:VEVENT
BEGIN:VEVENT
ATTENDEE;CN=Зуськова Варвара Николаевна:https://pu
 blic.mai.ru/schedule/data/a1837b64-2109-11ec-bbd9-ac1f6b64c5eb.json
DESCRIPTION:Преподаватель: Зуськова Варвара Н
 иколаевна
DTSTAMP:20260420T232146Z
DTSTART:20260316T181500Z
DURATION:PT3H15M
LOCATION:ГУК Б-662
SEQUENCE:0
SUMMARY:[ЛК 2п.]Теория машин и механизмов (Зус
 ькова Варвара Николаевна)
UID:e94c1d2c-e799-4fe6-9b8e-00ad972d1dbe
END:VEVENT
BEGIN:VEVENT
ATTENDEE;CN=Петровичев Владимир Иванович:https://
 public.mai.ru/schedule/data/494051a5-1d99-11e0-9baf-1c6f65450efa.json
DESCRIPTION:Преподаватель: Петровичев Владими
 р Иванович
DTSTAMP:20260420T232146Z
DTSTART:20260318T181500Z
DURATION:PT3H15M
LOCATION:1-14
SEQUENCE:0
SUMMARY:[ЛК\,ПЗ 2п.]Гидравлика (Петровичев Вла
 димир Иванович)
UID:ac80bd8b-01da-4b4c-bb55-8e36141f897b
END:VEVENT
BEGIN:VEVENT
DESCRIPTION:Преподаватель: 
DTSTAMP:20260420T232146Z
DTSTART:20260319T181500Z
DURATION:PT3H15M
LOCATION:4-100
SEQUENCE:0
SUMMARY:[ЛР 2п.]Аэродинамика ()
UID:f2770f95-7ce7-4b1f-a0e3-2c64dc596436
END:VEVENT
BEGIN:VEVENT
ATTENDEE;CN=Миронов Александр Андреевич:https://pu
 blic.mai.ru/schedule/data/677e7651-bcfe-11ed-bbf8-3cecef1c132f.json
DESCRIPTION:Преподаватель: Миронов Александр 
 Андреевич
DTSTAMP:20260420T232146Z
DTSTART:20260320T181500Z
DURATION:PT3H15M
LOCATION:7-406
SEQUENCE:0
SUMMARY:[ЛК 2п.]Конструкция самолетов (Мироно
 в Александр Андреевич)
UID:52e824fc-3507-4286-af78-00da7f601773
END:VEVENT
BEGIN:VEVENT
ATTENDEE;CN=Зуськова Варвара Николаевна:https://pu
 blic.mai.ru/schedule/data/a1837b64-2109-11ec-bbd9-ac1f6b64c5eb.json
DESCRIPTION:Преподаватель: Зуськова Варвара Н
 иколаевна
DTSTAMP:20260420T232146Z
DTSTART:20260323T181500Z
DURATION:PT3H15M
LOCATION:ГУК Б-662
SEQUENCE:0
SUMMARY:[ЛР 2п.]Теория машин и механизмов (Зус
 ькова Варвара Николаевна)
UID:e99e0e72-3a29-43c7-a02a-d8636f61903f
END:VEVENT
BEGIN:VEVENT
ATTENDEE;CN=Скиданов Сергей Николаевич:https://publ
 ic.mai.ru/schedule/data/50de9b76-1d99-11e0-9baf-1c6f65450efa.json
DESCRIPTION:Преподаватель: Скиданов Сергей Ни
 колаевич
DTSTAMP:20260420T232146Z
DTSTART:20260324T181500Z
DURATION:PT3H15M
LOCATION:1-34
SEQUENCE:0
SUMMARY:[ЛР 2п.]Моделирование инженерных зада
 ч (Скиданов Сергей Николаевич)
UID:ead150bf-203e-4c73-a686-ab2438e5ec4d
END:VEVENT
BEGIN:VEVENT
ATTENDEE;CN=Петровичев Владимир Иванович:https://
 public.mai.ru/schedule/data/494051a5-1d99-11e0-9baf-1c6f65450efa.json
DESCRIPTION:Преподаватель: Петровичев Владими
 р Иванович
DTSTAMP:20260420T232146Z
DTSTART:20260325T181500Z
DURATION:PT3H15M
LOCATION:1-14
SEQUENCE:0
SUMMARY:[ЛК\,ПЗ 2п.]Гидравлика (Петровичев Вла
 димир Иванович)
UID:687d691e-b35f-4ab0-9848-2c65a5434d46
END:VEVENT
BEGIN:VEVENT
ATTENDEE;CN=Красавин Егор Эдуардович:https://public.m
 ai.ru/schedule/data/bfffa1fe-0cfc-11ea-bdb2-485b3919ee6d.json
DESCRIPTION:Преподаватель: Красавин Егор Эдуа
 рдович
DTSTAMP:20260420T232146Z
DTSTART:20260326T181500Z
DURATION:PT3H15M
LOCATION:7-413
SEQUENCE:0
SUMMARY:[ЛК 2п.]Аэродинамика (Красавин Егор Эд
 уардович)
UID:dd8eff5c-ae9b-40ec-8edc-2036de712fc4
END:VEVENT
BEGIN:VEVENT
ATTENDEE;CN=Лысакова Елена Николаевна:https://public
 .mai.ru/schedule/data/8eb329f2-8655-11e2-91ec-3cd92bf20bfe.json
DESCRIPTION:Преподаватель: Лысакова Елена Ник
 олаевна
DTSTAMP:20260420T232146Z
DTSTART:20260327T181500Z
DURATION:PT3H15M
LOCATION:3-115
SEQUENCE:0
SUMMARY:[ПЗ 2п.]Основы психологии (Лысакова Ел
 ена Николаевна)
UID:221a484f-806c-46af-baa5-c698ffa53cb7
END:VEVENT
BEGIN:VEVENT
ATTENDEE;CN=Зуськова Варвара Николаевна:https://pu
 blic.mai.ru/schedule/data/a1837b64-2109-11ec-bbd9-ac1f6b64c5eb.json
DESCRIPTION:Преподаватель: Зуськова Варвара Н
 иколаевна
DTSTAMP:20260420T232146Z
DTSTART:20260330T181500Z
DURATION:PT3H15M
LOCATION:ГУК Б-662
SEQUENCE:0
SUMMARY:[ЛК 2п.]Теория машин и механизмов (Зус
 ькова Варвара Николаевна)
UID:28205b3a-576b-4aef-908e-db900870f3e4
END:VEVENT
BEGIN:VEVENT
ATTENDEE;CN=Петровичев Владимир Иванович:https://
 public.mai.ru/schedule/data/494051a5-1d99-11e0-9baf-1c6f65450efa.json
DESCRIPTION:Преподаватель: Петровичев Владими
 р Иванович
DTSTAMP:20260420T232146Z
DTSTART:20260401T181500Z
DURATION:PT3H15M
LOCATION:1-14
SEQUENCE:0
SUMMARY:[ЛК\,ПЗ 2п.]Гидравлика (Петровичев Вла
 димир Иванович)
UID:287b7fac-118b-403f-a1b9-1ce861ae85c0
END:VEVENT
BEGIN:VEVENT
DESCRIPTION:Преподаватель: 
DTSTAMP:20260420T232146Z
DTSTART:20260402T181500Z
DURATION:PT3H15M
LOCATION:4-100
SEQUENCE:0
SUMMARY:[ЛР 2п.]Аэродинамика ()
UID:0384ea94-5fc1-4bae-8799-b8cb2f43bb27
END:VEVENT
BEGIN:VEVENT
ATTENDEE;CN=Миронов Александр Андреевич:https://pu
 blic.mai.ru/schedule/data/677e7651-bcfe-11ed-bbf8-3cecef1c132f.json
DESCRIPTION:Преподаватель: Миронов Александр 
 Андреевич
DTSTAMP:20260420T232146Z
DTSTART:20260403T181500Z
DURATION:PT3H15M
LOCATION:7-406
SEQUENCE:0
SUMMARY:[ЛК 2п.]Конструкция самолетов (Мироно
 в Александр Андреевич)
UID:cd2598c5-9094-41f4-9f83-f4151e42b8fc
END:VEVENT
BEGIN:VEVENT
ATTENDEE;CN=Зуськова Варвара Николаевна:https://pu
 blic.mai.ru/schedule/data/a1837b64-2109-11ec-bbd9-ac1f6b64c5eb.json
DESCRIPTION:Преподаватель: Зуськова Варвара Н
 иколаевна
DTSTAMP:20260420T232146Z
DTSTART:20260406T181500Z
DURATION:PT3H15M
LOCATION:ГУК Б-662
SEQUENCE:0
SUMMARY:[ЛР 2п.]Теория машин и механизмов (Зус
 ькова Варвара Николаевна)
UID:4f2143c9-e6a0-46f5-976e-a29ce2e56fd0
END:VEVENT
BEGIN:VEVENT
ATTENDEE;CN=Скиданов Сергей Николаевич:https://publ
 ic.mai.ru/schedule/data/50de9b76-1d99-11e0-9baf-1c6f65450efa.json
DESCRIPTION:Преподаватель: Скиданов Сергей Ни
 колаевич
DTSTAMP:20260420T232146Z
DTSTART:20260407T181500Z
DURATION:PT3H15M
LOCATION:1-34
SEQUENCE:0
SUMMARY:[ЛР 2п.]Моделирование инженерных зада
 ч (Скиданов Сергей Николаевич)
UID:377babe9-2aa4-44b0-b48f-8736d4f0bf0b
END:VEVENT
BEGIN:VEVENT
ATTENDEE;CN=Петровичев Владимир Иванович:https://
 public.mai.ru/schedule/data/494051a5-1d99-11e0-9baf-1c6f65450efa.json
DESCRIPTION:Преподаватель: Петровичев Владими
 р Иванович
DTSTAMP:20260420T232146Z
DTSTART:20260408T181500Z
DURATION:PT3H15M
LOCATION:1-14
SEQUENCE:0
SUMMARY:[ЛК\,ПЗ 2п.]Гидравлика (Петровичев Вла
 димир Иванович)
UID:6f429b3e-49f9-490d-a9bc-7036cafcc2bc
END:VEVENT
BEGIN:VEVENT
ATTENDEE;CN=Красавин Егор Эдуардович:https://public.m
 ai.ru/schedule/data/bfffa1fe-0cfc-11ea-bdb2-485b3919ee6d.json
DESCRIPTION:Преподаватель: Красавин Егор Эдуа
 рдович
DTSTAMP:20260420T232146Z
DTSTART:20260409T181500Z
DURATION:PT3H15M
LOCATION:7-413
SEQUENCE:0
SUMMARY:[ЛК 2п.]Аэродинамика (Красавин Егор Эд
 уардович)
UID:f57ec185-c722-4437-bde2-b9f83905b01f
END:VEVENT
BEGIN:VEVENT
ATTENDEE;CN=Лысакова Елена Николаевна:https://public
 .mai.ru/schedule/data/8eb329f2-8655-11e2-91ec-3cd92bf20bfe.json
DESCRIPTION:Преподаватель: Лысакова Елена Ник
 олаевна
DTSTAMP:20260420T232146Z
DTSTART:20260410T181500Z
DURATION:PT3H15M
LOCATION:3-115
SEQUENCE:0
SUMMARY:[ПЗ 2п.]Основы психологии (Лысакова Ел
 ена Николаевна)
UID:a247baf2-ca05-4cbd-a247-c118f8aa2c75
END:VEVENT
BEGIN:VEVENT
ATTENDEE;CN=Зуськова Варвара Николаевна:https://pu
 blic.mai.ru/schedule/data/a1837b64-2109-11ec-bbd9-ac1f6b64c5eb.json
DESCRIPTION:Преподаватель: Зуськова Варвара Н
 иколаевна
DTSTAMP:20260420T232146Z
DTSTART:20260413T181500Z
DURATION:PT3H15M
LOCATION:ГУК Б-662
SEQUENCE:0
SUMMARY:[ЛК 2п.]Теория машин и механизмов (Зус
 ькова Варвара Николаевна)
UID:af3fb745-b586-4512-a7f0-8f215c3a4c2c
END:VEVENT
BEGIN:VEVENT
ATTENDEE;CN=Петровичев Владимир Иванович:https://
 public.mai.ru/schedule/data/494051a5-1d99-11e0-9baf-1c6f65450efa.json
DESCRIPTION:Преподаватель: Петровичев Владими
 р Иванович
DTSTAMP:20260420T232146Z
DTSTART:20260415T181500Z
DURATION:PT3H15M
LOCATION:1-14
SEQUENCE:0
SUMMARY:[ЛК\,ПЗ 2п.]Гидравлика (Петровичев Вла
 димир Иванович)
UID:0ae499c9-5a73-4778-87ab-2ede6d7b048d
END:VEVENT
BEGIN:VEVENT
DESCRIPTION:Преподаватель: 
DTSTAMP:20260420T232146Z
DTSTART:20260416T181500Z
DURATION:PT3H15M
LOCATION:4-100
SEQUENCE:0
SUMMARY:[ЛР 2п.]Аэродинамика ()
UID:ba67858f-00d2-48a2-b1d8-ad328222a0b0
END:VEVENT
BEGIN:VEVENT
ATTENDEE;CN=Миронов Александр Андреевич:https://pu
 blic.mai.ru/schedule/data/677e7651-bcfe-11ed-bbf8-3cecef1c132f.json
DESCRIPTION:Преподаватель: Миронов Александр 
 Андреевич
DTSTAMP:20260420T232146Z
DTSTART:20260417T181500Z
DURATION:PT3H15M
LOCATION:7-406
SEQUENCE:0
SUMMARY:[ЛК 2п.]Конструкция самолетов (Мироно
 в Александр Андреевич)
UID:a2ab327f-b116-44ca-adb3-8620709c5233
END:VEVENT
BEGIN:VEVENT
ATTENDEE;CN=Зуськова Варвара Николаевна:https://pu
 blic.mai.ru/schedule/data/a1837b64-2109-11ec-bbd9-ac1f6b64c5eb.json
DESCRIPTION:Преподаватель: Зуськова Варвара Н
 иколаевна
DTSTAMP:20260420T232146Z
DTSTART:20260420T181500Z
DURATION:PT3H15M
LOCATION:ГУК Б-662
SEQUENCE:0
SUMMARY:[ЛР 2п.]Теория машин и механизмов (Зус
 ькова Варвара Николаевна)
UID:f8f74179-3d85-46f8-8234-666860f48d2c
END:VEVENT
BEGIN:VEVENT
ATTENDEE;CN=Скиданов Сергей Николаевич:https://publ
 ic.mai.ru/schedule/data/50de9b76-1d99-11e0-9baf-1c6f65450efa.json
DESCRIPTION:Преподаватель: Скиданов Сергей Ни
 колаевич
DTSTAMP:20260420T232146Z
DTSTART:20260421T181500Z
DURATION:PT3H15M
LOCATION:1-34
SEQUENCE:0
SUMMARY:[ЛР 2п.]Моделирование инженерных зада
 ч (Скиданов Сергей Николаевич)
UID:0f5f0ddd-a0a2-442d-814d-7167e836680c
END:VEVENT
BEGIN:VEVENT
ATTENDEE;CN=Петровичев Владимир Иванович:https://
 public.mai.ru/schedule/data/494051a5-1d99-11e0-9baf-1c6f65450efa.json
DESCRIPTION:Преподаватель: Петровичев Владими
 р Иванович
DTSTAMP:20260420T232146Z
DTSTART:20260422T181500Z
DURATION:PT3H15M
LOCATION:1-14
SEQUENCE:0
SUMMARY:[ЛК\,ПЗ 2п.]Гидравлика (Петровичев Вла
 димир Иванович)
UID:755e8d69-6e7e-4ec1-8632-5fc584fff4ac
END:VEVENT
BEGIN:VEVENT
ATTENDEE;CN=Красавин Егор Эдуардович:https://public.m
 ai.ru/schedule/data/bfffa1fe-0cfc-11ea-bdb2-485b3919ee6d.json
DESCRIPTION:Преподаватель: Красавин Егор Эдуа
 рдович
DTSTAMP:20260420T232146Z
DTSTART:20260423T181500Z
DURATION:PT3H15M
LOCATION:7-413
SEQUENCE:0
SUMMARY:[ЛК 2п.]Аэродинамика (Красавин Егор Эд
 уардович)
UID:7c1277b7-eea7-4838-9c57-68993e899089
END:VEVENT
BEGIN:VEVENT
ATTENDEE;CN=Миронов Александр Андреевич:https://pu
 blic.mai.ru/schedule/data/677e7651-bcfe-11ed-bbf8-3cecef1c132f.json
DESCRIPTION:Преподаватель: Миронов Александр 
 Андреевич
DTSTAMP:20260420T232146Z
DTSTART:20260424T181500Z
DURATION:PT3H15M
LOCATION:1-1 ангар
SEQUENCE:0
SUMMARY:[ЛР 2п.]Конструкция самолетов (Мироно
 в Александр Андреевич)
UID:8b0b9fc3-9b3c-48b1-b789-5616baa5abea
END:VEVENT
BEGIN:VEVENT
ATTENDEE;CN=Зуськова Варвара Николаевна:https://pu
 blic.mai.ru/schedule/data/a1837b64-2109-11ec-bbd9-ac1f6b64c5eb.json
DESCRIPTION:Преподаватель: Зуськова Варвара Н
 иколаевна
DTSTAMP:20260420T232146Z
DTSTART:20260427T181500Z
DURATION:PT3H15M
LOCATION:ГУК Б-662
SEQUENCE:0
SUMMARY:[ЛК 2п.]Теория машин и механизмов (Зус
 ькова Варвара Николаевна)
UID:c9ead2a5-9397-4be7-b84e-25e305671d9e
END:VEVENT
BEGIN:VEVENT
ATTENDEE;CN=Петровичев Владимир Иванович:https://
 public.mai.ru/schedule/data/494051a5-1d99-11e0-9baf-1c6f65450efa.json
DESCRIPTION:Преподаватель: Петровичев Владими
 р Иванович
DTSTAMP:20260420T232146Z
DTSTART:20260429T181500Z
DURATION:PT3H15M
LOCATION:1-14
SEQUENCE:0
SUMMARY:[ЛК\,ПЗ 2п.]Гидравлика (Петровичев Вла
 димир Иванович)
UID:ad1946e3-aae0-4894-b205-1ff7caab385b
END:VEVENT
BEGIN:VEVENT
ATTENDEE;CN=Зуськова Варвара Николаевна:https://pu
 blic.mai.ru/schedule/data/a1837b64-2109-11ec-bbd9-ac1f6b64c5eb.json
DESCRIPTION:Преподаватель: Зуськова Варвара Н
 иколаевна
DTSTAMP:20260420T232146Z
DTSTART:20260504T181500Z
DURATION:PT3H15M
LOCATION:ГУК Б-662
SEQUENCE:0
SUMMARY:[ЛР 2п.]Теория машин и механизмов (Зус
 ькова Варвара Николаевна)
UID:2def1cd5-276d-470c-8466-7024c38c0ea4
END:VEVENT
BEGIN:VEVENT
ATTENDEE;CN=Скиданов Сергей Николаевич:https://publ
 ic.mai.ru/schedule/data/50de9b76-1d99-11e0-9baf-1c6f65450efa.json
DESCRIPTION:Преподаватель: Скиданов Сергей Ни
 колаевич
DTSTAMP:20260420T232146Z
DTSTART:20260505T181500Z
DURATION:PT3H15M
LOCATION:1-34
SEQUENCE:0
SUMMARY:[ЛР 2п.]Моделирование инженерных зада
 ч (Скиданов Сергей Николаевич)
UID:91aa7b25-b7cf-474f-800e-8b6a5fa453c3
END:VEVENT
BEGIN:VEVENT
ATTENDEE;CN=Петровичев Владимир Иванович:https://
 public.mai.ru/schedule/data/494051a5-1d99-11e0-9baf-1c6f65450efa.json
DESCRIPTION:Преподаватель: Петровичев Владими
 р Иванович
DTSTAMP:20260420T232146Z
DTSTART:20260506T181500Z
DURATION:PT3H15M
LOCATION:1-14
SEQUENCE:0
SUMMARY:[ЛК\,ПЗ 2п.]Гидравлика (Петровичев Вла
 димир Иванович)
UID:1af204c7-db49-4074-92a1-30278aa1f12b
END:VEVENT
BEGIN:VEVENT
ATTENDEE;CN=Красавин Егор Эдуардович:https://public.m
 ai.ru/schedule/data/bfffa1fe-0cfc-11ea-bdb2-485b3919ee6d.json
DESCRIPTION:Преподаватель: Красавин Егор Эдуа
 рдович
DTSTAMP:20260420T232146Z
DTSTART:20260507T181500Z
DURATION:PT3H15M
LOCATION:7-413
SEQUENCE:0
SUMMARY:[ЛК 2п.]Аэродинамика (Красавин Егор Эд
 уардович)
UID:0458e2ba-b649-4f23-9868-4e0444a64113
END:VEVENT
BEGIN:VEVENT
ATTENDEE;CN=Зуськова Варвара Николаевна:https://pu
 blic.mai.ru/schedule/data/a1837b64-2109-11ec-bbd9-ac1f6b64c5eb.json
DESCRIPTION:Преподаватель: Зуськова Варвара Н
 иколаевна
DTSTAMP:20260420T232146Z
DTSTART:20260511T181500Z
DURATION:PT3H15M
LOCATION:ГУК Б-662
SEQUENCE:0
SUMMARY:[ЛК 2п.]Теория машин и механизмов (Зус
 ькова Варвара Николаевна)
UID:d9f3e19f-7f1a-47db-92a0-cb5735093b05
END:VEVENT
BEGIN:VEVENT
ATTENDEE;CN=Петровичев Владимир Иванович:https://
 public.mai.ru/schedule/data/494051a5-1d99-11e0-9baf-1c6f65450efa.json
DESCRIPTION:Преподаватель: Петровичев Владими
 р Иванович
DTSTAMP:20260420T232146Z
DTSTART:20260513T181500Z
DURATION:PT3H15M
LOCATION:1-14
SEQUENCE:0
SUMMARY:[ЛК\,ПЗ 2п.]Гидравлика (Петровичев Вла
 димир Иванович)
UID:368289e5-d2d7-4a1b-82f5-043803549d24
END:VEVENT
BEGIN:VEVENT
ATTENDEE;CN=Миронов Александр Андреевич:https://pu
 blic.mai.ru/schedule/data/677e7651-bcfe-11ed-bbf8-3cecef1c132f.json
DESCRIPTION:Преподаватель: Миронов Александр 
 Андреевич
DTSTAMP:20260420T232146Z
DTSTART:20260515T181500Z
DURATION:PT3H15M
LOCATION:7-406
SEQUENCE:0
SUMMARY:[ЛК 2п.]Конструкция самолетов (Мироно
 в Александр Андреевич)
UID:b8e31ef9-bba1-4942-be67-5187d923e6e1
END:VEVENT
BEGIN:VEVENT
ATTENDEE;CN=Скиданов Сергей Николаевич:https://publ
 ic.mai.ru/schedule/data/50de9b76-1d99-11e0-9baf-1c6f65450efa.json
DESCRIPTION:Преподаватель: Скиданов Сергей Ни
 колаевич
DTSTAMP:20260420T232146Z
DTSTART:20260519T181500Z
DURATION:PT3H15M
LOCATION:1-34
SEQUENCE:0
SUMMARY:[ЛР 2п.]Моделирование инженерных зада
 ч (Скиданов Сергей Николаевич)
UID:b00dab5a-9b77-4a60-8497-c05697f47384
END:VEVENT
BEGIN:VEVENT
ATTENDEE;CN=Петровичев Владимир Иванович:https://
 public.mai.ru/schedule/data/494051a5-1d99-11e0-9baf-1c6f65450efa.json
ATTENDEE;CN=Чернов Михаил Юрьевич:https://public.mai.ru/
 schedule/data/fdf814fa-9031-11ee-bc0f-3cecef1c132e.json
DESCRIPTION:Преподаватель: Петровичев Владими
 р Иванович\,Чернов Михаил Юрьевич
DTSTAMP:20260420T232146Z
DTSTART:20260520T181500Z
DURATION:PT3H15M
LOCATION:1-14
SEQUENCE:0
SUMMARY:[ЛР 2п.]Гидравлика (Петровичев Владим
 ир Иванович\,Чернов Михаил Юрьевич)
UID:3ebab360-2f9c-42a2-ae2d-4524d2cb5a1f
END:VEVENT
BEGIN:VEVENT
ATTENDEE;CN=Красавин Егор Эдуардович:https://public.m
 ai.ru/schedule/data/bfffa1fe-0cfc-11ea-bdb2-485b3919ee6d.json
DESCRIPTION:Преподаватель: Красавин Егор Эдуа
 рдович
DTSTAMP:20260420T232146Z
DTSTART:20260521T181500Z
DURATION:PT3H15M
LOCATION:7-413
SEQUENCE:0
SUMMARY:[ЛК 2п.]Аэродинамика (Красавин Егор Эд
 уардович)
UID:435dedc2-716c-4144-baef-1e5f9cad6ad7
END:VEVENT
BEGIN:VEVENT
ATTENDEE;CN=Миронов Александр Андреевич:https://pu
 blic.mai.ru/schedule/data/677e7651-bcfe-11ed-bbf8-3cecef1c132f.json
DESCRIPTION:Преподаватель: Миронов Александр 
 Андреевич
DTSTAMP:20260420T232146Z
DTSTART:20260522T181500Z
DURATION:PT3H15M
LOCATION:1-1 ангар
SEQUENCE:0
SUMMARY:[ЛР 2п.]Конструкция самолетов (Мироно
 в Александр Андреевич)
UID:e2b5426b-ddd0-4d4f-b325-32bf0acbb3e9
END:VEVENT
BEGIN:VEVENT
ATTENDEE;CN=Петровичев Владимир Иванович:https://
 public.mai.ru/schedule/data/494051a5-1d99-11e0-9baf-1c6f65450efa.json
ATTENDEE;CN=Чернов Михаил Юрьевич:https://public.mai.ru/
 schedule/data/fdf814fa-9031-11ee-bc0f-3cecef1c132e.json
DESCRIPTION:Преподаватель: Петровичев Владими
 р Иванович\,Чернов Михаил Юрьевич
DTSTAMP:20260420T232146Z
DTSTART:20260527T181500Z
DURATION:PT3H15M
LOCATION:1-14
SEQUENCE:0
SUMMARY:[ЛР 2п.]Гидравлика (Петровичев Владим
 ир Иванович\,Чернов Михаил Юрьевич)
UID:786beb62-7e7a-4717-9348-66778e06b5f2
END:VEVENT
BEGIN:VEVENT
ATTENDEE;CN=Миронов Александр Андреевич:https://pu
 blic.mai.ru/schedule/data/677e7651-bcfe-11ed-bbf8-3cecef1c132f.json
DESCRIPTION:Преподаватель: Миронов Александр 
 Андреевич
DTSTAMP:20260420T232146Z
DTSTART:20260529T181500Z
DURATION:PT3H15M
LOCATION:7-406
SEQUENCE:0
SUMMARY:[ЛК 2п.]Конструкция самолетов (Мироно
 в Александр Андреевич)
UID:6d525b87-bfcb-4d68-af97-f62eed9834f4
END:VEVENT
BEGIN:VEVENT
ATTENDEE;CN=Миронов Александр Андреевич:https://pu
 blic.mai.ru/schedule/data/677e7651-bcfe-11ed-bbf8-3cecef1c132f.json
DESCRIPTION:Преподаватель: Миронов Александр 
 Андреевич
DTSTAMP:20260420T232146Z
DTSTART:20260605T181500Z
DURATION:PT3H15M
LOCATION:1-1 ангар
SEQUENCE:0
SUMMARY:[ЛР 2п.]Конструкция самолетов (Мироно
 в Александр Андреевич)
UID:d04d89f0-cbdc-40f6-a17c-9a119c8d77e8
END:VEVENT
BEGIN:VEVENT
ATTENDEE;CN=Красавин Егор Эдуардович:https://public.m
 ai.ru/schedule/data/bfffa1fe-0cfc-11ea-bdb2-485b3919ee6d.json
DESCRIPTION:Преподаватель: Красавин Егор Эдуа
 рдович
DTSTAMP:20260420T232146Z
DTSTART:20260615T163000Z
DURATION:PT3H15M
LOCATION:7-410
SEQUENCE:0
SUMMARY:[Экзамен 2п.]Аэродинамика (Красавин Е
 гор Эдуардович)
UID:9277c665-a5d6-41b5-8295-dd5b139c61b7
END:VEVENT
BEGIN:VEVENT
ATTENDEE;CN=Миронов Александр Андреевич:https://pu
 blic.mai.ru/schedule/data/677e7651-bcfe-11ed-bbf8-3cecef1c132f.json
DESCRIPTION:Преподаватель: Миронов Александр 
 Андреевич
DTSTAMP:20260420T232146Z
DTSTART:20260619T163000Z
DURATION:PT3H15M
LOCATION:7-409
SEQUENCE:0
SUMMARY:[Экзамен 2п.]Конструкция самолетов (М
 иронов Александр Андреевич)
UID:07e6db42-a125-4f66-906b-ee469884b222
END:VEVENT
BEGIN:VEVENT
ATTENDEE;CN=Петровичев Владимир Иванович:https://
 public.mai.ru/schedule/data/494051a5-1d99-11e0-9baf-1c6f65450efa.json
DESCRIPTION:Преподаватель: Петровичев Владими
 р Иванович
DTSTAMP:20260420T232146Z
DTSTART:20260624T163000Z
DURATION:PT3H15M
LOCATION:1-14
SEQUENCE:0
SUMMARY:[Экзамен 2п.]Гидравлика (Петровичев В
 ладимир Иванович)
UID:fc7647f7-5463-46dd-955e-017a99b37238
END:VEVENT
END:VCALENDAR
